Workbook
Name Energy_Types: '2. Input non-routine changes'!$E$127:$Q$127
Name Energy_Types: '1. Input energy data'!$E$224:$U$224

Sheet Guidance
C3: Annual Carbon Report - Guidance Public sector decarbonisation programmes
C6: The following section is designed to give some clear guidance on how to fill out the Annual Carbon Report form for Salix-delivered public sector decarbonisation projects, including England's Public Sector Decarbonisation Scheme (PSDS) and Scotland's Public Sector Heat Decarbonisation Fund (SPSHDF). If you have any questions regarding this form, please contact reporting@salixfinance.co.uk Please open in the desktop app, enable editing and automatically calculate formulas in order for this form to fully function. This is a standard requirement when downloading Excel files. Do not paste values into cells, or if you do always paste 'as values', ensuring you are not pasting source formatting. Where the cells are formatted with dropdown lists, please use the dropdown. Please avoid using special characters. Please do not use the cut function (Ctrl-X) anywhere on this form as this will break the formulas. The copy function (Ctrl-C) is fine. Data for all buildings with grant-funded measures must be filled in for this to be considered a complete form.
C7: Guidance Index:
C8: =$C$19 -> Background and purpose
C9: =$C$26 -> Step 1. Input energy data
C10: =$C$35 -> Step 2. Input non-routine changes
C11: =$C$42 -> Frequently Asked Questions
C12: =$C$51 -> Definitions
C13: Steps for completing the Annual Carbon Report form
C19: Background and purpose
C21: Salix wants to know how successful public sector decarbonisation projects are in reducing carbon emissions. Background The aims of both the Public Sector Decarbonisation Scheme and Scotland's Public Sector Heat Decarbonisation Fund are to reduce the carbon emissions from public sector buildings. Estimated carbon savings are calculated at the point of submission for all applications, based upon the calculated energy savings for all fuel types. Once projects are completed and commissioned, the actual avoided carbon emissions can be measured as a result of the grant-funded projects. The annual carbon reporting (ACR) exercise collects this data to provide more accurate projections of grant-generated carbon savings. Purpose The ACR exercise aims to measure the extent of the carbon savings for each grant-funded project for each of the three years post completion. This helps us calculate more up-to-date estimations for the avoided carbon emissions over the lifetime of the project. This data remains internal and allows us to better understand how projects bed-in post completion and where Salix can assist with resolving any issues, either on an ongoing basis or at a scheme-design stage for any future rounds of funding. Aggregated scheme-level data also helps prove the success and importance of funding carbon-reduction projects, and assists Salix in pushing for continued funding to help the public sector meet its Net Zero targets. Our approach Salix continues to improve its approach in collecting energy savings data in order to align with measurement and verification (M&V) good practice. We want energy usage data in a monthly format rather than yearly, so that a better verification of savings and seasonal analysis of your buildings can take place. We use the phrase 'avoided emissions' rather than 'carbon savings', given the annual variations in weather, building occupancy and additional building works, amongst others. We will be calculating the avoided emissions from data entered in the ACR forms through a degree day analysis. Finally, we are also requesting further information on changes within your building since the grant-funded project's conclusion, in the form of 'non-routine changes'. This is so that Salix can track changes in your building usage that may have had an impact on energy use. Providing this information on energy usage is a clause in the grant offer letter that you signed to receive grant funding.
C26: Step 1. Input energy data
C28: This sheet is where you input your measured energy data for each building with grant-funded energy measures. Each building/fuel type combination should be entered on a new line. This should include any fuels that were removed as part of your grant-funded project. For example, if a building applied for grant funding to remove all fuel oil boilers and install a district heating connection, this building would require three lines of data for fuel oil, bespoke energy source, and electricity respectively. If you absolutely cannot split out energy usage per building, there are options in the drop down to select an entire site or the entire project. Where you do this, please add context in the commentary boxes.
C29: The first two rows (coloured light yellow) have been filled in as an example row to help you visualise what to do. DO NOT attempt to edit them. They do not contribute to any data or calculations in the form.
C30: 1. Enter the building details. For each building, please provide the UPRN, the name of the building, the fuel types in it (each on a new row), and the date the final grant-funded measure in your project was commissioned. 2. Enter a year's worth of monthly baseline data. Provide monthly data for each fuel type in each building. The baseline should reflect typical annual consumption before any grant-funded measures were implemented and should closely align with building operations in the 2025/26 reporting period, aside from the grant-funded scope of works. Ideally, use the 12 months immediately preceding the implementation of your project, unless that period was significantly affected by anomalies (e.g., COVID-19 restrictions), in which case select an alternative period. Enter the start and end dates for the baseline year, select the data source (e.g., meter readings, energy bills), and include any necessary context in the commentary boxes. 3. Provide measured energy usage data for the financial year 2025-2026. This should be provided for each fuel type in each building on a monthly basis from April 2025 to March 2026. We require data to span the financial year reporting period (i.e. April-March), no matter whether your project was completed in line with this time frame. If this is impossible, please enter the start and end dates for the data reporting period you do have and specify the context for us in the commentary box. Please specify where your data is sourced from using the drop-down. The commentary box can be used to explain the data and any anomalies you may be aware of. Any non-routine changes should be entered on tab 2. Input 0 for zero confirmed energy consumption. If energy consumption data is unavailable, atypical, or not applicable, leave the field blank and detail why in the commentary box. * For all Heat Network projects: Enter your bespoke carbon factor Any project that incorporates a heat network should enter the relevant bespoke carbon factor in the boxes at the top of this sheet (you may need to scroll to the right). It should be the same as what you confirmed to us in your final version of the project. Select the relevant fuel type when filling in your energy figures (bespoke fuel 1 or bespoke fuel 2).
C35: Step 2. Input non-routine changes
C36: Any non-routine changes that might have a significant impact on the 2025-2026 energy figures in each building should be entered in this step. This includes structural changes, occupancy changes, any works unrelated to your grant-funded project, any changes to plant/equipment functionality, and any changes in use or operations. For the avoidance of doubt this does not include any changes relating to the intended carbon saving scope of your project and does not include variations in weather, unless extreme weather has caused a significant change in operations to cope (such as raising heating set points or running heating systems for longer hours). Normal weather variations are considered routine changes and are automatically accounted for in the degree day analysis conducted within this form. The purpose is to help us understand any deviation in energy usage or carbon savings from what might be expected. It is part of good practice measurement and verification, and logging these changes will better pinpoint any necessary adjustments to allow for a fair evaluation of avoided carbon emissions. For example, if a new part of the building is added between the baseline and 25/56 reporting period, it may be necessary to adjust the baseline upwards to account for the additional energy demand from that section. It is not expected that every building or fuel type will have a non-routine change, although it is possible.
C37: 1. Enter building and fuel type details For each building affected by a non-routine change during 2025-2026, or by any ongoing changes occurring between the baseline and 2025-2026 reporting period, select the building name from the drop-down list. This list is populated based on your entries in the '1. Input Energy Data' tab, so please complete that section first. The building number will fill automatically. Select the fuel type impacted. For some changes, the impact may span multiple fuel types, in which case please enter the impact for each fuel on a new row. For example, a temporarily non-functional heat pump necessitating a temporary gas boiler will impact both electricity and gas consumption in the building and will require two lines. 2. Enter dates affected by the change Enter the start and (if relevant) the end date of the period of energy usage impacted. If the change is ongoing or permanent, leave the 'to' date field blank and specify it as permanent in the commentary box. 3. Select the type of change from the drop-down list. For any change type not on the list, select 'other' and describe it in the commentary box.
C38: 4. Estimate the impact of the change on your energy usage for that fuel/building combination. This does not need to be backed up by calculations or be very accurate. It is to help us understand the magnitude of the change. 5. Enter commentary Please add some commentary to help us understand the nature of the change, whether it is temporary in nature, whether it is planned or unplanned, and (if relevant) any action taken to resolve an unwanted change.
C42: Frequently Asked Questions
... C51: Definitions
C52: Avoided emissions | E52: The amount of emissions that the specified interventions/measures have 'saved' due to their installation. The term avoided emissions is a more precise term for 'carbon savings' used in measurement and verification, specifying that the calculation involves emissions avoided from a baseline adjusted to the conditions of the reporting period (in this case 25/26) i.e. comparing what you actually used in the reporting period to what you would have used in the reporting period if you had not done the project. This accounts for routine weather changes (see 'degree-days' below) and 'non-routine changes' to site (see below). The emissions are normally measured in tonnes of carbon dioxide equivalent emissions (tCO2e), which is equivalent to the global warming potential of a tonne of emitted carbon dioxide.
C53: Baseline energy usage | E53: An energy dataset that represents the normal energy usage of a site before any changes are implemented. This period should have little or no atypical events that cause unusual energy use or patterns and should be as relevant as possible to building operations in the 2025/26 reporting period, aside from the implemented changed.
C54: Degree-day | E54: Degree days help account for the impact of external temperature on energy use. Heating degree days (HDD) measure how much and for how long the outside temperature falls below a chosen base temperature-the point above which heating isn't needed. Cooling degree days (CDD) work in reverse, measuring temperatures above a base where cooling becomes necessary. In energy reporting, degree days help normalise temperature differences between the baseline and reporting periods. For example, if the 2025/56 reporting period is colder than the baseline, heating energy use in the baseline can be adjusted upward for a fair, like-for-like comparison. This adjustment is a key part of Measurement & Verification (M&V) good practice, allowing you to estimate what energy would have been used under current conditions-essential for accurately calculating avoided energy use and emissions.
C55: Direct Carbon | E55: Previously referred to as non-traded carbon, carbon emissions resulting from combustion of fossil fuels either within an organisation’s site boundary or, where heating is provided by district heating, from an off-site energy centre.
C56: Indirect Carbon | E56: Previously referred to as traded carbon, carbon emissions resulting from power generation off-site by another organisation. For the vast majority of public sector organisations this will primarily be carbon emissions arising from grid electricity use.
C57: Non-routine changes | E57: Changes to building operations, equipment, and structure (outside of the scope of the carbon saving project) that significantly affect energy usage are called non-routine changes as they are not part of a normal, recurring (routine) process. As part of measurement and verification good practice, these should be logged in order to account for any significant changes to energy use beyond baseline levels.
C58: On-site generation | E58: Electricity generated on-site using technologies, such as solar PV or combined heat and power (CHP), can reduce reliance on the national grid by producing energy locally. As these systems can affect metered energy consumption (electricity primarily, but also gas in the case of CHP), they should be recorded in the form using the dropdown menu if they influence either your baseline consumption or your consumption during the reporting period (FY 25/26). Please note, on-site generation should only be referenced if the measures (e.g. Solar PV and CHP), were implemented outside the scope of the grant funding.
C59: UPRN | E59: Unique Property Reference Number. This is up to 12 digits in length. https://www.findmyaddress.co.uk/ may help.

Sheet 1. Input energy data
C3: Avoid pasting data into cells, or always paste 'as values', ensuring you are not pasting source formatting. Where the cells are formatted with dropdown lists, please use the dropdown. Please avoid using special characters. Please do not cut and paste (Ctrl-X) anywhere on this form as this will break the formulas.
C4: 2025 2026
D6: Annual Carbon Report | M6: v4.0
C8: Complete the tables below by entering energy readings for all buildings in which measures were installed as part of your grant. This current report is for grant recipients from PSDS Phases 3a, 3b, and 3c-Single Year, and SPSHDF Phase 1.
C10: Submission ID | D10: Grant Recipient Organisation | F10: ACR submission date | G10: Region | H10: Do you have an M&V plan? | I10: Do you have half-hourly data? | L10: Person Responsible for this ACR (This should be a representative from the Grant Recipient Organisation) | O10: Calculated Total Avoided Emissions (tCO2e) | S10: Bespoke Carbon Factor 1 (kg/kWh) | T10: Bespoke Carbon Factor 2 (kg/kWh)
L11: Name | O11: =SUM(AS20:AS216) -> 0
L12: Role
C13: • Each fuel type for each building should be entered in a new row. In this way, a single building may span multiple rows. • The first two rows below have been laid out as an example. Please do not overwrite them. • Please scroll down through the drop down in the building number to select between building number, site number and/or entire site, depending on the data you can source. • Please ensure you include all removed fuels as well (e.g. gas, oil, etc). Otherwise, it will look like you're saving a lot less carbon than you actually are. | L13: • Your baseline energy usage should be the standard annual amount of energy used at a normal occupancy rate, prior to the implementation of any grant-funded measures. It should not be a year heavily impacted by Covid restrictions. • Input 0 for zero confirmed energy consumption. If energy consumption data is unavailable, atypical, or not applicable, leave the field blank and note the reasoning in the commentary box.
L15: Energy Baseline | AD15: Energy Usage 2025-2026
C17: Building number | D17: UPRN | E17: Building Name | F17: Building type | G17: Fuel/energy type | H17: On-site Generation Impact | I17: Date all measures commissioned by | J17: Region | L17: Baseline year Start date | M17: Baseline year End date | N17: Month 1 Energy usage (kWh) | O17: Month 2 Energy usage (kWh) | P17: Month 3 Energy usage (kWh) | Q17: Month 4 Energy usage (kWh) | R17: Month 5 Energy usage (kWh) | S17: Month 6 Energy usage (kWh) | T17: Month 7 Energy usage (kWh) | U17: Month 8 Energy usage (kWh) | V17: Month 9 Energy usage (kWh) | W17: Month 10 Energy usage (kWh) | X17: Month 11 Energy usage (kWh) | Y17: Month 12 Energy usage (kWh) | Z17: Data source | AA17: Fuel cost (baseline, p/kWh) | AB17: Commentary | AD17: 25-26 year Start date | AE17: 25-26 year End date | AF17: April Energy usage (kWh) | AG17: May Energy usage (kWh) | AH17: June Energy usage (kWh) | AI17: July Energy usage (kWh) | AJ17: August Energy usage (kWh) | AK17: September Energy usage (kWh) | AL17: October Energy usage (kWh) | AM17: November Energy usage (kWh) | AN17: December Energy usage (kWh) | AO17: January Energy usage (kWh) | AP17: February Energy usage (kWh) | AQ17: March Energy usage (kWh) | AR17: Calculated energy change from projected baseline (kWh/yr) | AS17: Calculated avoided emissions (tCO2e/yr) | AT17: Data source | AU17: Fuel cost (current, p/kWh) | AV17: Commentary
C18: Example Building 1 | E18: Example building name | F18: Other | G18: Fuel oil | H18: Affected by CHP | I18: 44927 | J18: North West | L18: 43556 | M18: 43921 | N18: 100000 | O18: 100000 | P18: 100000 | Q18: 100000 | R18: 100000 | S18: 100000 | T18: 100000 | U18: 100000 | V18: 100000 | W18: 100000 | X18: 100000 | Y18: 100000 | Z18: Energy Bills | AA18: 9.3 | AB18: Example commentary | AD18: 45748 | AE18: 46112 | AF18: 10000 | AG18: 10000 | AH18: 10000 | AI18: 10000 | AJ18: 10000 | AK18: 10000 | AL18: 10000 | AM18: 10000 | AN18: 10000 | AO18: 10000 | AP18: 10000 | AQ18: 10000 | AR18: =IF(OR(SUM(N18:Y18)="",SUM(AF18:AQ18)=""),"",SUM(N18:Y18)-SUM(AF18:AQ18)) -> 1080000 | AS18: =IF(AR18="","",AR18*_xlfn.XLOOKUP($G18,$E$224:$U$224,$E$225:$U$225,"Carbon factor error",0)/1000) -> 289.58451 | AT18: Energy Bills | AU18: 9.3 | AV18: Example commentary.
C19: Example Building 1 | E19: Example building name | F19: Other | G19: Electricity | H19: Not Affected | I19: 44927 | J19: North West | L19: 43556 | M19: 43921 | N19: 50000 | O19: 50000 | P19: 50000 | Q19: 50000 | R19: 50000 | S19: 50000 | T19: 50000 | U19: 50000 | V19: 50000 | W19: 50000 | X19: 50000 | Y19: 50000 | Z19: Meter Reading | AA19: 21.83 | AB19: Example commentary | AD19: 45748 | AE19: 46112 | AF19: 100000 | AG19: 100000 | AH19: 100000 | AI19: 100000 | AJ19: 100000 | AK19: 100000 | AL19: 100000 | AM19: 100000 | AN19: 100000 | AO19: 100000 | AP19: 100000 | AQ19: 100000 | AR19: =IF(OR(SUM(N19:Y19)="",SUM(AF19:AQ19)=""),"",SUM(N19:Y19)-SUM(AF19:AQ19)) -> -600000 | AS19: =IF(AR19="","",AR19*_xlfn.XLOOKUP($G19,$E$224:$U$224,$E$225:$U$225,"Carbon factor error",0)/1000) -> -89.238051 | AT19: Meter Reading | AU19: 25.12 | AV19: Example commentary.
J20: East Midlands | AR20: =IF(C20="","",SUM('Calculation backing sheet'!AE3:AP3)) | AS20: =IF(AR20="","",AR20*_xlfn.XLOOKUP($G20,$E$224:$U$224,$E$227:$U$227,"Carbon factor error",0)/1000)
AR21: =IF(C21="","",SUM('Calculation backing sheet'!AE4:AP4)) | AS21: =IF(AR21="","",AR21*_xlfn.XLOOKUP($G21,$E$224:$U$224,$E$227:$U$227,"Carbon factor error",0)/1000)
AR22: =IF(C22="","",SUM('Calculation backing sheet'!AE5:AP5)) | AS22: =IF(AR22="","",AR22*_xlfn.XLOOKUP($G22,$E$224:$U$224,$E$227:$U$227,"Carbon factor error",0)/1000)
AR23: =IF(C23="","",SUM('Calculation backing sheet'!AE6:AP6)) | AS23: =IF(AR23="","",AR23*_xlfn.XLOOKUP($G23,$E$224:$U$224,$E$227:$U$227,"Carbon factor error",0)/1000)
AR24: =IF(C24="","",SUM('Calculation backing sheet'!AE7:AP7)) | AS24: =IF(AR24="","",AR24*_xlfn.XLOOKUP($G24,$E$224:$U$224,$E$227:$U$227,"Carbon factor error",0)/1000)
AR25: =IF(C25="","",SUM('Calculation backing sheet'!AE8:AP8)) | AS25: =IF(AR25="","",AR25*_xlfn.XLOOKUP($G25,$E$224:$U$224,$E$227:$U$227,"Carbon factor error",0)/1000)
AR26: =IF(C26="","",SUM('Calculation backing sheet'!AE9:AP9)) | AS26: =IF(AR26="","",AR26*_xlfn.XLOOKUP($G26,$E$224:$U$224,$E$227:$U$227,"Carbon factor error",0)/1000)
AR27: =IF(C27="","",SUM('Calculation backing sheet'!AE10:AP10)) | AS27: =IF(AR27="","",AR27*_xlfn.XLOOKUP($G27,$E$224:$U$224,$E$227:$U$227,"Carbon factor error",0)/1000)
AR28: =IF(C28="","",SUM('Calculation backing sheet'!AE11:AP11)) | AS28: =IF(AR28="","",AR28*_xlfn.XLOOKUP($G28,$E$224:$U$224,$E$227:$U$227,"Carbon factor error",0)/1000)
AR29: =IF(C29="","",SUM('Calculation backing sheet'!AE12:AP12)) | AS29: =IF(AR29="","",AR29*_xlfn.XLOOKUP($G29,$E$224:$U$224,$E$227:$U$227,"Carbon factor error",0)/1000)
AR30: =IF(C30="","",SUM('Calculation backing sheet'!AE13:AP13)) | AS30: =IF(AR30="","",AR30*_xlfn.XLOOKUP($G30,$E$224:$U$224,$E$227:$U$227,"Carbon factor error",0)/1000)
AR31: =IF(C31="","",SUM('Calculation backing sheet'!AE14:AP14)) | AS31: =IF(AR31="","",AR31*_xlfn.XLOOKUP($G31,$E$224:$U$224,$E$227:$U$227,"Carbon factor error",0)/1000)
AR32: =IF(C32="","",SUM('Calculation backing sheet'!AE15:AP15)) | AS32: =IF(AR32="","",AR32*_xlfn.XLOOKUP($G32,$E$224:$U$224,$E$227:$U$227,"Carbon factor error",0)/1000)
... AR216: =IF(C216="","",SUM('Calculation backing sheet'!AE199:AP199)) | AS216: =IF(AR216="","",AR216*_xlfn.XLOOKUP($G216,$E$224:$U$224,$E$227:$U$227,"Carbon factor error",0)/1000)
E223: Average grid factors (HM Treasury Greenbook)2 | G223: Last updated Nov 2023
D224: CO2e methodology | E224: Gas | G224: Gas Oil | I224: Burning Oil | L224: Coal | M224: LPG | N224: Bespoke Energy Source 1 | O224: Fuel Oil | Q224: Bespoke Energy Source 2 | R224: Electricity | S224: Wood pellets | T224: Wood chips
D225: 2024 | E225: 0.18255893 | G225: 0.2694 | I225: 0.24677325 | L225: 0.32445691 | M225: 0.214496 | N225: =$S$11 -> 0 | O225: 0.26813381 | Q225: =$T$11 -> 0 | R225: 0.14873009 | S225: 0.03744 | T225: 0.00792
D226: 2025 | E226: 0.18255893 | G226: 0.2694 | I226: 0.24677325 | L226: 0.32445691 | M226: 0.214496 | N226: =$S$11 -> 0 | O226: 0.26813381 | Q226: =$T$11 -> 0 | R226: 0.12905549 | S226: 0.03744 | T226: 0.00792
D227: 2026 | E227: 0.18255893 | G227: 0.2694 | I227: 0.24677325 | L227: 0.32445691 | M227: 0.214496 | N227: =$S$11 -> 0 | O227: 0.26813381 | Q227: =$T$11 -> 0 | R227: 0.096387254 | S227: 0.03744 | T227: 0.00792
D228: 2027 | E228: 0.18255893 | G228: 0.2694 | I228: 0.24677325 | L228: 0.32445691 | M228: 0.214496 | N228: =$S$11 -> 0 | O228: 0.26813381 | Q228: =$T$11 -> 0 | R228: 0.071830956 | S228: 0.03744 | T228: 0.00792
D229: 2028 | E229: 0.18255893 | G229: 0.2694 | I229: 0.24677325 | L229: 0.32445691 | M229: 0.214496 | N229: =$S$11 -> 0 | O229: 0.26813381 | Q229: =$T$11 -> 0 | R229: 0.062258 | S229: 0.03744 | T229: 0.00792
D230: 2029 | E230: 0.18255893 | G230: 0.2694 | I230: 0.24677325 | L230: 0.32445691 | M230: 0.214496 | N230: =$S$11 -> 0 | O230: 0.26813381 | Q230: =$T$11 -> 0 | R230: 0.052597546 | S230: 0.03744 | T230: 0.00792
D231: 2030 | E231: 0.18255893 | G231: 0.2694 | I231: 0.24677325 | L231: 0.32445691 | M231: 0.214496 | N231: =$S$11 -> 0 | O231: 0.26813381 | Q231: =$T$11 -> 0 | R231: 0.048525623 | S231: 0.03744 | T231: 0.00792
D232: 2031 | E232: 0.18255893 | G232: 0.2694 | I232: 0.24677325 | L232: 0.32445691 | M232: 0.214496 | N232: =$S$11 -> 0 | O232: 0.26813381 | Q232: =$T$11 -> 0 | R232: 0.040770093 | S232: 0.03744 | T232: 0.00792
D233: 2032 | E233: 0.18255893 | G233: 0.2694 | I233: 0.24677325 | L233: 0.32445691 | M233: 0.214496 | N233: =$S$11 -> 0 | O233: 0.26813381 | Q233: =$T$11 -> 0 | R233: 0.032109307 | S233: 0.03744 | T233: 0.00792
D234: 2033 | E234: 0.18255893 | G234: 0.2694 | I234: 0.24677325 | L234: 0.32445691 | M234: 0.214496 | N234: =$S$11 -> 0 | O234: 0.26813381 | Q234: =$T$11 -> 0 | R234: 0.025484701 | S234: 0.03744 | T234: 0.00792
D235: 2034 | E235: 0.18255893 | G235: 0.2694 | I235: 0.24677325 | L235: 0.32445691 | M235: 0.214496 | N235: =$S$11 -> 0 | O235: 0.26813381 | Q235: =$T$11 -> 0 | R235: 0.020498765 | S235: 0.03744 | T235: 0.00792
D236: 2035 | E236: 0.18255893 | G236: 0.2694 | I236: 0.24677325 | L236: 0.32445691 | M236: 0.214496 | N236: =$S$11 -> 0 | O236: 0.26813381 | Q236: =$T$11 -> 0 | R236: 0.019773591 | S236: 0.03744 | T236: 0.00792
... D262: 2061 | E262: 0.18255893 | G262: 0.25679 | I262: 0.24677325 | L262: 0.32445691 | M262: 0.214496 | N262: =$S$11 -> 0 | O262: 0.26813381 | Q262: =$T$11 -> 0 | R262: 0.00245518 | S262: 0.03744 | T262: 0.00792

Sheet 2. Input non-routine changes
C3: Avoid pasting data into cells, or always paste 'as values', ensuring you are not pasting source formatting. Where the cells are formatted with dropdown lists, please use the dropdown. Please avoid using special characters.
C4: 2025 2026
D6: Annual Carbon Report
C8: For any buildings where non-routine changes have occurred that will have affected 2025-2026 energy data relative to your expected baseline conditions, please enter these details in the table below.
C10: Submission ID | D10: Grant Recipient Organisation
C11: =IF('1. Input energy data'!C11="","",'1. Input energy data'!C11) | D11: =IF('1. Input energy data'!D11="","",'1. Input energy data'!D11)
C13: • For each building affected, select the building from the drop-down. • Please ensure that each fuel impacted by each change has its own row. • Where there are multiple changes for a single building, these should be entered on separate rows. • The estimated impact on energy usage should be positive (if it acts to increase usage for that fuel), or negative for vice versa. • Remember that for any change impacting your heating, you should record it against your original heating fuel (fossil fuel)
C17: Building name | D17: Building Number | E17: Fuel/energy type | F17: From | G17: To | H17: Non-routine change (select) | I17: % Impact on energy usage (estimated) | J17: Commentary
C18: Example Building 1 | D18: Building 1 | E18: Fuel oil | F18: 45969 | H18: Occupancy/usage change | I18: -0.2 | J18: Working from home one day a week introduced.
C19: Example Building 1 | D19: Building 1 | E19: Electricity | F19: 45969 | H19: Occupancy/usage change | I19: -0.2 | J19: Working from home one day a week introduced.
D20: =IF($C20="","",_xlfn.XLOOKUP($C20,'1. Input energy data'!$E$20:$E$216,'1. Input energy data'!$C$20:$C$216,"Building not found",0,1))
D21: =IF($C21="","",_xlfn.XLOOKUP($C21,'1. Input energy data'!$E$20:$E$216,'1. Input energy data'!$C$20:$C$216,"Building not found",0,1))
D22: =IF($C22="","",_xlfn.XLOOKUP($C22,'1. Input energy data'!$E$20:$E$216,'1. Input energy data'!$C$20:$C$216,"Building not found",0,1))
D23: =IF($C23="","",_xlfn.XLOOKUP($C23,'1. Input energy data'!$E$20:$E$216,'1. Input energy data'!$C$20:$C$216,"Building not found",0,1))
D24: =IF($C24="","",_xlfn.XLOOKUP($C24,'1. Input energy data'!$E$20:$E$216,'1. Input energy data'!$C$20:$C$216,"Building not found",0,1))
D25: =IF($C25="","",_xlfn.XLOOKUP($C25,'1. Input energy data'!$E$20:$E$216,'1. Input energy data'!$C$20:$C$216,"Building not found",0,1))
D26: =IF($C26="","",_xlfn.XLOOKUP($C26,'1. Input energy data'!$E$20:$E$216,'1. Input energy data'!$C$20:$C$216,"Building not found",0,1))
D27: =IF($C27="","",_xlfn.XLOOKUP($C27,'1. Input energy data'!$E$20:$E$216,'1. Input energy data'!$C$20:$C$216,"Building not found",0,1))
D28: =IF($C28="","",_xlfn.XLOOKUP($C28,'1. Input energy data'!$E$20:$E$216,'1. Input energy data'!$C$20:$C$216,"Building not found",0,1))
D29: =IF($C29="","",_xlfn.XLOOKUP($C29,'1. Input energy data'!$E$20:$E$216,'1. Input energy data'!$C$20:$C$216,"Building not found",0,1))
D30: =IF($C30="","",_xlfn.XLOOKUP($C30,'1. Input energy data'!$E$20:$E$216,'1. Input energy data'!$C$20:$C$216,"Building not found",0,1))
D31: =IF($C31="","",_xlfn.XLOOKUP($C31,'1. Input energy data'!$E$20:$E$216,'1. Input energy data'!$C$20:$C$216,"Building not found",0,1))
... D119: =IF($C119="","",_xlfn.XLOOKUP($C119,'1. Input energy data'!$E$20:$E$216,'1. Input energy data'!$C$20:$C$216,"Building not found",0,1))

Sheet Calculation backing sheet
D1: Degree day for baseline Month number from start date (do not change headings) | S1: Degree day for 24-25 month number from start date (do not change headings) | AE1: Monthly avoided kWhs | AQ1: Quality Metrics
A2: Building | B2: Type | C2: Fuel | D2: 1 | E2: 2 | F2: 3 | G2: 4 | H2: 5 | I2: 6 | J2: 7 | K2: 8 | L2: 9 | M2: 10 | N2: 11 | O2: 12 | P2: Slope | Q2: Intercept | R2: R2 | S2: 13 | T2: 14 | U2: 15 | V2: 16 | W2: 17 | X2: 18 | Y2: 19 | Z2: 20 | AA2: 21 | AB2: 22 | AC2: 23 | AD2: 24 | AE2: Month 1 avoided kWh | AF2: Month 2 avoided kWh | AG2: Month 3 | AH2: Month 4 | AI2: Month 5 | AJ2: Month 6 | AK2: Month 7 | AL2: Month 8 | AM2: Month 9 | AN2: Month 10 | AO2: Month 11 | AP2: Month 12 | AQ2: Adjusted R2 | AR2: Absolute Uncertainty | AS2: Relative Uncertainty | AT2: Number of Periods (Baseline) | AU2: Number of Periods (Reporting) | AV2: Data Quality
A3: ='1. Input energy data'!C20 -> 0 | B3: ='1. Input energy data'!F20 -> 0 | C3: ='1. Input energy data'!G20 -> 0 | D3: =IF(OR(CalcTable[[#This Row],[Building]]=0, '1. Input energy data'!$N20=""), "",IF(OR('1. Input energy data'!$F20="Hospital",'1. Input energy data'!$F20="Nursing residential homes and hostels"),INDEX(Degrees18[[Month]:[Multiple (England)]],MATCH('1. Input energy data'!$L20, Degrees18[Month], 1),MATCH(IF('1. Input energy data'!$G$11="Multiple (England)", '1. Input energy data'!$J20, '1. Input energy data'!$G$11), Degrees18[#Headers], 0)),INDEX(Degrees15[[Month]:[Multiple (England)]],MATCH('1. Input energy data'!$L20, Degrees15[Month], 1),MATCH(IF('1. Input energy data'!$G$11="Multiple (England)", '1. Input energy data'!$J20, '1. Input energy data'!$G$11), Degrees15[#Headers], 0)))) | E3: {=IF(OR(CalcTable[[#This Row],[Building]]=0, '1. Input energy data'!$O20=""), "",IF(OR('1. Input energy data'!$F20="Hospital",'1. Input energy data'!$F20="Nursing residential homes and hostels"),INDEX(Degrees18[[Month]:[Multiple (England)]],MATCH('1. Input energy data'!$L20, Degrees18[Month], 1) + $E$2 - 1,MATCH(IF('1. Input energy data'!$G$11="Multiple (England)", '1. Input energy data'!$J20, '1. Input energy data'!$G$11),Degrees18[#Headers], 0)),INDEX(Degrees15[[Month]:[Multiple (England)]],MATCH('1. Input energy data'!$L20, Degrees15[Month], 1) + $E$2 - 1,MATCH(IF('1. Input energy data'!$G$11="Multiple (England)", '1. Input energy data'!$J20, '1. Input energy data'!$G$11),Degrees15[#Headers], 0))))} | F3: {=IF(OR(CalcTable[[#This Row],[Building]]=0, '1. Input energy data'!$P20=""), "",IF(OR('1. Input energy data'!$F20="Hospital",'1. Input energy data'!$F20="Nursing residential homes and hostels"),INDEX(Degrees18[[Month]:[Multiple (England)]],MATCH('1. Input energy data'!$L20, Degrees18[Month], 1) + $F$2 - 1,MATCH(IF('1. Input energy data'!$G$11="Multiple (England)", '1. Input energy data'!$J20, '1. Input energy data'!$G$11),Degrees18[#Headers], 0)),INDEX(Degrees15[[Month]:[Multiple (England)]],MATCH('1. Input energy data'!$L20, Degrees15[Month], 1) + $F$2 - 1,MATCH(IF('1. Input energy data'!$G$11="Multiple (England)", '1. Input energy data'!$J20, '1. Input energy data'!$G$11),Degrees15[#Headers], 0))))} | G3: {=IF(OR(CalcTable[[#This Row],[Building]]=0, '1. Input energy data'!$Q20=""), "",IF(OR('1. Input energy data'!$F20="Hospital",'1. Input energy data'!$F20="Nursing residential homes and hostels"),INDEX(Degrees18[[Month]:[Multiple (England)]],MATCH('1. Input energy data'!$L20, Degrees18[Month], 1) + $G$2 - 1,MATCH(IF('1. Input energy data'!$G$11="Multiple (England)", '1. Input energy data'!$J20, '1. Input energy data'!$G$11),Degrees18[#Headers], 0)),INDEX(Degrees15[[Month]:[Multiple (England)]],MATCH('1. Input energy data'!$L20, Degrees15[Month], 1) + $G$2 - 1,MATCH(IF('1. Input energy data'!$G$11="Multiple (England)", '1. Input energy data'!$J20, '1. Input energy data'!$G$11),Degrees15[#Headers], 0))))} | H3: {=IF(OR(CalcTable[[#This Row],[Building]]=0, '1. Input energy data'!$R20=""), "",IF(OR('1. Input energy data'!$F20="Hospital",'1. Input energy data'!$F20="Nursing residential homes and hostels"),INDEX(Degrees18[[Month]:[Multiple (England)]],MATCH('1. Input energy data'!$L20, Degrees18[Month], 1) + $H$2 - 1,MATCH(IF('1. Input energy data'!$G$11="Multiple (England)", '1. Input energy data'!$J20, '1. Input energy data'!$G$11),Degrees18[#Headers], 0)),INDEX(Degrees15[[Month]:[Multiple (England)]],MATCH('1. Input energy data'!$L20, Degrees15[Month], 1) + $H$2 - 1,MATCH(IF('1. Input energy data'!$G$11="Multiple (England)", '1. Input energy data'!$J20, '1. Input energy data'!$G$11),Degrees15[#Headers], 0))))} | I3: {=IF(OR(CalcTable[[#This Row],[Building]]=0, '1. Input energy data'!$S20=""), "",IF(OR('1. Input energy data'!$F20="Hospital",'1. Input energy data'!$F20="Nursing residential homes and hostels"),INDEX(Degrees18[[Month]:[Multiple (England)]],MATCH('1. Input energy data'!$L20, Degrees18[Month], 1) + $I$2 - 1,MATCH(IF('1. Input energy data'!$G$11="Multiple (England)", '1. Input energy data'!$J20, '1. Input energy data'!$G$11),Degrees18[#Headers], 0)),INDEX(Degrees15[[Month]:[Multiple (England)]],MATCH('1. Input energy data'!$L20, Degrees15[Month], 1) + $I$2 - 1,MATCH(IF('1. Input energy data'!$G$11="Multiple (England)", '1. Input energy data'!$J20, '1. Input energy data'!$G$11),Degrees15[#Headers], 0))))} | J3: {=IF(OR(CalcTable[[#This Row],[Building]]=0, '1. Input energy data'!$T20=""), "",IF(OR('1. Input energy data'!$F20="Hospital",'1. Input energy data'!$F20="Nursing residential homes and hostels"),INDEX(Degrees18[[Month]:[Multiple (England)]],MATCH('1. Input energy data'!$L20, Degrees18[Month], 1) + $J$2 - 1,MATCH(IF('1. Input energy data'!$G$11="Multiple (England)", '1. Input energy data'!$J20, '1. Input energy data'!$G$11),Degrees18[#Headers], 0)),INDEX(Degrees15[[Month]:[Multiple (England)]],MATCH('1. Input energy data'!$L20, Degrees15[Month], 1) + $J$2 - 1,MATCH(IF('1. Input energy data'!$G$11="Multiple (England)", '1. Input energy data'!$J20, '1. Input energy data'!$G$11),Degrees15[#Headers], 0))))} | K3: {=IF(OR(CalcTable[[#This Row],[Building]]=0, '1. Input energy data'!$U20=""), "",IF(OR('1. Input energy data'!$F20="Hospital",'1. Input energy data'!$F20="Nursing residential homes and hostels"),INDEX(Degrees18[[Month]:[Multiple (England)]],MATCH('1. Input energy data'!$L20, Degrees18[Month], 1) + $K$2 - 1,MATCH(IF('1. Input energy data'!$G$11="Multiple (England)", '1. Input energy data'!$J20, '1. Input energy data'!$G$11),Degrees18[#Headers], 0)),INDEX(Degrees15[[Month]:[Multiple (England)]],MATCH('1. Input energy data'!$L20, Degrees15[Month], 1) + $K$2 - 1,MATCH(IF('1. Input energy data'!$G$11="Multiple (England)", '1. Input energy data'!$J20, '1. Input energy data'!$G$11),Degrees15[#Headers], 0))))} | L3: {=IF(OR(CalcTable[[#This Row],[Building]]=0, '1. Input energy data'!$V20=""), "",IF(OR('1. Input energy data'!$F20="Hospital",'1. Input energy data'!$F20="Nursing residential homes and hostels"),INDEX(Degrees18[[Month]:[Multiple (England)]],MATCH('1. Input energy data'!$L20, Degrees18[Month], 1) + $L$2 - 1,MATCH(IF('1. Input energy data'!$G$11="Multiple (England)", '1. Input energy data'!$J20, '1. Input energy data'!$G$11),Degrees18[#Headers], 0)),INDEX(Degrees15[[Month]:[Multiple (England)]],MATCH('1. Input energy data'!$L20, Degrees15[Month], 1) + $L$2 - 1,MATCH(IF('1. Input energy data'!$G$11="Multiple (England)", '1. Input energy data'!$J20, '1. Input energy data'!$G$11),Degrees15[#Headers], 0))))} | M3: {=IF(OR(CalcTable[[#This Row],[Building]]=0, '1. Input energy data'!$W20=""), "",IF(OR('1. Input energy data'!$F20="Hospital",'1. Input energy data'!$F20="Nursing residential homes and hostels"),INDEX(Degrees18[[Month]:[Multiple (England)]],MATCH('1. Input energy data'!$L20, Degrees18[Month], 1) + $M$2 - 1,MATCH(IF('1. Input energy data'!$G$11="Multiple (England)", '1. Input energy data'!$J20, '1. Input energy data'!$G$11),Degrees18[#Headers], 0)),INDEX(Degrees15[[Month]:[Multiple (England)]],MATCH('1. Input energy data'!$L20, Degrees15[Month], 1) + $M$2 - 1,MATCH(IF('1. Input energy data'!$G$11="Multiple (England)", '1. Input energy data'!$J20, '1. Input energy data'!$G$11),Degrees15[#Headers], 0))))} | N3: {=IF(OR(CalcTable[[#This Row],[Building]]=0, '1. Input energy data'!$X20=""), "",IF(OR('1. Input energy data'!$F20="Hospital",'1. Input energy data'!$F20="Nursing residential homes and hostels"),INDEX(Degrees18[[Month]:[Multiple (England)]],MATCH('1. Input energy data'!$L20, Degrees18[Month], 1) + $N$2 - 1,MATCH(IF('1. Input energy data'!$G$11="Multiple (England)", '1. Input energy data'!$J20, '1. Input energy data'!$G$11),Degrees18[#Headers], 0)),INDEX(Degrees15[[Month]:[Multiple (England)]],MATCH('1. Input energy data'!$L20, Degrees15[Month], 1) + $N$2 - 1,MATCH(IF('1. Input energy data'!$G$11="Multiple (England)", '1. Input energy data'!$J20, '1. Input energy data'!$G$11),Degrees15[#Headers], 0))))} | O3: {=IF(OR(CalcTable[[#This Row],[Building]]=0, '1. Input energy data'!$Y20=""), "",IF(OR('1. Input energy data'!$F20="Hospital",'1. Input energy data'!$F20="Nursing residential homes and hostels"),INDEX(Degrees18[[Month]:[Multiple (England)]],MATCH('1. Input energy data'!$L20, Degrees18[Month], 1) + $O$2 - 1,MATCH(IF('1. Input energy data'!$G$11="Multiple (England)", '1. Input energy data'!$J20, '1. Input energy data'!$G$11),Degrees18[#Headers], 0)),INDEX(Degrees15[[Month]:[Multiple (England)]],MATCH('1. Input energy data'!$L20, Degrees15[Month], 1) + $O$2 - 1,MATCH(IF('1. Input energy data'!$G$11="Multiple (England)", '1. Input energy data'!$J20, '1. Input energy data'!$G$11),Degrees15[#Headers], 0))))} | P3: =IF(CalcTable[[#This Row],[Building]]=0,"",SLOPE('1. Input energy data'!N20:Y20,CalcTable[[#This Row],[1]:[12]])) | Q3: =IF(CalcTable[[#This Row],[Building]]=0,"",INTERCEPT('1. Input energy data'!N20:Y20,CalcTable[[#This Row],[1]:[12]])) | R3: =IF(CalcTable[[#This Row],[Building]]=0,"",RSQ('1. Input energy data'!N20:Y20,CalcTable[[#This Row],[1]:[12]])) | S3: {=IF(OR($A3=0, '1. Input energy data'!$AF20=""), "",IF(OR('1. Input energy data'!$F20="Hospital",'1. Input energy data'!$F20="Nursing residential homes and hostels"),INDEX(Degrees18[[Month]:[Multiple (England)]],MATCH('1. Input energy data'!$AD20, Degrees18[Month], 1)+S$2-13,MATCH(IF('1. Input energy data'!$G$11="Multiple (England)", '1. Input energy data'!$J20, '1. Input energy data'!$G$11),Degrees18[#Headers], 0)),INDEX(Degrees15[[Month]:[Multiple (England)]],MATCH('1. Input energy data'!$AD20, Degrees15[Month], 1)+S$2-13,MATCH(IF('1. Input energy data'!$G$11="Multiple (England)", '1. Input energy data'!$J20, '1. Input energy data'!$G$11),Degrees15[#Headers], 0))))} | T3: {=IF(OR($A3=0, '1. Input energy data'!$AG20=""), "",IF(OR('1. Input energy data'!$F20="Hospital",'1. Input energy data'!$F20="Nursing residential homes and hostels"),INDEX(Degrees18[[Month]:[Multiple (England)]],MATCH('1. Input energy data'!$AD20, Degrees18[Month], 1)+T$2-13,MATCH(IF('1. Input energy data'!$G$11="Multiple (England)", '1. Input energy data'!$J20, '1. Input energy data'!$G$11),Degrees18[#Headers], 0)),INDEX(Degrees15[[Month]:[Multiple (England)]],MATCH('1. Input energy data'!$AD20,Degrees15[Month], 1)+T$2-13,MATCH(IF('1. Input energy data'!$G$11="Multiple (England)", '1. Input energy data'!$J20, '1. Input energy data'!$G$11),Degrees15[#Headers], 0))))} | U3: {=IF(OR($A3=0, '1. Input energy data'!$AH20=""), "",IF(OR('1. Input energy data'!$F20="Hospital",'1. Input energy data'!$F20="Nursing residential homes and hostels"),INDEX(Degrees18[[Month]:[Multiple (England)]],MATCH('1. Input energy data'!$AD20, Degrees18[Month], 1)+U$2-13,MATCH(IF('1. Input energy data'!$G$11="Multiple (England)", '1. Input energy data'!$J20, '1. Input energy data'!$G$11),Degrees18[#Headers], 0)),INDEX(Degrees15[[Month]:[Multiple (England)]],MATCH('1. Input energy data'!$AD20,Degrees15[Month], 1)+U$2-13,MATCH(IF('1. Input energy data'!$G$11="Multiple (England)", '1. Input energy data'!$J20, '1. Input energy data'!$G$11),Degrees15[#Headers], 0))))} | V3: {=IF(OR($A3=0, '1. Input energy data'!$AI20=""), "",IF(OR('1. Input energy data'!$F20="Hospital",'1. Input energy data'!$F20="Nursing residential homes and hostels"),INDEX(Degrees18[[Month]:[Multiple (England)]],MATCH('1. Input energy data'!$AD20, Degrees18[Month], 1)+V$2-13,MATCH(IF('1. Input energy data'!$G$11="Multiple (England)", '1. Input energy data'!$J20, '1. Input energy data'!$G$11),Degrees18[#Headers], 0)),INDEX(Degrees15[[Month]:[Multiple (England)]],MATCH('1. Input energy data'!$AD20,Degrees15[Month], 1)+V$2-13,MATCH(IF('1. Input energy data'!$G$11="Multiple (England)", '1. Input energy data'!$J20, '1. Input energy data'!$G$11),Degrees15[#Headers], 0))))} | W3: {=IF(OR($A3=0, '1. Input energy data'!$AJ20=""), "",IF(OR('1. Input energy data'!$F20="Hospital",'1. Input energy data'!$F20="Nursing residential homes and hostels"),INDEX(Degrees18[[Month]:[Multiple (England)]],MATCH('1. Input energy data'!$AD20, Degrees18[Month], 1)+W$2-13,MATCH(IF('1. Input energy data'!$G$11="Multiple (England)", '1. Input energy data'!$J20, '1. Input energy data'!$G$11),Degrees18[#Headers], 0)),INDEX(Degrees15[[Month]:[Multiple (England)]],MATCH('1. Input energy data'!$AD20,Degrees15[Month], 1)+W$2-13,MATCH(IF('1. Input energy data'!$G$11="Multiple (England)", '1. Input energy data'!$J20, '1. Input energy data'!$G$11),Degrees15[#Headers], 0))))} | X3: {=IF(OR($A3=0, '1. Input energy data'!$AK20=""), "",IF(OR('1. Input energy data'!$F20="Hospital",'1. Input energy data'!$F20="Nursing residential homes and hostels"),INDEX(Degrees18[[Month]:[Multiple (England)]],MATCH('1. Input energy data'!$AD20, Degrees18[Month], 1)+X$2-13,MATCH(IF('1. Input energy data'!$G$11="Multiple (England)", '1. Input energy data'!$J20, '1. Input energy data'!$G$11),Degrees18[#Headers], 0)),INDEX(Degrees15[[Month]:[Multiple (England)]],MATCH('1. Input energy data'!$AD20,Degrees15[Month], 1)+X$2-13,MATCH(IF('1. Input energy data'!$G$11="Multiple (England)", '1. Input energy data'!$J20, '1. Input energy data'!$G$11),Degrees15[#Headers], 0))))} | Y3: {=IF(OR($A3=0, '1. Input energy data'!$AL20=""), "",IF(OR('1. Input energy data'!$F20="Hospital",'1. Input energy data'!$F20="Nursing residential homes and hostels"),INDEX(Degrees18[[Month]:[Multiple (England)]],MATCH('1. Input energy data'!$AD20, Degrees18[Month], 1)+Y$2-13,MATCH(IF('1. Input energy data'!$G$11="Multiple (England)", '1. Input energy data'!$J20, '1. Input energy data'!$G$11),Degrees18[#Headers], 0)),INDEX(Degrees15[[Month]:[Multiple (England)]],MATCH('1. Input energy data'!$AD20,Degrees15[Month], 1)+Y$2-13,MATCH(IF('1. Input energy data'!$G$11="Multiple (England)", '1. Input energy data'!$J20, '1. Input energy data'!$G$11),Degrees15[#Headers], 0))))} | Z3: {=IF(OR($A3=0, '1. Input energy data'!$AM20=""), "",IF(OR('1. Input energy data'!$F20="Hospital",'1. Input energy data'!$F20="Nursing residential homes and hostels"),INDEX(Degrees18[[Month]:[Multiple (England)]],MATCH('1. Input energy data'!$AD20, Degrees18[Month], 1)+Z$2-13,MATCH(IF('1. Input energy data'!$G$11="Multiple (England)", '1. Input energy data'!$J20, '1. Input energy data'!$G$11),Degrees18[#Headers], 0)),INDEX(Degrees15[[Month]:[Multiple (England)]],MATCH('1. Input energy data'!$AD20,Degrees15[Month], 1)+Z$2-13,MATCH(IF('1. Input energy data'!$G$11="Multiple (England)", '1. Input energy data'!$J20, '1. Input energy data'!$G$11),Degrees15[#Headers], 0))))} | AA3: {=IF(OR($A3=0, '1. Input energy data'!$AN20=""), "",IF(OR('1. Input energy data'!$F20="Hospital",'1. Input energy data'!$F20="Nursing residential homes and hostels"),INDEX(Degrees18[[Month]:[Multiple (England)]],MATCH('1. Input energy data'!$AD20, Degrees18[Month], 1)+AA$2-13,MATCH(IF('1. Input energy data'!$G$11="Multiple (England)", '1. Input energy data'!$J20, '1. Input energy data'!$G$11),Degrees18[#Headers], 0)),INDEX(Degrees15[[Month]:[Multiple (England)]],MATCH('1. Input energy data'!$AD20,Degrees15[Month], 1)+AA$2-13,MATCH(IF('1. Input energy data'!$G$11="Multiple (England)", '1. Input energy data'!$J20, '1. Input energy data'!$G$11),Degrees15[#Headers], 0))))} | AB3: {=IF(OR($A3=0, '1. Input energy data'!$AO20=""), "",IF(OR('1. Input energy data'!$F20="Hospital",'1. Input energy data'!$F20="Nursing residential homes and hostels"),INDEX(Degrees18[[Month]:[Multiple (England)]],MATCH('1. Input energy data'!$AD20, Degrees18[Month], 1)+AB$2-13,MATCH(IF('1. Input energy data'!$G$11="Multiple (England)", '1. Input energy data'!$J20, '1. Input energy data'!$G$11),Degrees18[#Headers], 0)),INDEX(Degrees15[[Month]:[Multiple (England)]],MATCH('1. Input energy data'!$AD20,Degrees15[Month], 1)+AB$2-13,MATCH(IF('1. Input energy data'!$G$11="Multiple (England)", '1. Input energy data'!$J20, '1. Input energy data'!$G$11),Degrees15[#Headers], 0))))} | AC3: {=IF(OR($A3=0, '1. Input energy data'!$AP20=""), "",IF(OR('1. Input energy data'!$F20="Hospital",'1. Input energy data'!$F20="Nursing residential homes and hostels"),INDEX(Degrees18[[Month]:[Multiple (England)]],MATCH('1. Input energy data'!$AD20, Degrees18[Month], 1)+AC$2-13,MATCH(IF('1. Input energy data'!$G$11="Multiple (England)", '1. Input energy data'!$J20, '1. Input energy data'!$G$11),Degrees18[#Headers], 0)),INDEX(Degrees15[[Month]:[Multiple (England)]],MATCH('1. Input energy data'!$AD20,Degrees15[Month], 1)+AC$2-13,MATCH(IF('1. Input energy data'!$G$11="Multiple (England)", '1. Input energy data'!$J20, '1. Input energy data'!$G$11),Degrees15[#Headers], 0))))} | AD3: {=IF(OR($A3=0, '1. Input energy data'!$AQ20=""), "",IF(OR('1. Input energy data'!$F20="Hospital",'1. Input energy data'!$F20="Nursing residential homes and hostels"),INDEX(Degrees18[[Month]:[Multiple (England)]],MATCH('1. Input energy data'!$AD20, Degrees18[Month], 1)+AD$2-13,MATCH(IF('1. Input energy data'!$G$11="Multiple (England)", '1. Input energy data'!$J20, '1. Input energy data'!$G$11),Degrees18[#Headers], 0)),INDEX(Degrees15[[Month]:[Multiple (England)]],MATCH('1. Input energy data'!$AD20,Degrees15[Month], 1)+AD$2-13,MATCH(IF('1. Input energy data'!$G$11="Multiple (England)", '1. Input energy data'!$J20, '1. Input energy data'!$G$11),Degrees15[#Headers], 0))))} | AE3: =IF(OR($A3=0, $P3="", CalcTable[[#This Row],[13]]="", $Q3="", '1. Input energy data'!AF20=""), "", ($P3*CalcTable[[#This Row],[13]]+$Q3)-'1. Input energy data'!AF20) | AF3: =IF(OR($A3=0, $P3="", CalcTable[[#This Row],[14]]="", $Q3="", '1. Input energy data'!AG20=""), "", ($P3*CalcTable[[#This Row],[14]]+$Q3)-'1. Input energy data'!AG20) | AG3: =IF(OR($A3=0, $P3="", CalcTable[[#This Row],[15]]="", $Q3="", '1. Input energy data'!AH20=""), "", ($P3*CalcTable[[#This Row],[15]]+$Q3)-'1. Input energy data'!AH20) | AH3: =IF(OR($A3=0, $P3="", CalcTable[[#This Row],[16]]="", $Q3="", '1. Input energy data'!AI20=""), "", ($P3*CalcTable[[#This Row],[16]]+$Q3)-'1. Input energy data'!AI20) | AI3: =IF(OR($A3=0, $P3="", CalcTable[[#This Row],[17]]="", $Q3="", '1. Input energy data'!AJ20=""), "", ($P3*CalcTable[[#This Row],[17]]+$Q3)-'1. Input energy data'!AJ20) | AJ3: =IF(OR($A3=0, $P3="", CalcTable[[#This Row],[18]]="", $Q3="", '1. Input energy data'!AK20=""), "", ($P3*CalcTable[[#This Row],[18]]+$Q3)-'1. Input energy data'!AK20) | AK3: =IF(OR($A3=0, $P3="", CalcTable[[#This Row],[19]]="", $Q3="", '1. Input energy data'!AL20=""), "", ($P3*CalcTable[[#This Row],[19]]+$Q3)-'1. Input energy data'!AL20) | AL3: =IF(OR($A3=0, $P3="", CalcTable[[#This Row],[20]]="", $Q3="", '1. Input energy data'!AM20=""), "", ($P3*CalcTable[[#This Row],[20]]+$Q3)-'1. Input energy data'!AM20) | AM3: =IF(OR($A3=0, $P3="", CalcTable[[#This Row],[21]]="", $Q3="", '1. Input energy data'!AN20=""), "", ($P3*CalcTable[[#This Row],[21]]+$Q3)-'1. Input energy data'!AN20) | AN3: =IF(OR($A3=0, $P3="", CalcTable[[#This Row],[22]]="", $Q3="", '1. Input energy data'!AO20=""), "", ($P3*CalcTable[[#This Row],[22]]+$Q3)-'1. Input energy data'!AO20) | AO3: =IF(OR($A3=0, $P3="", CalcTable[[#This Row],[23]]="", $Q3="", '1. Input energy data'!AP20=""), "", ($P3*CalcTable[[#This Row],[23]]+$Q3)-'1. Input energy data'!AP20) | AP3: =IF(OR($A3=0, $P3="", CalcTable[[#This Row],[24]]="", $Q3="", '1. Input energy data'!AQ20=""), "", ($P3*CalcTable[[#This Row],[24]]+$Q3)-'1. Input energy data'!AQ20) | AQ3: =IF(CalcTable[[#This Row],[Building]]=0,"",1-((1-CalcTable[[#This Row],[R2]])*(COUNT('1. Input energy data'!N20:Y20)-1)/(COUNT('1. Input energy data'!N20:Y20)-2))) | AR3: =IF(CalcTable[[#This Row],[Building]]=0,"",1.26*TINV(0.1,COUNT('1. Input energy data'!N20:Y20)-2)*STEYX('1. Input energy data'!N20:Y20,CalcTable[[#This Row],[1]:[12]])*((1+2/COUNT('1. Input energy data'!N20:Y20))*COUNT(CalcTable[[#This Row],[Month 1 avoided kWh]:[Month 12]]))^0.5) | AS3: =IF(CalcTable[[#This Row],[Building]]=0,"",ABS(CalcTable[[#This Row],[Absolute Uncertainty]]/SUM(CalcTable[[#This Row],[Month 1 avoided kWh]:[Month 12]]))) | AT3: =IF(CalcTable[[#This Row],[Building]]=0,"",COUNT('1. Input energy data'!N20:Y20)) | AU3: =IF(CalcTable[[#This Row],[Building]]=0,"",COUNT('1. Input energy data'!AF20:AQ20)) | AV3: {=_xlfn.IFS(CalcTable[[#This Row],[Building]]=0,"",AND(OR('1. Input energy data'!AT20="Energy Bills - Actual",'1. Input energy data'!AT20="Meter Readings",'1. Input energy data'!AT20="Half Hourly Data"),OR('1. Input energy data'!Z20="Energy Bills - Actual",'1. Input energy data'!Z20="Meter Readings",'1. Input energy data'!Z20="Half Hourly Data")),"ACTUAL",OR('1. Input energy data'!AT20="",'1. Input energy data'!Z20=""),"BLANK",OR('1. Input energy data'!AT20="Other (specify in commentary)",'1. Input energy data'!Z20="Other (specify in commentary)"),"OTHER",OR('1. Input energy data'!AT20="Energy Bills - Estimated",'1. Input energy data'!Z20="Energy Bills - Estimated"),"ESTIMATED",OR('1. Input energy data'!AT20="Energy Bills - Partially Estimated",'1. Input energy data'!Z20="Energy Bills - Partially Estimated"),"PARTIALLY ESTIMATED",TRUE,"BLANK")}
A4: ='1. Input energy data'!C21 -> 0 | B4: ='1. Input energy data'!F21 -> 0 | C4: ='1. Input energy data'!G21 -> 0 | D4: =IF(OR(CalcTable[[#This Row],[Building]]=0, '1. Input energy data'!$N21=""), "",IF(OR('1. Input energy data'!$F21="Hospital",'1. Input energy data'!$F21="Nursing residential homes and hostels"),INDEX(Degrees18[[Month]:[Multiple (England)]],MATCH('1. Input energy data'!$L21, Degrees18[Month], 1),MATCH(IF('1. Input energy data'!$G$11="Multiple (England)", '1. Input energy data'!$J21, '1. Input energy data'!$G$11), Degrees18[#Headers], 0)),INDEX(Degrees15[[Month]:[Multiple (England)]],MATCH('1. Input energy data'!$L21, Degrees15[Month], 1),MATCH(IF('1. Input energy data'!$G$11="Multiple (England)", '1. Input energy data'!$J21, '1. Input energy data'!$G$11), Degrees15[#Headers], 0)))) | E4: {=IF(OR(CalcTable[[#This Row],[Building]]=0, '1. Input energy data'!$O21=""), "",IF(OR('1. Input energy data'!$F21="Hospital",'1. Input energy data'!$F21="Nursing residential homes and hostels"),INDEX(Degrees18[[Month]:[Multiple (England)]],MATCH('1. Input energy data'!$L21, Degrees18[Month], 1) + $E$2 - 1,MATCH(IF('1. Input energy data'!$G$11="Multiple (England)", '1. Input energy data'!$J21, '1. Input energy data'!$G$11),Degrees18[#Headers], 0)),INDEX(Degrees15[[Month]:[Multiple (England)]],MATCH('1. Input energy data'!$L21, Degrees15[Month], 1) + $E$2 - 1,MATCH(IF('1. Input energy data'!$G$11="Multiple (England)", '1. Input energy data'!$J21, '1. Input energy data'!$G$11),Degrees15[#Headers], 0))))} | F4: {=IF(OR(CalcTable[[#This Row],[Building]]=0, '1. Input energy data'!$P21=""), "",IF(OR('1. Input energy data'!$F21="Hospital",'1. Input energy data'!$F21="Nursing residential homes and hostels"),INDEX(Degrees18[[Month]:[Multiple (England)]],MATCH('1. Input energy data'!$L21, Degrees18[Month], 1) + $F$2 - 1,MATCH(IF('1. Input energy data'!$G$11="Multiple (England)", '1. Input energy data'!$J21, '1. Input energy data'!$G$11),Degrees18[#Headers], 0)),INDEX(Degrees15[[Month]:[Multiple (England)]],MATCH('1. Input energy data'!$L21, Degrees15[Month], 1) + $F$2 - 1,MATCH(IF('1. Input energy data'!$G$11="Multiple (England)", '1. Input energy data'!$J21, '1. Input energy data'!$G$11),Degrees15[#Headers], 0))))} | G4: {=IF(OR(CalcTable[[#This Row],[Building]]=0, '1. Input energy data'!$Q21=""), "",IF(OR('1. Input energy data'!$F21="Hospital",'1. Input energy data'!$F21="Nursing residential homes and hostels"),INDEX(Degrees18[[Month]:[Multiple (England)]],MATCH('1. Input energy data'!$L21, Degrees18[Month], 1) + $G$2 - 1,MATCH(IF('1. Input energy data'!$G$11="Multiple (England)", '1. Input energy data'!$J21, '1. Input energy data'!$G$11),Degrees18[#Headers], 0)),INDEX(Degrees15[[Month]:[Multiple (England)]],MATCH('1. Input energy data'!$L21, Degrees15[Month], 1) + $G$2 - 1,MATCH(IF('1. Input energy data'!$G$11="Multiple (England)", '1. Input energy data'!$J21, '1. Input energy data'!$G$11),Degrees15[#Headers], 0))))} | H4: {=IF(OR(CalcTable[[#This Row],[Building]]=0, '1. Input energy data'!$R21=""), "",IF(OR('1. Input energy data'!$F21="Hospital",'1. Input energy data'!$F21="Nursing residential homes and hostels"),INDEX(Degrees18[[Month]:[Multiple (England)]],MATCH('1. Input energy data'!$L21, Degrees18[Month], 1) + $H$2 - 1,MATCH(IF('1. Input energy data'!$G$11="Multiple (England)", '1. Input energy data'!$J21, '1. Input energy data'!$G$11),Degrees18[#Headers], 0)),INDEX(Degrees15[[Month]:[Multiple (England)]],MATCH('1. Input energy data'!$L21, Degrees15[Month], 1) + $H$2 - 1,MATCH(IF('1. Input energy data'!$G$11="Multiple (England)", '1. Input energy data'!$J21, '1. Input energy data'!$G$11),Degrees15[#Headers], 0))))} | I4: {=IF(OR(CalcTable[[#This Row],[Building]]=0, '1. Input energy data'!$S21=""), "",IF(OR('1. Input energy data'!$F21="Hospital",'1. Input energy data'!$F21="Nursing residential homes and hostels"),INDEX(Degrees18[[Month]:[Multiple (England)]],MATCH('1. Input energy data'!$L21, Degrees18[Month], 1) + $I$2 - 1,MATCH(IF('1. Input energy data'!$G$11="Multiple (England)", '1. Input energy data'!$J21, '1. Input energy data'!$G$11),Degrees18[#Headers], 0)),INDEX(Degrees15[[Month]:[Multiple (England)]],MATCH('1. Input energy data'!$L21, Degrees15[Month], 1) + $I$2 - 1,MATCH(IF('1. Input energy data'!$G$11="Multiple (England)", '1. Input energy data'!$J21, '1. Input energy data'!$G$11),Degrees15[#Headers], 0))))} | J4: {=IF(OR(CalcTable[[#This Row],[Building]]=0, '1. Input energy data'!$T21=""), "",IF(OR('1. Input energy data'!$F21="Hospital",'1. Input energy data'!$F21="Nursing residential homes and hostels"),INDEX(Degrees18[[Month]:[Multiple (England)]],MATCH('1. Input energy data'!$L21, Degrees18[Month], 1) + $J$2 - 1,MATCH(IF('1. Input energy data'!$G$11="Multiple (England)", '1. Input energy data'!$J21, '1. Input energy data'!$G$11),Degrees18[#Headers], 0)),INDEX(Degrees15[[Month]:[Multiple (England)]],MATCH('1. Input energy data'!$L21, Degrees15[Month], 1) + $J$2 - 1,MATCH(IF('1. Input energy data'!$G$11="Multiple (England)", '1. Input energy data'!$J21, '1. Input energy data'!$G$11),Degrees15[#Headers], 0))))} | K4: {=IF(OR(CalcTable[[#This Row],[Building]]=0, '1. Input energy data'!$U21=""), "",IF(OR('1. Input energy data'!$F21="Hospital",'1. Input energy data'!$F21="Nursing residential homes and hostels"),INDEX(Degrees18[[Month]:[Multiple (England)]],MATCH('1. Input energy data'!$L21, Degrees18[Month], 1) + $K$2 - 1,MATCH(IF('1. Input energy data'!$G$11="Multiple (England)", '1. Input energy data'!$J21, '1. Input energy data'!$G$11),Degrees18[#Headers], 0)),INDEX(Degrees15[[Month]:[Multiple (England)]],MATCH('1. Input energy data'!$L21, Degrees15[Month], 1) + $K$2 - 1,MATCH(IF('1. Input energy data'!$G$11="Multiple (England)", '1. Input energy data'!$J21, '1. Input energy data'!$G$11),Degrees15[#Headers], 0))))} | L4: {=IF(OR(CalcTable[[#This Row],[Building]]=0, '1. Input energy data'!$V21=""), "",IF(OR('1. Input energy data'!$F21="Hospital",'1. Input energy data'!$F21="Nursing residential homes and hostels"),INDEX(Degrees18[[Month]:[Multiple (England)]],MATCH('1. Input energy data'!$L21, Degrees18[Month], 1) + $L$2 - 1,MATCH(IF('1. Input energy data'!$G$11="Multiple (England)", '1. Input energy data'!$J21, '1. Input energy data'!$G$11),Degrees18[#Headers], 0)),INDEX(Degrees15[[Month]:[Multiple (England)]],MATCH('1. Input energy data'!$L21, Degrees15[Month], 1) + $L$2 - 1,MATCH(IF('1. Input energy data'!$G$11="Multiple (England)", '1. Input energy data'!$J21, '1. Input energy data'!$G$11),Degrees15[#Headers], 0))))} | M4: {=IF(OR(CalcTable[[#This Row],[Building]]=0, '1. Input energy data'!$W21=""), "",IF(OR('1. Input energy data'!$F21="Hospital",'1. Input energy data'!$F21="Nursing residential homes and hostels"),INDEX(Degrees18[[Month]:[Multiple (England)]],MATCH('1. Input energy data'!$L21, Degrees18[Month], 1) + $M$2 - 1,MATCH(IF('1. Input energy data'!$G$11="Multiple (England)", '1. Input energy data'!$J21, '1. Input energy data'!$G$11),Degrees18[#Headers], 0)),INDEX(Degrees15[[Month]:[Multiple (England)]],MATCH('1. Input energy data'!$L21, Degrees15[Month], 1) + $M$2 - 1,MATCH(IF('1. Input energy data'!$G$11="Multiple (England)", '1. Input energy data'!$J21, '1. Input energy data'!$G$11),Degrees15[#Headers], 0))))} | N4: {=IF(OR(CalcTable[[#This Row],[Building]]=0, '1. Input energy data'!$X21=""), "",IF(OR('1. Input energy data'!$F21="Hospital",'1. Input energy data'!$F21="Nursing residential homes and hostels"),INDEX(Degrees18[[Month]:[Multiple (England)]],MATCH('1. Input energy data'!$L21, Degrees18[Month], 1) + $N$2 - 1,MATCH(IF('1. Input energy data'!$G$11="Multiple (England)", '1. Input energy data'!$J21, '1. Input energy data'!$G$11),Degrees18[#Headers], 0)),INDEX(Degrees15[[Month]:[Multiple (England)]],MATCH('1. Input energy data'!$L21, Degrees15[Month], 1) + $N$2 - 1,MATCH(IF('1. Input energy data'!$G$11="Multiple (England)", '1. Input energy data'!$J21, '1. Input energy data'!$G$11),Degrees15[#Headers], 0))))} | O4: {=IF(OR(CalcTable[[#This Row],[Building]]=0, '1. Input energy data'!$Y21=""), "",IF(OR('1. Input energy data'!$F21="Hospital",'1. Input energy data'!$F21="Nursing residential homes and hostels"),INDEX(Degrees18[[Month]:[Multiple (England)]],MATCH('1. Input energy data'!$L21, Degrees18[Month], 1) + $O$2 - 1,MATCH(IF('1. Input energy data'!$G$11="Multiple (England)", '1. Input energy data'!$J21, '1. Input energy data'!$G$11),Degrees18[#Headers], 0)),INDEX(Degrees15[[Month]:[Multiple (England)]],MATCH('1. Input energy data'!$L21, Degrees15[Month], 1) + $O$2 - 1,MATCH(IF('1. Input energy data'!$G$11="Multiple (England)", '1. Input energy data'!$J21, '1. Input energy data'!$G$11),Degrees15[#Headers], 0))))} | P4: =IF(CalcTable[[#This Row],[Building]]=0,"",SLOPE('1. Input energy data'!N21:Y21,CalcTable[[#This Row],[1]:[12]])) | Q4: =IF(CalcTable[[#This Row],[Building]]=0,"",INTERCEPT('1. Input energy data'!N21:Y21,CalcTable[[#This Row],[1]:[12]])) | R4: =IF(CalcTable[[#This Row],[Building]]=0,"",RSQ('1. Input energy data'!N21:Y21,CalcTable[[#This Row],[1]:[12]])) | S4: {=IF(OR($A4=0, '1. Input energy data'!$AF21=""), "",IF(OR('1. Input energy data'!$F21="Hospital",'1. Input energy data'!$F21="Nursing residential homes and hostels"),INDEX(Degrees18[[Month]:[Multiple (England)]],MATCH('1. Input energy data'!$AD21, Degrees18[Month], 1)+S$2-13,MATCH(IF('1. Input energy data'!$G$11="Multiple (England)", '1. Input energy data'!$J21, '1. Input energy data'!$G$11),Degrees18[#Headers], 0)),INDEX(Degrees15[[Month]:[Multiple (England)]],MATCH('1. Input energy data'!$AD21, Degrees15[Month], 1)+S$2-13,MATCH(IF('1. Input energy data'!$G$11="Multiple (England)", '1. Input energy data'!$J21, '1. Input energy data'!$G$11),Degrees15[#Headers], 0))))} | T4: {=IF(OR($A4=0, '1. Input energy data'!$AG21=""), "",IF(OR('1. Input energy data'!$F21="Hospital",'1. Input energy data'!$F21="Nursing residential homes and hostels"),INDEX(Degrees18[[Month]:[Multiple (England)]],MATCH('1. Input energy data'!$AD21, Degrees18[Month], 1)+T$2-13,MATCH(IF('1. Input energy data'!$G$11="Multiple (England)", '1. Input energy data'!$J21, '1. Input energy data'!$G$11),Degrees18[#Headers], 0)),INDEX(Degrees15[[Month]:[Multiple (England)]],MATCH('1. Input energy data'!$AD21,Degrees15[Month], 1)+T$2-13,MATCH(IF('1. Input energy data'!$G$11="Multiple (England)", '1. Input energy data'!$J21, '1. Input energy data'!$G$11),Degrees15[#Headers], 0))))} | U4: {=IF(OR($A4=0, '1. Input energy data'!$AH21=""), "",IF(OR('1. Input energy data'!$F21="Hospital",'1. Input energy data'!$F21="Nursing residential homes and hostels"),INDEX(Degrees18[[Month]:[Multiple (England)]],MATCH('1. Input energy data'!$AD21, Degrees18[Month], 1)+U$2-13,MATCH(IF('1. Input energy data'!$G$11="Multiple (England)", '1. Input energy data'!$J21, '1. Input energy data'!$G$11),Degrees18[#Headers], 0)),INDEX(Degrees15[[Month]:[Multiple (England)]],MATCH('1. Input energy data'!$AD21,Degrees15[Month], 1)+U$2-13,MATCH(IF('1. Input energy data'!$G$11="Multiple (England)", '1. Input energy data'!$J21, '1. Input energy data'!$G$11),Degrees15[#Headers], 0))))} | V4: {=IF(OR($A4=0, '1. Input energy data'!$AI21=""), "",IF(OR('1. Input energy data'!$F21="Hospital",'1. Input energy data'!$F21="Nursing residential homes and hostels"),INDEX(Degrees18[[Month]:[Multiple (England)]],MATCH('1. Input energy data'!$AD21, Degrees18[Month], 1)+V$2-13,MATCH(IF('1. Input energy data'!$G$11="Multiple (England)", '1. Input energy data'!$J21, '1. Input energy data'!$G$11),Degrees18[#Headers], 0)),INDEX(Degrees15[[Month]:[Multiple (England)]],MATCH('1. Input energy data'!$AD21,Degrees15[Month], 1)+V$2-13,MATCH(IF('1. Input energy data'!$G$11="Multiple (England)", '1. Input energy data'!$J21, '1. Input energy data'!$G$11),Degrees15[#Headers], 0))))} | W4: {=IF(OR($A4=0, '1. Input energy data'!$AJ21=""), "",IF(OR('1. Input energy data'!$F21="Hospital",'1. Input energy data'!$F21="Nursing residential homes and hostels"),INDEX(Degrees18[[Month]:[Multiple (England)]],MATCH('1. Input energy data'!$AD21, Degrees18[Month], 1)+W$2-13,MATCH(IF('1. Input energy data'!$G$11="Multiple (England)", '1. Input energy data'!$J21, '1. Input energy data'!$G$11),Degrees18[#Headers], 0)),INDEX(Degrees15[[Month]:[Multiple (England)]],MATCH('1. Input energy data'!$AD21,Degrees15[Month], 1)+W$2-13,MATCH(IF('1. Input energy data'!$G$11="Multiple (England)", '1. Input energy data'!$J21, '1. Input energy data'!$G$11),Degrees15[#Headers], 0))))} | X4: {=IF(OR($A4=0, '1. Input energy data'!$AK21=""), "",IF(OR('1. Input energy data'!$F21="Hospital",'1. Input energy data'!$F21="Nursing residential homes and hostels"),INDEX(Degrees18[[Month]:[Multiple (England)]],MATCH('1. Input energy data'!$AD21, Degrees18[Month], 1)+X$2-13,MATCH(IF('1. Input energy data'!$G$11="Multiple (England)", '1. Input energy data'!$J21, '1. Input energy data'!$G$11),Degrees18[#Headers], 0)),INDEX(Degrees15[[Month]:[Multiple (England)]],MATCH('1. Input energy data'!$AD21,Degrees15[Month], 1)+X$2-13,MATCH(IF('1. Input energy data'!$G$11="Multiple (England)", '1. Input energy data'!$J21, '1. Input energy data'!$G$11),Degrees15[#Headers], 0))))} | Y4: {=IF(OR($A4=0, '1. Input energy data'!$AL21=""), "",IF(OR('1. Input energy data'!$F21="Hospital",'1. Input energy data'!$F21="Nursing residential homes and hostels"),INDEX(Degrees18[[Month]:[Multiple (England)]],MATCH('1. Input energy data'!$AD21, Degrees18[Month], 1)+Y$2-13,MATCH(IF('1. Input energy data'!$G$11="Multiple (England)", '1. Input energy data'!$J21, '1. Input energy data'!$G$11),Degrees18[#Headers], 0)),INDEX(Degrees15[[Month]:[Multiple (England)]],MATCH('1. Input energy data'!$AD21,Degrees15[Month], 1)+Y$2-13,MATCH(IF('1. Input energy data'!$G$11="Multiple (England)", '1. Input energy data'!$J21, '1. Input energy data'!$G$11),Degrees15[#Headers], 0))))} | Z4: {=IF(OR($A4=0, '1. Input energy data'!$AM21=""), "",IF(OR('1. Input energy data'!$F21="Hospital",'1. Input energy data'!$F21="Nursing residential homes and hostels"),INDEX(Degrees18[[Month]:[Multiple (England)]],MATCH('1. Input energy data'!$AD21, Degrees18[Month], 1)+Z$2-13,MATCH(IF('1. Input energy data'!$G$11="Multiple (England)", '1. Input energy data'!$J21, '1. Input energy data'!$G$11),Degrees18[#Headers], 0)),INDEX(Degrees15[[Month]:[Multiple (England)]],MATCH('1. Input energy data'!$AD21,Degrees15[Month], 1)+Z$2-13,MATCH(IF('1. Input energy data'!$G$11="Multiple (England)", '1. Input energy data'!$J21, '1. Input energy data'!$G$11),Degrees15[#Headers], 0))))} | AA4: {=IF(OR($A4=0, '1. Input energy data'!$AN21=""), "",IF(OR('1. Input energy data'!$F21="Hospital",'1. Input energy data'!$F21="Nursing residential homes and hostels"),INDEX(Degrees18[[Month]:[Multiple (England)]],MATCH('1. Input energy data'!$AD21, Degrees18[Month], 1)+AA$2-13,MATCH(IF('1. Input energy data'!$G$11="Multiple (England)", '1. Input energy data'!$J21, '1. Input energy data'!$G$11),Degrees18[#Headers], 0)),INDEX(Degrees15[[Month]:[Multiple (England)]],MATCH('1. Input energy data'!$AD21,Degrees15[Month], 1)+AA$2-13,MATCH(IF('1. Input energy data'!$G$11="Multiple (England)", '1. Input energy data'!$J21, '1. Input energy data'!$G$11),Degrees15[#Headers], 0))))} | AB4: {=IF(OR($A4=0, '1. Input energy data'!$AO21=""), "",IF(OR('1. Input energy data'!$F21="Hospital",'1. Input energy data'!$F21="Nursing residential homes and hostels"),INDEX(Degrees18[[Month]:[Multiple (England)]],MATCH('1. Input energy data'!$AD21, Degrees18[Month], 1)+AB$2-13,MATCH(IF('1. Input energy data'!$G$11="Multiple (England)", '1. Input energy data'!$J21, '1. Input energy data'!$G$11),Degrees18[#Headers], 0)),INDEX(Degrees15[[Month]:[Multiple (England)]],MATCH('1. Input energy data'!$AD21,Degrees15[Month], 1)+AB$2-13,MATCH(IF('1. Input energy data'!$G$11="Multiple (England)", '1. Input energy data'!$J21, '1. Input energy data'!$G$11),Degrees15[#Headers], 0))))} | AC4: {=IF(OR($A4=0, '1. Input energy data'!$AP21=""), "",IF(OR('1. Input energy data'!$F21="Hospital",'1. Input energy data'!$F21="Nursing residential homes and hostels"),INDEX(Degrees18[[Month]:[Multiple (England)]],MATCH('1. Input energy data'!$AD21, Degrees18[Month], 1)+AC$2-13,MATCH(IF('1. Input energy data'!$G$11="Multiple (England)", '1. Input energy data'!$J21, '1. Input energy data'!$G$11),Degrees18[#Headers], 0)),INDEX(Degrees15[[Month]:[Multiple (England)]],MATCH('1. Input energy data'!$AD21,Degrees15[Month], 1)+AC$2-13,MATCH(IF('1. Input energy data'!$G$11="Multiple (England)", '1. Input energy data'!$J21, '1. Input energy data'!$G$11),Degrees15[#Headers], 0))))} | AD4: {=IF(OR($A4=0, '1. Input energy data'!$AQ21=""), "",IF(OR('1. Input energy data'!$F21="Hospital",'1. Input energy data'!$F21="Nursing residential homes and hostels"),INDEX(Degrees18[[Month]:[Multiple (England)]],MATCH('1. Input energy data'!$AD21, Degrees18[Month], 1)+AD$2-13,MATCH(IF('1. Input energy data'!$G$11="Multiple (England)", '1. Input energy data'!$J21, '1. Input energy data'!$G$11),Degrees18[#Headers], 0)),INDEX(Degrees15[[Month]:[Multiple (England)]],MATCH('1. Input energy data'!$AD21,Degrees15[Month], 1)+AD$2-13,MATCH(IF('1. Input energy data'!$G$11="Multiple (England)", '1. Input energy data'!$J21, '1. Input energy data'!$G$11),Degrees15[#Headers], 0))))} | AE4: =IF(OR($A4=0, $P4="", CalcTable[[#This Row],[13]]="", $Q4="", '1. Input energy data'!AF21=""), "", ($P4*CalcTable[[#This Row],[13]]+$Q4)-'1. Input energy data'!AF21) | AF4: =IF(OR($A4=0, $P4="", CalcTable[[#This Row],[14]]="", $Q4="", '1. Input energy data'!AG21=""), "", ($P4*CalcTable[[#This Row],[14]]+$Q4)-'1. Input energy data'!AG21) | AG4: =IF(OR($A4=0, $P4="", CalcTable[[#This Row],[15]]="", $Q4="", '1. Input energy data'!AH21=""), "", ($P4*CalcTable[[#This Row],[15]]+$Q4)-'1. Input energy data'!AH21) | AH4: =IF(OR($A4=0, $P4="", CalcTable[[#This Row],[16]]="", $Q4="", '1. Input energy data'!AI21=""), "", ($P4*CalcTable[[#This Row],[16]]+$Q4)-'1. Input energy data'!AI21) | AI4: =IF(OR($A4=0, $P4="", CalcTable[[#This Row],[17]]="", $Q4="", '1. Input energy data'!AJ21=""), "", ($P4*CalcTable[[#This Row],[17]]+$Q4)-'1. Input energy data'!AJ21) | AJ4: =IF(OR($A4=0, $P4="", CalcTable[[#This Row],[18]]="", $Q4="", '1. Input energy data'!AK21=""), "", ($P4*CalcTable[[#This Row],[18]]+$Q4)-'1. Input energy data'!AK21) | AK4: =IF(OR($A4=0, $P4="", CalcTable[[#This Row],[19]]="", $Q4="", '1. Input energy data'!AL21=""), "", ($P4*CalcTable[[#This Row],[19]]+$Q4)-'1. Input energy data'!AL21) | AL4: =IF(OR($A4=0, $P4="", CalcTable[[#This Row],[20]]="", $Q4="", '1. Input energy data'!AM21=""), "", ($P4*CalcTable[[#This Row],[20]]+$Q4)-'1. Input energy data'!AM21) | AM4: =IF(OR($A4=0, $P4="", CalcTable[[#This Row],[21]]="", $Q4="", '1. Input energy data'!AN21=""), "", ($P4*CalcTable[[#This Row],[21]]+$Q4)-'1. Input energy data'!AN21) | AN4: =IF(OR($A4=0, $P4="", CalcTable[[#This Row],[22]]="", $Q4="", '1. Input energy data'!AO21=""), "", ($P4*CalcTable[[#This Row],[22]]+$Q4)-'1. Input energy data'!AO21) | AO4: =IF(OR($A4=0, $P4="", CalcTable[[#This Row],[23]]="", $Q4="", '1. Input energy data'!AP21=""), "", ($P4*CalcTable[[#This Row],[23]]+$Q4)-'1. Input energy data'!AP21) | AP4: =IF(OR($A4=0, $P4="", CalcTable[[#This Row],[24]]="", $Q4="", '1. Input energy data'!AQ21=""), "", ($P4*CalcTable[[#This Row],[24]]+$Q4)-'1. Input energy data'!AQ21) | AQ4: =IF(CalcTable[[#This Row],[Building]]=0,"",1-((1-CalcTable[[#This Row],[R2]])*(COUNT('1. Input energy data'!N21:Y21)-1)/(COUNT('1. Input energy data'!N21:Y21)-2))) | AR4: =IF(CalcTable[[#This Row],[Building]]=0,"",1.26*TINV(0.1,COUNT('1. Input energy data'!N21:Y21)-2)*STEYX('1. Input energy data'!N21:Y21,CalcTable[[#This Row],[1]:[12]])*((1+2/COUNT('1. Input energy data'!N21:Y21))*COUNT(CalcTable[[#This Row],[Month 1 avoided kWh]:[Month 12]]))^0.5) | AS4: =IF(CalcTable[[#This Row],[Building]]=0,"",ABS(CalcTable[[#This Row],[Absolute Uncertainty]]/SUM(CalcTable[[#This Row],[Month 1 avoided kWh]:[Month 12]]))) | AT4: =IF(CalcTable[[#This Row],[Building]]=0,"",COUNT('1. Input energy data'!N21:Y21)) | AU4: =IF(CalcTable[[#This Row],[Building]]=0,"",COUNT('1. Input energy data'!AF21:AQ21)) | AV4: {=_xlfn.IFS(CalcTable[[#This Row],[Building]]=0,"",AND(OR('1. Input energy data'!AT21="Energy Bills - Actual",'1. Input energy data'!AT21="Meter Readings",'1. Input energy data'!AT21="Half Hourly Data"),OR('1. Input energy data'!Z21="Energy Bills - Actual",'1. Input energy data'!Z21="Meter Readings",'1. Input energy data'!Z21="Half Hourly Data")),"ACTUAL",OR('1. Input energy data'!AT21="",'1. Input energy data'!Z21=""),"BLANK",OR('1. Input energy data'!AT21="Other (specify in commentary)",'1. Input energy data'!Z21="Other (specify in commentary)"),"OTHER",OR('1. Input energy data'!AT21="Energy Bills - Estimated",'1. Input energy data'!Z21="Energy Bills - Estimated"),"ESTIMATED",OR('1. Input energy data'!AT21="Energy Bills - Partially Estimated",'1. Input energy data'!Z21="Energy Bills - Partially Estimated"),"PARTIALLY ESTIMATED",TRUE,"BLANK")}
A5: ='1. Input energy data'!C22 -> 0 | B5: ='1. Input energy data'!F22 -> 0 | C5: ='1. Input energy data'!G22 -> 0 | D5: =IF(OR(CalcTable[[#This Row],[Building]]=0, '1. Input energy data'!$N22=""), "",IF(OR('1. Input energy data'!$F22="Hospital",'1. Input energy data'!$F22="Nursing residential homes and hostels"),INDEX(Degrees18[[Month]:[Multiple (England)]],MATCH('1. Input energy data'!$L22, Degrees18[Month], 1),MATCH(IF('1. Input energy data'!$G$11="Multiple (England)", '1. Input energy data'!$J22, '1. Input energy data'!$G$11), Degrees18[#Headers], 0)),INDEX(Degrees15[[Month]:[Multiple (England)]],MATCH('1. Input energy data'!$L22, Degrees15[Month], 1),MATCH(IF('1. Input energy data'!$G$11="Multiple (England)", '1. Input energy data'!$J22, '1. Input energy data'!$G$11), Degrees15[#Headers], 0)))) | E5: {=IF(OR(CalcTable[[#This Row],[Building]]=0, '1. Input energy data'!$O22=""), "",IF(OR('1. Input energy data'!$F22="Hospital",'1. Input energy data'!$F22="Nursing residential homes and hostels"),INDEX(Degrees18[[Month]:[Multiple (England)]],MATCH('1. Input energy data'!$L22, Degrees18[Month], 1) + $E$2 - 1,MATCH(IF('1. Input energy data'!$G$11="Multiple (England)", '1. Input energy data'!$J22, '1. Input energy data'!$G$11),Degrees18[#Headers], 0)),INDEX(Degrees15[[Month]:[Multiple (England)]],MATCH('1. Input energy data'!$L22, Degrees15[Month], 1) + $E$2 - 1,MATCH(IF('1. Input energy data'!$G$11="Multiple (England)", '1. Input energy data'!$J22, '1. Input energy data'!$G$11),Degrees15[#Headers], 0))))} | F5: {=IF(OR(CalcTable[[#This Row],[Building]]=0, '1. Input energy data'!$P22=""), "",IF(OR('1. Input energy data'!$F22="Hospital",'1. Input energy data'!$F22="Nursing residential homes and hostels"),INDEX(Degrees18[[Month]:[Multiple (England)]],MATCH('1. Input energy data'!$L22, Degrees18[Month], 1) + $F$2 - 1,MATCH(IF('1. Input energy data'!$G$11="Multiple (England)", '1. Input energy data'!$J22, '1. Input energy data'!$G$11),Degrees18[#Headers], 0)),INDEX(Degrees15[[Month]:[Multiple (England)]],MATCH('1. Input energy data'!$L22, Degrees15[Month], 1) + $F$2 - 1,MATCH(IF('1. Input energy data'!$G$11="Multiple (England)", '1. Input energy data'!$J22, '1. Input energy data'!$G$11),Degrees15[#Headers], 0))))} | G5: {=IF(OR(CalcTable[[#This Row],[Building]]=0, '1. Input energy data'!$Q22=""), "",IF(OR('1. Input energy data'!$F22="Hospital",'1. Input energy data'!$F22="Nursing residential homes and hostels"),INDEX(Degrees18[[Month]:[Multiple (England)]],MATCH('1. Input energy data'!$L22, Degrees18[Month], 1) + $G$2 - 1,MATCH(IF('1. Input energy data'!$G$11="Multiple (England)", '1. Input energy data'!$J22, '1. Input energy data'!$G$11),Degrees18[#Headers], 0)),INDEX(Degrees15[[Month]:[Multiple (England)]],MATCH('1. Input energy data'!$L22, Degrees15[Month], 1) + $G$2 - 1,MATCH(IF('1. Input energy data'!$G$11="Multiple (England)", '1. Input energy data'!$J22, '1. Input energy data'!$G$11),Degrees15[#Headers], 0))))} | H5: {=IF(OR(CalcTable[[#This Row],[Building]]=0, '1. Input energy data'!$R22=""), "",IF(OR('1. Input energy data'!$F22="Hospital",'1. Input energy data'!$F22="Nursing residential homes and hostels"),INDEX(Degrees18[[Month]:[Multiple (England)]],MATCH('1. Input energy data'!$L22, Degrees18[Month], 1) + $H$2 - 1,MATCH(IF('1. Input energy data'!$G$11="Multiple (England)", '1. Input energy data'!$J22, '1. Input energy data'!$G$11),Degrees18[#Headers], 0)),INDEX(Degrees15[[Month]:[Multiple (England)]],MATCH('1. Input energy data'!$L22, Degrees15[Month], 1) + $H$2 - 1,MATCH(IF('1. Input energy data'!$G$11="Multiple (England)", '1. Input energy data'!$J22, '1. Input energy data'!$G$11),Degrees15[#Headers], 0))))} | I5: {=IF(OR(CalcTable[[#This Row],[Building]]=0, '1. Input energy data'!$S22=""), "",IF(OR('1. Input energy data'!$F22="Hospital",'1. Input energy data'!$F22="Nursing residential homes and hostels"),INDEX(Degrees18[[Month]:[Multiple (England)]],MATCH('1. Input energy data'!$L22, Degrees18[Month], 1) + $I$2 - 1,MATCH(IF('1. Input energy data'!$G$11="Multiple (England)", '1. Input energy data'!$J22, '1. Input energy data'!$G$11),Degrees18[#Headers], 0)),INDEX(Degrees15[[Month]:[Multiple (England)]],MATCH('1. Input energy data'!$L22, Degrees15[Month], 1) + $I$2 - 1,MATCH(IF('1. Input energy data'!$G$11="Multiple (England)", '1. Input energy data'!$J22, '1. Input energy data'!$G$11),Degrees15[#Headers], 0))))} | J5: {=IF(OR(CalcTable[[#This Row],[Building]]=0, '1. Input energy data'!$T22=""), "",IF(OR('1. Input energy data'!$F22="Hospital",'1. Input energy data'!$F22="Nursing residential homes and hostels"),INDEX(Degrees18[[Month]:[Multiple (England)]],MATCH('1. Input energy data'!$L22, Degrees18[Month], 1) + $J$2 - 1,MATCH(IF('1. Input energy data'!$G$11="Multiple (England)", '1. Input energy data'!$J22, '1. Input energy data'!$G$11),Degrees18[#Headers], 0)),INDEX(Degrees15[[Month]:[Multiple (England)]],MATCH('1. Input energy data'!$L22, Degrees15[Month], 1) + $J$2 - 1,MATCH(IF('1. Input energy data'!$G$11="Multiple (England)", '1. Input energy data'!$J22, '1. Input energy data'!$G$11),Degrees15[#Headers], 0))))} | K5: {=IF(OR(CalcTable[[#This Row],[Building]]=0, '1. Input energy data'!$U22=""), "",IF(OR('1. Input energy data'!$F22="Hospital",'1. Input energy data'!$F22="Nursing residential homes and hostels"),INDEX(Degrees18[[Month]:[Multiple (England)]],MATCH('1. Input energy data'!$L22, Degrees18[Month], 1) + $K$2 - 1,MATCH(IF('1. Input energy data'!$G$11="Multiple (England)", '1. Input energy data'!$J22, '1. Input energy data'!$G$11),Degrees18[#Headers], 0)),INDEX(Degrees15[[Month]:[Multiple (England)]],MATCH('1. Input energy data'!$L22, Degrees15[Month], 1) + $K$2 - 1,MATCH(IF('1. Input energy data'!$G$11="Multiple (England)", '1. Input energy data'!$J22, '1. Input energy data'!$G$11),Degrees15[#Headers], 0))))} | L5: {=IF(OR(CalcTable[[#This Row],[Building]]=0, '1. Input energy data'!$V22=""), "",IF(OR('1. Input energy data'!$F22="Hospital",'1. Input energy data'!$F22="Nursing residential homes and hostels"),INDEX(Degrees18[[Month]:[Multiple (England)]],MATCH('1. Input energy data'!$L22, Degrees18[Month], 1) + $L$2 - 1,MATCH(IF('1. Input energy data'!$G$11="Multiple (England)", '1. Input energy data'!$J22, '1. Input energy data'!$G$11),Degrees18[#Headers], 0)),INDEX(Degrees15[[Month]:[Multiple (England)]],MATCH('1. Input energy data'!$L22, Degrees15[Month], 1) + $L$2 - 1,MATCH(IF('1. Input energy data'!$G$11="Multiple (England)", '1. Input energy data'!$J22, '1. Input energy data'!$G$11),Degrees15[#Headers], 0))))} | M5: {=IF(OR(CalcTable[[#This Row],[Building]]=0, '1. Input energy data'!$W22=""), "",IF(OR('1. Input energy data'!$F22="Hospital",'1. Input energy data'!$F22="Nursing residential homes and hostels"),INDEX(Degrees18[[Month]:[Multiple (England)]],MATCH('1. Input energy data'!$L22, Degrees18[Month], 1) + $M$2 - 1,MATCH(IF('1. Input energy data'!$G$11="Multiple (England)", '1. Input energy data'!$J22, '1. Input energy data'!$G$11),Degrees18[#Headers], 0)),INDEX(Degrees15[[Month]:[Multiple (England)]],MATCH('1. Input energy data'!$L22, Degrees15[Month], 1) + $M$2 - 1,MATCH(IF('1. Input energy data'!$G$11="Multiple (England)", '1. Input energy data'!$J22, '1. Input energy data'!$G$11),Degrees15[#Headers], 0))))} | N5: {=IF(OR(CalcTable[[#This Row],[Building]]=0, '1. Input energy data'!$X22=""), "",IF(OR('1. Input energy data'!$F22="Hospital",'1. Input energy data'!$F22="Nursing residential homes and hostels"),INDEX(Degrees18[[Month]:[Multiple (England)]],MATCH('1. Input energy data'!$L22, Degrees18[Month], 1) + $N$2 - 1,MATCH(IF('1. Input energy data'!$G$11="Multiple (England)", '1. Input energy data'!$J22, '1. Input energy data'!$G$11),Degrees18[#Headers], 0)),INDEX(Degrees15[[Month]:[Multiple (England)]],MATCH('1. Input energy data'!$L22, Degrees15[Month], 1) + $N$2 - 1,MATCH(IF('1. Input energy data'!$G$11="Multiple (England)", '1. Input energy data'!$J22, '1. Input energy data'!$G$11),Degrees15[#Headers], 0))))} | O5: {=IF(OR(CalcTable[[#This Row],[Building]]=0, '1. Input energy data'!$Y22=""), "",IF(OR('1. Input energy data'!$F22="Hospital",'1. Input energy data'!$F22="Nursing residential homes and hostels"),INDEX(Degrees18[[Month]:[Multiple (England)]],MATCH('1. Input energy data'!$L22, Degrees18[Month], 1) + $O$2 - 1,MATCH(IF('1. Input energy data'!$G$11="Multiple (England)", '1. Input energy data'!$J22, '1. Input energy data'!$G$11),Degrees18[#Headers], 0)),INDEX(Degrees15[[Month]:[Multiple (England)]],MATCH('1. Input energy data'!$L22, Degrees15[Month], 1) + $O$2 - 1,MATCH(IF('1. Input energy data'!$G$11="Multiple (England)", '1. Input energy data'!$J22, '1. Input energy data'!$G$11),Degrees15[#Headers], 0))))} | P5: =IF(CalcTable[[#This Row],[Building]]=0,"",SLOPE('1. Input energy data'!N22:Y22,CalcTable[[#This Row],[1]:[12]])) | Q5: =IF(CalcTable[[#This Row],[Building]]=0,"",INTERCEPT('1. Input energy data'!N22:Y22,CalcTable[[#This Row],[1]:[12]])) | R5: =IF(CalcTable[[#This Row],[Building]]=0,"",RSQ('1. Input energy data'!N22:Y22,CalcTable[[#This Row],[1]:[12]])) | S5: {=IF(OR($A5=0, '1. Input energy data'!$AF22=""), "",IF(OR('1. Input energy data'!$F22="Hospital",'1. Input energy data'!$F22="Nursing residential homes and hostels"),INDEX(Degrees18[[Month]:[Multiple (England)]],MATCH('1. Input energy data'!$AD22, Degrees18[Month], 1)+S$2-13,MATCH(IF('1. Input energy data'!$G$11="Multiple (England)", '1. Input energy data'!$J22, '1. Input energy data'!$G$11),Degrees18[#Headers], 0)),INDEX(Degrees15[[Month]:[Multiple (England)]],MATCH('1. Input energy data'!$AD22, Degrees15[Month], 1)+S$2-13,MATCH(IF('1. Input energy data'!$G$11="Multiple (England)", '1. Input energy data'!$J22, '1. Input energy data'!$G$11),Degrees15[#Headers], 0))))} | T5: {=IF(OR($A5=0, '1. Input energy data'!$AG22=""), "",IF(OR('1. Input energy data'!$F22="Hospital",'1. Input energy data'!$F22="Nursing residential homes and hostels"),INDEX(Degrees18[[Month]:[Multiple (England)]],MATCH('1. Input energy data'!$AD22, Degrees18[Month], 1)+T$2-13,MATCH(IF('1. Input energy data'!$G$11="Multiple (England)", '1. Input energy data'!$J22, '1. Input energy data'!$G$11),Degrees18[#Headers], 0)),INDEX(Degrees15[[Month]:[Multiple (England)]],MATCH('1. Input energy data'!$AD22,Degrees15[Month], 1)+T$2-13,MATCH(IF('1. Input energy data'!$G$11="Multiple (England)", '1. Input energy data'!$J22, '1. Input energy data'!$G$11),Degrees15[#Headers], 0))))} | U5: {=IF(OR($A5=0, '1. Input energy data'!$AH22=""), "",IF(OR('1. Input energy data'!$F22="Hospital",'1. Input energy data'!$F22="Nursing residential homes and hostels"),INDEX(Degrees18[[Month]:[Multiple (England)]],MATCH('1. Input energy data'!$AD22, Degrees18[Month], 1)+U$2-13,MATCH(IF('1. Input energy data'!$G$11="Multiple (England)", '1. Input energy data'!$J22, '1. Input energy data'!$G$11),Degrees18[#Headers], 0)),INDEX(Degrees15[[Month]:[Multiple (England)]],MATCH('1. Input energy data'!$AD22,Degrees15[Month], 1)+U$2-13,MATCH(IF('1. Input energy data'!$G$11="Multiple (England)", '1. Input energy data'!$J22, '1. Input energy data'!$G$11),Degrees15[#Headers], 0))))} | V5: {=IF(OR($A5=0, '1. Input energy data'!$AI22=""), "",IF(OR('1. Input energy data'!$F22="Hospital",'1. Input energy data'!$F22="Nursing residential homes and hostels"),INDEX(Degrees18[[Month]:[Multiple (England)]],MATCH('1. Input energy data'!$AD22, Degrees18[Month], 1)+V$2-13,MATCH(IF('1. Input energy data'!$G$11="Multiple (England)", '1. Input energy data'!$J22, '1. Input energy data'!$G$11),Degrees18[#Headers], 0)),INDEX(Degrees15[[Month]:[Multiple (England)]],MATCH('1. Input energy data'!$AD22,Degrees15[Month], 1)+V$2-13,MATCH(IF('1. Input energy data'!$G$11="Multiple (England)", '1. Input energy data'!$J22, '1. Input energy data'!$G$11),Degrees15[#Headers], 0))))} | W5: {=IF(OR($A5=0, '1. Input energy data'!$AJ22=""), "",IF(OR('1. Input energy data'!$F22="Hospital",'1. Input energy data'!$F22="Nursing residential homes and hostels"),INDEX(Degrees18[[Month]:[Multiple (England)]],MATCH('1. Input energy data'!$AD22, Degrees18[Month], 1)+W$2-13,MATCH(IF('1. Input energy data'!$G$11="Multiple (England)", '1. Input energy data'!$J22, '1. Input energy data'!$G$11),Degrees18[#Headers], 0)),INDEX(Degrees15[[Month]:[Multiple (England)]],MATCH('1. Input energy data'!$AD22,Degrees15[Month], 1)+W$2-13,MATCH(IF('1. Input energy data'!$G$11="Multiple (England)", '1. Input energy data'!$J22, '1. Input energy data'!$G$11),Degrees15[#Headers], 0))))} | X5: {=IF(OR($A5=0, '1. Input energy data'!$AK22=""), "",IF(OR('1. Input energy data'!$F22="Hospital",'1. Input energy data'!$F22="Nursing residential homes and hostels"),INDEX(Degrees18[[Month]:[Multiple (England)]],MATCH('1. Input energy data'!$AD22, Degrees18[Month], 1)+X$2-13,MATCH(IF('1. Input energy data'!$G$11="Multiple (England)", '1. Input energy data'!$J22, '1. Input energy data'!$G$11),Degrees18[#Headers], 0)),INDEX(Degrees15[[Month]:[Multiple (England)]],MATCH('1. Input energy data'!$AD22,Degrees15[Month], 1)+X$2-13,MATCH(IF('1. Input energy data'!$G$11="Multiple (England)", '1. Input energy data'!$J22, '1. Input energy data'!$G$11),Degrees15[#Headers], 0))))} | Y5: {=IF(OR($A5=0, '1. Input energy data'!$AL22=""), "",IF(OR('1. Input energy data'!$F22="Hospital",'1. Input energy data'!$F22="Nursing residential homes and hostels"),INDEX(Degrees18[[Month]:[Multiple (England)]],MATCH('1. Input energy data'!$AD22, Degrees18[Month], 1)+Y$2-13,MATCH(IF('1. Input energy data'!$G$11="Multiple (England)", '1. Input energy data'!$J22, '1. Input energy data'!$G$11),Degrees18[#Headers], 0)),INDEX(Degrees15[[Month]:[Multiple (England)]],MATCH('1. Input energy data'!$AD22,Degrees15[Month], 1)+Y$2-13,MATCH(IF('1. Input energy data'!$G$11="Multiple (England)", '1. Input energy data'!$J22, '1. Input energy data'!$G$11),Degrees15[#Headers], 0))))} | Z5: {=IF(OR($A5=0, '1. Input energy data'!$AM22=""), "",IF(OR('1. Input energy data'!$F22="Hospital",'1. Input energy data'!$F22="Nursing residential homes and hostels"),INDEX(Degrees18[[Month]:[Multiple (England)]],MATCH('1. Input energy data'!$AD22, Degrees18[Month], 1)+Z$2-13,MATCH(IF('1. Input energy data'!$G$11="Multiple (England)", '1. Input energy data'!$J22, '1. Input energy data'!$G$11),Degrees18[#Headers], 0)),INDEX(Degrees15[[Month]:[Multiple (England)]],MATCH('1. Input energy data'!$AD22,Degrees15[Month], 1)+Z$2-13,MATCH(IF('1. Input energy data'!$G$11="Multiple (England)", '1. Input energy data'!$J22, '1. Input energy data'!$G$11),Degrees15[#Headers], 0))))} | AA5: {=IF(OR($A5=0, '1. Input energy data'!$AN22=""), "",IF(OR('1. Input energy data'!$F22="Hospital",'1. Input energy data'!$F22="Nursing residential homes and hostels"),INDEX(Degrees18[[Month]:[Multiple (England)]],MATCH('1. Input energy data'!$AD22, Degrees18[Month], 1)+AA$2-13,MATCH(IF('1. Input energy data'!$G$11="Multiple (England)", '1. Input energy data'!$J22, '1. Input energy data'!$G$11),Degrees18[#Headers], 0)),INDEX(Degrees15[[Month]:[Multiple (England)]],MATCH('1. Input energy data'!$AD22,Degrees15[Month], 1)+AA$2-13,MATCH(IF('1. Input energy data'!$G$11="Multiple (England)", '1. Input energy data'!$J22, '1. Input energy data'!$G$11),Degrees15[#Headers], 0))))} | AB5: {=IF(OR($A5=0, '1. Input energy data'!$AO22=""), "",IF(OR('1. Input energy data'!$F22="Hospital",'1. Input energy data'!$F22="Nursing residential homes and hostels"),INDEX(Degrees18[[Month]:[Multiple (England)]],MATCH('1. Input energy data'!$AD22, Degrees18[Month], 1)+AB$2-13,MATCH(IF('1. Input energy data'!$G$11="Multiple (England)", '1. Input energy data'!$J22, '1. Input energy data'!$G$11),Degrees18[#Headers], 0)),INDEX(Degrees15[[Month]:[Multiple (England)]],MATCH('1. Input energy data'!$AD22,Degrees15[Month], 1)+AB$2-13,MATCH(IF('1. Input energy data'!$G$11="Multiple (England)", '1. Input energy data'!$J22, '1. Input energy data'!$G$11),Degrees15[#Headers], 0))))} | AC5: {=IF(OR($A5=0, '1. Input energy data'!$AP22=""), "",IF(OR('1. Input energy data'!$F22="Hospital",'1. Input energy data'!$F22="Nursing residential homes and hostels"),INDEX(Degrees18[[Month]:[Multiple (England)]],MATCH('1. Input energy data'!$AD22, Degrees18[Month], 1)+AC$2-13,MATCH(IF('1. Input energy data'!$G$11="Multiple (England)", '1. Input energy data'!$J22, '1. Input energy data'!$G$11),Degrees18[#Headers], 0)),INDEX(Degrees15[[Month]:[Multiple (England)]],MATCH('1. Input energy data'!$AD22,Degrees15[Month], 1)+AC$2-13,MATCH(IF('1. Input energy data'!$G$11="Multiple (England)", '1. Input energy data'!$J22, '1. Input energy data'!$G$11),Degrees15[#Headers], 0))))} | AD5: {=IF(OR($A5=0, '1. Input energy data'!$AQ22=""), "",IF(OR('1. Input energy data'!$F22="Hospital",'1. Input energy data'!$F22="Nursing residential homes and hostels"),INDEX(Degrees18[[Month]:[Multiple (England)]],MATCH('1. Input energy data'!$AD22, Degrees18[Month], 1)+AD$2-13,MATCH(IF('1. Input energy data'!$G$11="Multiple (England)", '1. Input energy data'!$J22, '1. Input energy data'!$G$11),Degrees18[#Headers], 0)),INDEX(Degrees15[[Month]:[Multiple (England)]],MATCH('1. Input energy data'!$AD22,Degrees15[Month], 1)+AD$2-13,MATCH(IF('1. Input energy data'!$G$11="Multiple (England)", '1. Input energy data'!$J22, '1. Input energy data'!$G$11),Degrees15[#Headers], 0))))} | AE5: =IF(OR($A5=0, $P5="", CalcTable[[#This Row],[13]]="", $Q5="", '1. Input energy data'!AF22=""), "", ($P5*CalcTable[[#This Row],[13]]+$Q5)-'1. Input energy data'!AF22) | AF5: =IF(OR($A5=0, $P5="", CalcTable[[#This Row],[14]]="", $Q5="", '1. Input energy data'!AG22=""), "", ($P5*CalcTable[[#This Row],[14]]+$Q5)-'1. Input energy data'!AG22) | AG5: =IF(OR($A5=0, $P5="", CalcTable[[#This Row],[15]]="", $Q5="", '1. Input energy data'!AH22=""), "", ($P5*CalcTable[[#This Row],[15]]+$Q5)-'1. Input energy data'!AH22) | AH5: =IF(OR($A5=0, $P5="", CalcTable[[#This Row],[16]]="", $Q5="", '1. Input energy data'!AI22=""), "", ($P5*CalcTable[[#This Row],[16]]+$Q5)-'1. Input energy data'!AI22) | AI5: =IF(OR($A5=0, $P5="", CalcTable[[#This Row],[17]]="", $Q5="", '1. Input energy data'!AJ22=""), "", ($P5*CalcTable[[#This Row],[17]]+$Q5)-'1. Input energy data'!AJ22) | AJ5: =IF(OR($A5=0, $P5="", CalcTable[[#This Row],[18]]="", $Q5="", '1. Input energy data'!AK22=""), "", ($P5*CalcTable[[#This Row],[18]]+$Q5)-'1. Input energy data'!AK22) | AK5: =IF(OR($A5=0, $P5="", CalcTable[[#This Row],[19]]="", $Q5="", '1. Input energy data'!AL22=""), "", ($P5*CalcTable[[#This Row],[19]]+$Q5)-'1. Input energy data'!AL22) | AL5: =IF(OR($A5=0, $P5="", CalcTable[[#This Row],[20]]="", $Q5="", '1. Input energy data'!AM22=""), "", ($P5*CalcTable[[#This Row],[20]]+$Q5)-'1. Input energy data'!AM22) | AM5: =IF(OR($A5=0, $P5="", CalcTable[[#This Row],[21]]="", $Q5="", '1. Input energy data'!AN22=""), "", ($P5*CalcTable[[#This Row],[21]]+$Q5)-'1. Input energy data'!AN22) | AN5: =IF(OR($A5=0, $P5="", CalcTable[[#This Row],[22]]="", $Q5="", '1. Input energy data'!AO22=""), "", ($P5*CalcTable[[#This Row],[22]]+$Q5)-'1. Input energy data'!AO22) | AO5: =IF(OR($A5=0, $P5="", CalcTable[[#This Row],[23]]="", $Q5="", '1. Input energy data'!AP22=""), "", ($P5*CalcTable[[#This Row],[23]]+$Q5)-'1. Input energy data'!AP22) | AP5: =IF(OR($A5=0, $P5="", CalcTable[[#This Row],[24]]="", $Q5="", '1. Input energy data'!AQ22=""), "", ($P5*CalcTable[[#This Row],[24]]+$Q5)-'1. Input energy data'!AQ22) | AQ5: =IF(CalcTable[[#This Row],[Building]]=0,"",1-((1-CalcTable[[#This Row],[R2]])*(COUNT('1. Input energy data'!N22:Y22)-1)/(COUNT('1. Input energy data'!N22:Y22)-2))) | AR5: =IF(CalcTable[[#This Row],[Building]]=0,"",1.26*TINV(0.1,COUNT('1. Input energy data'!N22:Y22)-2)*STEYX('1. Input energy data'!N22:Y22,CalcTable[[#This Row],[1]:[12]])*((1+2/COUNT('1. Input energy data'!N22:Y22))*COUNT(CalcTable[[#This Row],[Month 1 avoided kWh]:[Month 12]]))^0.5) | AS5: =IF(CalcTable[[#This Row],[Building]]=0,"",ABS(CalcTable[[#This Row],[Absolute Uncertainty]]/SUM(CalcTable[[#This Row],[Month 1 avoided kWh]:[Month 12]]))) | AT5: =IF(CalcTable[[#This Row],[Building]]=0,"",COUNT('1. Input energy data'!N22:Y22)) | AU5: =IF(CalcTable[[#This Row],[Building]]=0,"",COUNT('1. Input energy data'!AF22:AQ22)) | AV5: {=_xlfn.IFS(CalcTable[[#This Row],[Building]]=0,"",AND(OR('1. Input energy data'!AT22="Energy Bills - Actual",'1. Input energy data'!AT22="Meter Readings",'1. Input energy data'!AT22="Half Hourly Data"),OR('1. Input energy data'!Z22="Energy Bills - Actual",'1. Input energy data'!Z22="Meter Readings",'1. Input energy data'!Z22="Half Hourly Data")),"ACTUAL",OR('1. Input energy data'!AT22="",'1. Input energy data'!Z22=""),"BLANK",OR('1. Input energy data'!AT22="Other (specify in commentary)",'1. Input energy data'!Z22="Other (specify in commentary)"),"OTHER",OR('1. Input energy data'!AT22="Energy Bills - Estimated",'1. Input energy data'!Z22="Energy Bills - Estimated"),"ESTIMATED",OR('1. Input energy data'!AT22="Energy Bills - Partially Estimated",'1. Input energy data'!Z22="Energy Bills - Partially Estimated"),"PARTIALLY ESTIMATED",TRUE,"BLANK")}
A6: ='1. Input energy data'!C23 -> 0 | B6: ='1. Input energy data'!F23 -> 0 | C6: ='1. Input energy data'!G23 -> 0 | D6: =IF(OR(CalcTable[[#This Row],[Building]]=0, '1. Input energy data'!$N23=""), "",IF(OR('1. Input energy data'!$F23="Hospital",'1. Input energy data'!$F23="Nursing residential homes and hostels"),INDEX(Degrees18[[Month]:[Multiple (England)]],MATCH('1. Input energy data'!$L23, Degrees18[Month], 1),MATCH(IF('1. Input energy data'!$G$11="Multiple (England)", '1. Input energy data'!$J23, '1. Input energy data'!$G$11), Degrees18[#Headers], 0)),INDEX(Degrees15[[Month]:[Multiple (England)]],MATCH('1. Input energy data'!$L23, Degrees15[Month], 1),MATCH(IF('1. Input energy data'!$G$11="Multiple (England)", '1. Input energy data'!$J23, '1. Input energy data'!$G$11), Degrees15[#Headers], 0)))) | E6: {=IF(OR(CalcTable[[#This Row],[Building]]=0, '1. Input energy data'!$O23=""), "",IF(OR('1. Input energy data'!$F23="Hospital",'1. Input energy data'!$F23="Nursing residential homes and hostels"),INDEX(Degrees18[[Month]:[Multiple (England)]],MATCH('1. Input energy data'!$L23, Degrees18[Month], 1) + $E$2 - 1,MATCH(IF('1. Input energy data'!$G$11="Multiple (England)", '1. Input energy data'!$J23, '1. Input energy data'!$G$11),Degrees18[#Headers], 0)),INDEX(Degrees15[[Month]:[Multiple (England)]],MATCH('1. Input energy data'!$L23, Degrees15[Month], 1) + $E$2 - 1,MATCH(IF('1. Input energy data'!$G$11="Multiple (England)", '1. Input energy data'!$J23, '1. Input energy data'!$G$11),Degrees15[#Headers], 0))))} | F6: {=IF(OR(CalcTable[[#This Row],[Building]]=0, '1. Input energy data'!$P23=""), "",IF(OR('1. Input energy data'!$F23="Hospital",'1. Input energy data'!$F23="Nursing residential homes and hostels"),INDEX(Degrees18[[Month]:[Multiple (England)]],MATCH('1. Input energy data'!$L23, Degrees18[Month], 1) + $F$2 - 1,MATCH(IF('1. Input energy data'!$G$11="Multiple (England)", '1. Input energy data'!$J23, '1. Input energy data'!$G$11),Degrees18[#Headers], 0)),INDEX(Degrees15[[Month]:[Multiple (England)]],MATCH('1. Input energy data'!$L23, Degrees15[Month], 1) + $F$2 - 1,MATCH(IF('1. Input energy data'!$G$11="Multiple (England)", '1. Input energy data'!$J23, '1. Input energy data'!$G$11),Degrees15[#Headers], 0))))} | G6: {=IF(OR(CalcTable[[#This Row],[Building]]=0, '1. Input energy data'!$Q23=""), "",IF(OR('1. Input energy data'!$F23="Hospital",'1. Input energy data'!$F23="Nursing residential homes and hostels"),INDEX(Degrees18[[Month]:[Multiple (England)]],MATCH('1. Input energy data'!$L23, Degrees18[Month], 1) + $G$2 - 1,MATCH(IF('1. Input energy data'!$G$11="Multiple (England)", '1. Input energy data'!$J23, '1. Input energy data'!$G$11),Degrees18[#Headers], 0)),INDEX(Degrees15[[Month]:[Multiple (England)]],MATCH('1. Input energy data'!$L23, Degrees15[Month], 1) + $G$2 - 1,MATCH(IF('1. Input energy data'!$G$11="Multiple (England)", '1. Input energy data'!$J23, '1. Input energy data'!$G$11),Degrees15[#Headers], 0))))} | H6: {=IF(OR(CalcTable[[#This Row],[Building]]=0, '1. Input energy data'!$R23=""), "",IF(OR('1. Input energy data'!$F23="Hospital",'1. Input energy data'!$F23="Nursing residential homes and hostels"),INDEX(Degrees18[[Month]:[Multiple (England)]],MATCH('1. Input energy data'!$L23, Degrees18[Month], 1) + $H$2 - 1,MATCH(IF('1. Input energy data'!$G$11="Multiple (England)", '1. Input energy data'!$J23, '1. Input energy data'!$G$11),Degrees18[#Headers], 0)),INDEX(Degrees15[[Month]:[Multiple (England)]],MATCH('1. Input energy data'!$L23, Degrees15[Month], 1) + $H$2 - 1,MATCH(IF('1. Input energy data'!$G$11="Multiple (England)", '1. Input energy data'!$J23, '1. Input energy data'!$G$11),Degrees15[#Headers], 0))))} | I6: {=IF(OR(CalcTable[[#This Row],[Building]]=0, '1. Input energy data'!$S23=""), "",IF(OR('1. Input energy data'!$F23="Hospital",'1. Input energy data'!$F23="Nursing residential homes and hostels"),INDEX(Degrees18[[Month]:[Multiple (England)]],MATCH('1. Input energy data'!$L23, Degrees18[Month], 1) + $I$2 - 1,MATCH(IF('1. Input energy data'!$G$11="Multiple (England)", '1. Input energy data'!$J23, '1. Input energy data'!$G$11),Degrees18[#Headers], 0)),INDEX(Degrees15[[Month]:[Multiple (England)]],MATCH('1. Input energy data'!$L23, Degrees15[Month], 1) + $I$2 - 1,MATCH(IF('1. Input energy data'!$G$11="Multiple (England)", '1. Input energy data'!$J23, '1. Input energy data'!$G$11),Degrees15[#Headers], 0))))} | J6: {=IF(OR(CalcTable[[#This Row],[Building]]=0, '1. Input energy data'!$T23=""), "",IF(OR('1. Input energy data'!$F23="Hospital",'1. Input energy data'!$F23="Nursing residential homes and hostels"),INDEX(Degrees18[[Month]:[Multiple (England)]],MATCH('1. Input energy data'!$L23, Degrees18[Month], 1) + $J$2 - 1,MATCH(IF('1. Input energy data'!$G$11="Multiple (England)", '1. Input energy data'!$J23, '1. Input energy data'!$G$11),Degrees18[#Headers], 0)),INDEX(Degrees15[[Month]:[Multiple (England)]],MATCH('1. Input energy data'!$L23, Degrees15[Month], 1) + $J$2 - 1,MATCH(IF('1. Input energy data'!$G$11="Multiple (England)", '1. Input energy data'!$J23, '1. Input energy data'!$G$11),Degrees15[#Headers], 0))))} | K6: {=IF(OR(CalcTable[[#This Row],[Building]]=0, '1. Input energy data'!$U23=""), "",IF(OR('1. Input energy data'!$F23="Hospital",'1. Input energy data'!$F23="Nursing residential homes and hostels"),INDEX(Degrees18[[Month]:[Multiple (England)]],MATCH('1. Input energy data'!$L23, Degrees18[Month], 1) + $K$2 - 1,MATCH(IF('1. Input energy data'!$G$11="Multiple (England)", '1. Input energy data'!$J23, '1. Input energy data'!$G$11),Degrees18[#Headers], 0)),INDEX(Degrees15[[Month]:[Multiple (England)]],MATCH('1. Input energy data'!$L23, Degrees15[Month], 1) + $K$2 - 1,MATCH(IF('1. Input energy data'!$G$11="Multiple (England)", '1. Input energy data'!$J23, '1. Input energy data'!$G$11),Degrees15[#Headers], 0))))} | L6: {=IF(OR(CalcTable[[#This Row],[Building]]=0, '1. Input energy data'!$V23=""), "",IF(OR('1. Input energy data'!$F23="Hospital",'1. Input energy data'!$F23="Nursing residential homes and hostels"),INDEX(Degrees18[[Month]:[Multiple (England)]],MATCH('1. Input energy data'!$L23, Degrees18[Month], 1) + $L$2 - 1,MATCH(IF('1. Input energy data'!$G$11="Multiple (England)", '1. Input energy data'!$J23, '1. Input energy data'!$G$11),Degrees18[#Headers], 0)),INDEX(Degrees15[[Month]:[Multiple (England)]],MATCH('1. Input energy data'!$L23, Degrees15[Month], 1) + $L$2 - 1,MATCH(IF('1. Input energy data'!$G$11="Multiple (England)", '1. Input energy data'!$J23, '1. Input energy data'!$G$11),Degrees15[#Headers], 0))))} | M6: {=IF(OR(CalcTable[[#This Row],[Building]]=0, '1. Input energy data'!$W23=""), "",IF(OR('1. Input energy data'!$F23="Hospital",'1. Input energy data'!$F23="Nursing residential homes and hostels"),INDEX(Degrees18[[Month]:[Multiple (England)]],MATCH('1. Input energy data'!$L23, Degrees18[Month], 1) + $M$2 - 1,MATCH(IF('1. Input energy data'!$G$11="Multiple (England)", '1. Input energy data'!$J23, '1. Input energy data'!$G$11),Degrees18[#Headers], 0)),INDEX(Degrees15[[Month]:[Multiple (England)]],MATCH('1. Input energy data'!$L23, Degrees15[Month], 1) + $M$2 - 1,MATCH(IF('1. Input energy data'!$G$11="Multiple (England)", '1. Input energy data'!$J23, '1. Input energy data'!$G$11),Degrees15[#Headers], 0))))} | N6: {=IF(OR(CalcTable[[#This Row],[Building]]=0, '1. Input energy data'!$X23=""), "",IF(OR('1. Input energy data'!$F23="Hospital",'1. Input energy data'!$F23="Nursing residential homes and hostels"),INDEX(Degrees18[[Month]:[Multiple (England)]],MATCH('1. Input energy data'!$L23, Degrees18[Month], 1) + $N$2 - 1,MATCH(IF('1. Input energy data'!$G$11="Multiple (England)", '1. Input energy data'!$J23, '1. Input energy data'!$G$11),Degrees18[#Headers], 0)),INDEX(Degrees15[[Month]:[Multiple (England)]],MATCH('1. Input energy data'!$L23, Degrees15[Month], 1) + $N$2 - 1,MATCH(IF('1. Input energy data'!$G$11="Multiple (England)", '1. Input energy data'!$J23, '1. Input energy data'!$G$11),Degrees15[#Headers], 0))))} | O6: {=IF(OR(CalcTable[[#This Row],[Building]]=0, '1. Input energy data'!$Y23=""), "",IF(OR('1. Input energy data'!$F23="Hospital",'1. Input energy data'!$F23="Nursing residential homes and hostels"),INDEX(Degrees18[[Month]:[Multiple (England)]],MATCH('1. Input energy data'!$L23, Degrees18[Month], 1) + $O$2 - 1,MATCH(IF('1. Input energy data'!$G$11="Multiple (England)", '1. Input energy data'!$J23, '1. Input energy data'!$G$11),Degrees18[#Headers], 0)),INDEX(Degrees15[[Month]:[Multiple (England)]],MATCH('1. Input energy data'!$L23, Degrees15[Month], 1) + $O$2 - 1,MATCH(IF('1. Input energy data'!$G$11="Multiple (England)", '1. Input energy data'!$J23, '1. Input energy data'!$G$11),Degrees15[#Headers], 0))))} | P6: =IF(CalcTable[[#This Row],[Building]]=0,"",SLOPE('1. Input energy data'!N23:Y23,CalcTable[[#This Row],[1]:[12]])) | Q6: =IF(CalcTable[[#This Row],[Building]]=0,"",INTERCEPT('1. Input energy data'!N23:Y23,CalcTable[[#This Row],[1]:[12]])) | R6: =IF(CalcTable[[#This Row],[Building]]=0,"",RSQ('1. Input energy data'!N23:Y23,CalcTable[[#This Row],[1]:[12]])) | S6: {=IF(OR($A6=0, '1. Input energy data'!$AF23=""), "",IF(OR('1. Input energy data'!$F23="Hospital",'1. Input energy data'!$F23="Nursing residential homes and hostels"),INDEX(Degrees18[[Month]:[Multiple (England)]],MATCH('1. Input energy data'!$AD23, Degrees18[Month], 1)+S$2-13,MATCH(IF('1. Input energy data'!$G$11="Multiple (England)", '1. Input energy data'!$J23, '1. Input energy data'!$G$11),Degrees18[#Headers], 0)),INDEX(Degrees15[[Month]:[Multiple (England)]],MATCH('1. Input energy data'!$AD23, Degrees15[Month], 1)+S$2-13,MATCH(IF('1. Input energy data'!$G$11="Multiple (England)", '1. Input energy data'!$J23, '1. Input energy data'!$G$11),Degrees15[#Headers], 0))))} | T6: {=IF(OR($A6=0, '1. Input energy data'!$AG23=""), "",IF(OR('1. Input energy data'!$F23="Hospital",'1. Input energy data'!$F23="Nursing residential homes and hostels"),INDEX(Degrees18[[Month]:[Multiple (England)]],MATCH('1. Input energy data'!$AD23, Degrees18[Month], 1)+T$2-13,MATCH(IF('1. Input energy data'!$G$11="Multiple (England)", '1. Input energy data'!$J23, '1. Input energy data'!$G$11),Degrees18[#Headers], 0)),INDEX(Degrees15[[Month]:[Multiple (England)]],MATCH('1. Input energy data'!$AD23,Degrees15[Month], 1)+T$2-13,MATCH(IF('1. Input energy data'!$G$11="Multiple (England)", '1. Input energy data'!$J23, '1. Input energy data'!$G$11),Degrees15[#Headers], 0))))} | U6: {=IF(OR($A6=0, '1. Input energy data'!$AH23=""), "",IF(OR('1. Input energy data'!$F23="Hospital",'1. Input energy data'!$F23="Nursing residential homes and hostels"),INDEX(Degrees18[[Month]:[Multiple (England)]],MATCH('1. Input energy data'!$AD23, Degrees18[Month], 1)+U$2-13,MATCH(IF('1. Input energy data'!$G$11="Multiple (England)", '1. Input energy data'!$J23, '1. Input energy data'!$G$11),Degrees18[#Headers], 0)),INDEX(Degrees15[[Month]:[Multiple (England)]],MATCH('1. Input energy data'!$AD23,Degrees15[Month], 1)+U$2-13,MATCH(IF('1. Input energy data'!$G$11="Multiple (England)", '1. Input energy data'!$J23, '1. Input energy data'!$G$11),Degrees15[#Headers], 0))))} | V6: {=IF(OR($A6=0, '1. Input energy data'!$AI23=""), "",IF(OR('1. Input energy data'!$F23="Hospital",'1. Input energy data'!$F23="Nursing residential homes and hostels"),INDEX(Degrees18[[Month]:[Multiple (England)]],MATCH('1. Input energy data'!$AD23, Degrees18[Month], 1)+V$2-13,MATCH(IF('1. Input energy data'!$G$11="Multiple (England)", '1. Input energy data'!$J23, '1. Input energy data'!$G$11),Degrees18[#Headers], 0)),INDEX(Degrees15[[Month]:[Multiple (England)]],MATCH('1. Input energy data'!$AD23,Degrees15[Month], 1)+V$2-13,MATCH(IF('1. Input energy data'!$G$11="Multiple (England)", '1. Input energy data'!$J23, '1. Input energy data'!$G$11),Degrees15[#Headers], 0))))} | W6: {=IF(OR($A6=0, '1. Input energy data'!$AJ23=""), "",IF(OR('1. Input energy data'!$F23="Hospital",'1. Input energy data'!$F23="Nursing residential homes and hostels"),INDEX(Degrees18[[Month]:[Multiple (England)]],MATCH('1. Input energy data'!$AD23, Degrees18[Month], 1)+W$2-13,MATCH(IF('1. Input energy data'!$G$11="Multiple (England)", '1. Input energy data'!$J23, '1. Input energy data'!$G$11),Degrees18[#Headers], 0)),INDEX(Degrees15[[Month]:[Multiple (England)]],MATCH('1. Input energy data'!$AD23,Degrees15[Month], 1)+W$2-13,MATCH(IF('1. Input energy data'!$G$11="Multiple (England)", '1. Input energy data'!$J23, '1. Input energy data'!$G$11),Degrees15[#Headers], 0))))} | X6: {=IF(OR($A6=0, '1. Input energy data'!$AK23=""), "",IF(OR('1. Input energy data'!$F23="Hospital",'1. Input energy data'!$F23="Nursing residential homes and hostels"),INDEX(Degrees18[[Month]:[Multiple (England)]],MATCH('1. Input energy data'!$AD23, Degrees18[Month], 1)+X$2-13,MATCH(IF('1. Input energy data'!$G$11="Multiple (England)", '1. Input energy data'!$J23, '1. Input energy data'!$G$11),Degrees18[#Headers], 0)),INDEX(Degrees15[[Month]:[Multiple (England)]],MATCH('1. Input energy data'!$AD23,Degrees15[Month], 1)+X$2-13,MATCH(IF('1. Input energy data'!$G$11="Multiple (England)", '1. Input energy data'!$J23, '1. Input energy data'!$G$11),Degrees15[#Headers], 0))))} | Y6: {=IF(OR($A6=0, '1. Input energy data'!$AL23=""), "",IF(OR('1. Input energy data'!$F23="Hospital",'1. Input energy data'!$F23="Nursing residential homes and hostels"),INDEX(Degrees18[[Month]:[Multiple (England)]],MATCH('1. Input energy data'!$AD23, Degrees18[Month], 1)+Y$2-13,MATCH(IF('1. Input energy data'!$G$11="Multiple (England)", '1. Input energy data'!$J23, '1. Input energy data'!$G$11),Degrees18[#Headers], 0)),INDEX(Degrees15[[Month]:[Multiple (England)]],MATCH('1. Input energy data'!$AD23,Degrees15[Month], 1)+Y$2-13,MATCH(IF('1. Input energy data'!$G$11="Multiple (England)", '1. Input energy data'!$J23, '1. Input energy data'!$G$11),Degrees15[#Headers], 0))))} | Z6: {=IF(OR($A6=0, '1. Input energy data'!$AM23=""), "",IF(OR('1. Input energy data'!$F23="Hospital",'1. Input energy data'!$F23="Nursing residential homes and hostels"),INDEX(Degrees18[[Month]:[Multiple (England)]],MATCH('1. Input energy data'!$AD23, Degrees18[Month], 1)+Z$2-13,MATCH(IF('1. Input energy data'!$G$11="Multiple (England)", '1. Input energy data'!$J23, '1. Input energy data'!$G$11),Degrees18[#Headers], 0)),INDEX(Degrees15[[Month]:[Multiple (England)]],MATCH('1. Input energy data'!$AD23,Degrees15[Month], 1)+Z$2-13,MATCH(IF('1. Input energy data'!$G$11="Multiple (England)", '1. Input energy data'!$J23, '1. Input energy data'!$G$11),Degrees15[#Headers], 0))))} | AA6: {=IF(OR($A6=0, '1. Input energy data'!$AN23=""), "",IF(OR('1. Input energy data'!$F23="Hospital",'1. Input energy data'!$F23="Nursing residential homes and hostels"),INDEX(Degrees18[[Month]:[Multiple (England)]],MATCH('1. Input energy data'!$AD23, Degrees18[Month], 1)+AA$2-13,MATCH(IF('1. Input energy data'!$G$11="Multiple (England)", '1. Input energy data'!$J23, '1. Input energy data'!$G$11),Degrees18[#Headers], 0)),INDEX(Degrees15[[Month]:[Multiple (England)]],MATCH('1. Input energy data'!$AD23,Degrees15[Month], 1)+AA$2-13,MATCH(IF('1. Input energy data'!$G$11="Multiple (England)", '1. Input energy data'!$J23, '1. Input energy data'!$G$11),Degrees15[#Headers], 0))))} | AB6: {=IF(OR($A6=0, '1. Input energy data'!$AO23=""), "",IF(OR('1. Input energy data'!$F23="Hospital",'1. Input energy data'!$F23="Nursing residential homes and hostels"),INDEX(Degrees18[[Month]:[Multiple (England)]],MATCH('1. Input energy data'!$AD23, Degrees18[Month], 1)+AB$2-13,MATCH(IF('1. Input energy data'!$G$11="Multiple (England)", '1. Input energy data'!$J23, '1. Input energy data'!$G$11),Degrees18[#Headers], 0)),INDEX(Degrees15[[Month]:[Multiple (England)]],MATCH('1. Input energy data'!$AD23,Degrees15[Month], 1)+AB$2-13,MATCH(IF('1. Input energy data'!$G$11="Multiple (England)", '1. Input energy data'!$J23, '1. Input energy data'!$G$11),Degrees15[#Headers], 0))))} | AC6: {=IF(OR($A6=0, '1. Input energy data'!$AP23=""), "",IF(OR('1. Input energy data'!$F23="Hospital",'1. Input energy data'!$F23="Nursing residential homes and hostels"),INDEX(Degrees18[[Month]:[Multiple (England)]],MATCH('1. Input energy data'!$AD23, Degrees18[Month], 1)+AC$2-13,MATCH(IF('1. Input energy data'!$G$11="Multiple (England)", '1. Input energy data'!$J23, '1. Input energy data'!$G$11),Degrees18[#Headers], 0)),INDEX(Degrees15[[Month]:[Multiple (England)]],MATCH('1. Input energy data'!$AD23,Degrees15[Month], 1)+AC$2-13,MATCH(IF('1. Input energy data'!$G$11="Multiple (England)", '1. Input energy data'!$J23, '1. Input energy data'!$G$11),Degrees15[#Headers], 0))))} | AD6: {=IF(OR($A6=0, '1. Input energy data'!$AQ23=""), "",IF(OR('1. Input energy data'!$F23="Hospital",'1. Input energy data'!$F23="Nursing residential homes and hostels"),INDEX(Degrees18[[Month]:[Multiple (England)]],MATCH('1. Input energy data'!$AD23, Degrees18[Month], 1)+AD$2-13,MATCH(IF('1. Input energy data'!$G$11="Multiple (England)", '1. Input energy data'!$J23, '1. Input energy data'!$G$11),Degrees18[#Headers], 0)),INDEX(Degrees15[[Month]:[Multiple (England)]],MATCH('1. Input energy data'!$AD23,Degrees15[Month], 1)+AD$2-13,MATCH(IF('1. Input energy data'!$G$11="Multiple (England)", '1. Input energy data'!$J23, '1. Input energy data'!$G$11),Degrees15[#Headers], 0))))} | AE6: =IF(OR($A6=0, $P6="", CalcTable[[#This Row],[13]]="", $Q6="", '1. Input energy data'!AF23=""), "", ($P6*CalcTable[[#This Row],[13]]+$Q6)-'1. Input energy data'!AF23) | AF6: =IF(OR($A6=0, $P6="", CalcTable[[#This Row],[14]]="", $Q6="", '1. Input energy data'!AG23=""), "", ($P6*CalcTable[[#This Row],[14]]+$Q6)-'1. Input energy data'!AG23) | AG6: =IF(OR($A6=0, $P6="", CalcTable[[#This Row],[15]]="", $Q6="", '1. Input energy data'!AH23=""), "", ($P6*CalcTable[[#This Row],[15]]+$Q6)-'1. Input energy data'!AH23) | AH6: =IF(OR($A6=0, $P6="", CalcTable[[#This Row],[16]]="", $Q6="", '1. Input energy data'!AI23=""), "", ($P6*CalcTable[[#This Row],[16]]+$Q6)-'1. Input energy data'!AI23) | AI6: =IF(OR($A6=0, $P6="", CalcTable[[#This Row],[17]]="", $Q6="", '1. Input energy data'!AJ23=""), "", ($P6*CalcTable[[#This Row],[17]]+$Q6)-'1. Input energy data'!AJ23) | AJ6: =IF(OR($A6=0, $P6="", CalcTable[[#This Row],[18]]="", $Q6="", '1. Input energy data'!AK23=""), "", ($P6*CalcTable[[#This Row],[18]]+$Q6)-'1. Input energy data'!AK23) | AK6: =IF(OR($A6=0, $P6="", CalcTable[[#This Row],[19]]="", $Q6="", '1. Input energy data'!AL23=""), "", ($P6*CalcTable[[#This Row],[19]]+$Q6)-'1. Input energy data'!AL23) | AL6: =IF(OR($A6=0, $P6="", CalcTable[[#This Row],[20]]="", $Q6="", '1. Input energy data'!AM23=""), "", ($P6*CalcTable[[#This Row],[20]]+$Q6)-'1. Input energy data'!AM23) | AM6: =IF(OR($A6=0, $P6="", CalcTable[[#This Row],[21]]="", $Q6="", '1. Input energy data'!AN23=""), "", ($P6*CalcTable[[#This Row],[21]]+$Q6)-'1. Input energy data'!AN23) | AN6: =IF(OR($A6=0, $P6="", CalcTable[[#This Row],[22]]="", $Q6="", '1. Input energy data'!AO23=""), "", ($P6*CalcTable[[#This Row],[22]]+$Q6)-'1. Input energy data'!AO23) | AO6: =IF(OR($A6=0, $P6="", CalcTable[[#This Row],[23]]="", $Q6="", '1. Input energy data'!AP23=""), "", ($P6*CalcTable[[#This Row],[23]]+$Q6)-'1. Input energy data'!AP23) | AP6: =IF(OR($A6=0, $P6="", CalcTable[[#This Row],[24]]="", $Q6="", '1. Input energy data'!AQ23=""), "", ($P6*CalcTable[[#This Row],[24]]+$Q6)-'1. Input energy data'!AQ23) | AQ6: =IF(CalcTable[[#This Row],[Building]]=0,"",1-((1-CalcTable[[#This Row],[R2]])*(COUNT('1. Input energy data'!N23:Y23)-1)/(COUNT('1. Input energy data'!N23:Y23)-2))) | AR6: =IF(CalcTable[[#This Row],[Building]]=0,"",1.26*TINV(0.1,COUNT('1. Input energy data'!N23:Y23)-2)*STEYX('1. Input energy data'!N23:Y23,CalcTable[[#This Row],[1]:[12]])*((1+2/COUNT('1. Input energy data'!N23:Y23))*COUNT(CalcTable[[#This Row],[Month 1 avoided kWh]:[Month 12]]))^0.5) | AS6: =IF(CalcTable[[#This Row],[Building]]=0,"",ABS(CalcTable[[#This Row],[Absolute Uncertainty]]/SUM(CalcTable[[#This Row],[Month 1 avoided kWh]:[Month 12]]))) | AT6: =IF(CalcTable[[#This Row],[Building]]=0,"",COUNT('1. Input energy data'!N23:Y23)) | AU6: =IF(CalcTable[[#This Row],[Building]]=0,"",COUNT('1. Input energy data'!AF23:AQ23)) | AV6: {=_xlfn.IFS(CalcTable[[#This Row],[Building]]=0,"",AND(OR('1. Input energy data'!AT23="Energy Bills - Actual",'1. Input energy data'!AT23="Meter Readings",'1. Input energy data'!AT23="Half Hourly Data"),OR('1. Input energy data'!Z23="Energy Bills - Actual",'1. Input energy data'!Z23="Meter Readings",'1. Input energy data'!Z23="Half Hourly Data")),"ACTUAL",OR('1. Input energy data'!AT23="",'1. Input energy data'!Z23=""),"BLANK",OR('1. Input energy data'!AT23="Other (specify in commentary)",'1. Input energy data'!Z23="Other (specify in commentary)"),"OTHER",OR('1. Input energy data'!AT23="Energy Bills - Estimated",'1. Input energy data'!Z23="Energy Bills - Estimated"),"ESTIMATED",OR('1. Input energy data'!AT23="Energy Bills - Partially Estimated",'1. Input energy data'!Z23="Energy Bills - Partially Estimated"),"PARTIALLY ESTIMATED",TRUE,"BLANK")}
A7: ='1. Input energy data'!C24 -> 0 | B7: ='1. Input energy data'!F24 -> 0 | C7: ='1. Input energy data'!G24 -> 0 | D7: =IF(OR(CalcTable[[#This Row],[Building]]=0, '1. Input energy data'!$N24=""), "",IF(OR('1. Input energy data'!$F24="Hospital",'1. Input energy data'!$F24="Nursing residential homes and hostels"),INDEX(Degrees18[[Month]:[Multiple (England)]],MATCH('1. Input energy data'!$L24, Degrees18[Month], 1),MATCH(IF('1. Input energy data'!$G$11="Multiple (England)", '1. Input energy data'!$J24, '1. Input energy data'!$G$11), Degrees18[#Headers], 0)),INDEX(Degrees15[[Month]:[Multiple (England)]],MATCH('1. Input energy data'!$L24, Degrees15[Month], 1),MATCH(IF('1. Input energy data'!$G$11="Multiple (England)", '1. Input energy data'!$J24, '1. Input energy data'!$G$11), Degrees15[#Headers], 0)))) | E7: {=IF(OR(CalcTable[[#This Row],[Building]]=0, '1. Input energy data'!$O24=""), "",IF(OR('1. Input energy data'!$F24="Hospital",'1. Input energy data'!$F24="Nursing residential homes and hostels"),INDEX(Degrees18[[Month]:[Multiple (England)]],MATCH('1. Input energy data'!$L24, Degrees18[Month], 1) + $E$2 - 1,MATCH(IF('1. Input energy data'!$G$11="Multiple (England)", '1. Input energy data'!$J24, '1. Input energy data'!$G$11),Degrees18[#Headers], 0)),INDEX(Degrees15[[Month]:[Multiple (England)]],MATCH('1. Input energy data'!$L24, Degrees15[Month], 1) + $E$2 - 1,MATCH(IF('1. Input energy data'!$G$11="Multiple (England)", '1. Input energy data'!$J24, '1. Input energy data'!$G$11),Degrees15[#Headers], 0))))} | F7: {=IF(OR(CalcTable[[#This Row],[Building]]=0, '1. Input energy data'!$P24=""), "",IF(OR('1. Input energy data'!$F24="Hospital",'1. Input energy data'!$F24="Nursing residential homes and hostels"),INDEX(Degrees18[[Month]:[Multiple (England)]],MATCH('1. Input energy data'!$L24, Degrees18[Month], 1) + $F$2 - 1,MATCH(IF('1. Input energy data'!$G$11="Multiple (England)", '1. Input energy data'!$J24, '1. Input energy data'!$G$11),Degrees18[#Headers], 0)),INDEX(Degrees15[[Month]:[Multiple (England)]],MATCH('1. Input energy data'!$L24, Degrees15[Month], 1) + $F$2 - 1,MATCH(IF('1. Input energy data'!$G$11="Multiple (England)", '1. Input energy data'!$J24, '1. Input energy data'!$G$11),Degrees15[#Headers], 0))))} | G7: {=IF(OR(CalcTable[[#This Row],[Building]]=0, '1. Input energy data'!$Q24=""), "",IF(OR('1. Input energy data'!$F24="Hospital",'1. Input energy data'!$F24="Nursing residential homes and hostels"),INDEX(Degrees18[[Month]:[Multiple (England)]],MATCH('1. Input energy data'!$L24, Degrees18[Month], 1) + $G$2 - 1,MATCH(IF('1. Input energy data'!$G$11="Multiple (England)", '1. Input energy data'!$J24, '1. Input energy data'!$G$11),Degrees18[#Headers], 0)),INDEX(Degrees15[[Month]:[Multiple (England)]],MATCH('1. Input energy data'!$L24, Degrees15[Month], 1) + $G$2 - 1,MATCH(IF('1. Input energy data'!$G$11="Multiple (England)", '1. Input energy data'!$J24, '1. Input energy data'!$G$11),Degrees15[#Headers], 0))))} | H7: {=IF(OR(CalcTable[[#This Row],[Building]]=0, '1. Input energy data'!$R24=""), "",IF(OR('1. Input energy data'!$F24="Hospital",'1. Input energy data'!$F24="Nursing residential homes and hostels"),INDEX(Degrees18[[Month]:[Multiple (England)]],MATCH('1. Input energy data'!$L24, Degrees18[Month], 1) + $H$2 - 1,MATCH(IF('1. Input energy data'!$G$11="Multiple (England)", '1. Input energy data'!$J24, '1. Input energy data'!$G$11),Degrees18[#Headers], 0)),INDEX(Degrees15[[Month]:[Multiple (England)]],MATCH('1. Input energy data'!$L24, Degrees15[Month], 1) + $H$2 - 1,MATCH(IF('1. Input energy data'!$G$11="Multiple (England)", '1. Input energy data'!$J24, '1. Input energy data'!$G$11),Degrees15[#Headers], 0))))} | I7: {=IF(OR(CalcTable[[#This Row],[Building]]=0, '1. Input energy data'!$S24=""), "",IF(OR('1. Input energy data'!$F24="Hospital",'1. Input energy data'!$F24="Nursing residential homes and hostels"),INDEX(Degrees18[[Month]:[Multiple (England)]],MATCH('1. Input energy data'!$L24, Degrees18[Month], 1) + $I$2 - 1,MATCH(IF('1. Input energy data'!$G$11="Multiple (England)", '1. Input energy data'!$J24, '1. Input energy data'!$G$11),Degrees18[#Headers], 0)),INDEX(Degrees15[[Month]:[Multiple (England)]],MATCH('1. Input energy data'!$L24, Degrees15[Month], 1) + $I$2 - 1,MATCH(IF('1. Input energy data'!$G$11="Multiple (England)", '1. Input energy data'!$J24, '1. Input energy data'!$G$11),Degrees15[#Headers], 0))))} | J7: {=IF(OR(CalcTable[[#This Row],[Building]]=0, '1. Input energy data'!$T24=""), "",IF(OR('1. Input energy data'!$F24="Hospital",'1. Input energy data'!$F24="Nursing residential homes and hostels"),INDEX(Degrees18[[Month]:[Multiple (England)]],MATCH('1. Input energy data'!$L24, Degrees18[Month], 1) + $J$2 - 1,MATCH(IF('1. Input energy data'!$G$11="Multiple (England)", '1. Input energy data'!$J24, '1. Input energy data'!$G$11),Degrees18[#Headers], 0)),INDEX(Degrees15[[Month]:[Multiple (England)]],MATCH('1. Input energy data'!$L24, Degrees15[Month], 1) + $J$2 - 1,MATCH(IF('1. Input energy data'!$G$11="Multiple (England)", '1. Input energy data'!$J24, '1. Input energy data'!$G$11),Degrees15[#Headers], 0))))} | K7: {=IF(OR(CalcTable[[#This Row],[Building]]=0, '1. Input energy data'!$U24=""), "",IF(OR('1. Input energy data'!$F24="Hospital",'1. Input energy data'!$F24="Nursing residential homes and hostels"),INDEX(Degrees18[[Month]:[Multiple (England)]],MATCH('1. Input energy data'!$L24, Degrees18[Month], 1) + $K$2 - 1,MATCH(IF('1. Input energy data'!$G$11="Multiple (England)", '1. Input energy data'!$J24, '1. Input energy data'!$G$11),Degrees18[#Headers], 0)),INDEX(Degrees15[[Month]:[Multiple (England)]],MATCH('1. Input energy data'!$L24, Degrees15[Month], 1) + $K$2 - 1,MATCH(IF('1. Input energy data'!$G$11="Multiple (England)", '1. Input energy data'!$J24, '1. Input energy data'!$G$11),Degrees15[#Headers], 0))))} | L7: {=IF(OR(CalcTable[[#This Row],[Building]]=0, '1. Input energy data'!$V24=""), "",IF(OR('1. Input energy data'!$F24="Hospital",'1. Input energy data'!$F24="Nursing residential homes and hostels"),INDEX(Degrees18[[Month]:[Multiple (England)]],MATCH('1. Input energy data'!$L24, Degrees18[Month], 1) + $L$2 - 1,MATCH(IF('1. Input energy data'!$G$11="Multiple (England)", '1. Input energy data'!$J24, '1. Input energy data'!$G$11),Degrees18[#Headers], 0)),INDEX(Degrees15[[Month]:[Multiple (England)]],MATCH('1. Input energy data'!$L24, Degrees15[Month], 1) + $L$2 - 1,MATCH(IF('1. Input energy data'!$G$11="Multiple (England)", '1. Input energy data'!$J24, '1. Input energy data'!$G$11),Degrees15[#Headers], 0))))} | M7: {=IF(OR(CalcTable[[#This Row],[Building]]=0, '1. Input energy data'!$W24=""), "",IF(OR('1. Input energy data'!$F24="Hospital",'1. Input energy data'!$F24="Nursing residential homes and hostels"),INDEX(Degrees18[[Month]:[Multiple (England)]],MATCH('1. Input energy data'!$L24, Degrees18[Month], 1) + $M$2 - 1,MATCH(IF('1. Input energy data'!$G$11="Multiple (England)", '1. Input energy data'!$J24, '1. Input energy data'!$G$11),Degrees18[#Headers], 0)),INDEX(Degrees15[[Month]:[Multiple (England)]],MATCH('1. Input energy data'!$L24, Degrees15[Month], 1) + $M$2 - 1,MATCH(IF('1. Input energy data'!$G$11="Multiple (England)", '1. Input energy data'!$J24, '1. Input energy data'!$G$11),Degrees15[#Headers], 0))))} | N7: {=IF(OR(CalcTable[[#This Row],[Building]]=0, '1. Input energy data'!$X24=""), "",IF(OR('1. Input energy data'!$F24="Hospital",'1. Input energy data'!$F24="Nursing residential homes and hostels"),INDEX(Degrees18[[Month]:[Multiple (England)]],MATCH('1. Input energy data'!$L24, Degrees18[Month], 1) + $N$2 - 1,MATCH(IF('1. Input energy data'!$G$11="Multiple (England)", '1. Input energy data'!$J24, '1. Input energy data'!$G$11),Degrees18[#Headers], 0)),INDEX(Degrees15[[Month]:[Multiple (England)]],MATCH('1. Input energy data'!$L24, Degrees15[Month], 1) + $N$2 - 1,MATCH(IF('1. Input energy data'!$G$11="Multiple (England)", '1. Input energy data'!$J24, '1. Input energy data'!$G$11),Degrees15[#Headers], 0))))} | O7: {=IF(OR(CalcTable[[#This Row],[Building]]=0, '1. Input energy data'!$Y24=""), "",IF(OR('1. Input energy data'!$F24="Hospital",'1. Input energy data'!$F24="Nursing residential homes and hostels"),INDEX(Degrees18[[Month]:[Multiple (England)]],MATCH('1. Input energy data'!$L24, Degrees18[Month], 1) + $O$2 - 1,MATCH(IF('1. Input energy data'!$G$11="Multiple (England)", '1. Input energy data'!$J24, '1. Input energy data'!$G$11),Degrees18[#Headers], 0)),INDEX(Degrees15[[Month]:[Multiple (England)]],MATCH('1. Input energy data'!$L24, Degrees15[Month], 1) + $O$2 - 1,MATCH(IF('1. Input energy data'!$G$11="Multiple (England)", '1. Input energy data'!$J24, '1. Input energy data'!$G$11),Degrees15[#Headers], 0))))} | P7: =IF(CalcTable[[#This Row],[Building]]=0,"",SLOPE('1. Input energy data'!N24:Y24,CalcTable[[#This Row],[1]:[12]])) | Q7: =IF(CalcTable[[#This Row],[Building]]=0,"",INTERCEPT('1. Input energy data'!N24:Y24,CalcTable[[#This Row],[1]:[12]])) | R7: =IF(CalcTable[[#This Row],[Building]]=0,"",RSQ('1. Input energy data'!N24:Y24,CalcTable[[#This Row],[1]:[12]])) | S7: {=IF(OR($A7=0, '1. Input energy data'!$AF24=""), "",IF(OR('1. Input energy data'!$F24="Hospital",'1. Input energy data'!$F24="Nursing residential homes and hostels"),INDEX(Degrees18[[Month]:[Multiple (England)]],MATCH('1. Input energy data'!$AD24, Degrees18[Month], 1)+S$2-13,MATCH(IF('1. Input energy data'!$G$11="Multiple (England)", '1. Input energy data'!$J24, '1. Input energy data'!$G$11),Degrees18[#Headers], 0)),INDEX(Degrees15[[Month]:[Multiple (England)]],MATCH('1. Input energy data'!$AD24, Degrees15[Month], 1)+S$2-13,MATCH(IF('1. Input energy data'!$G$11="Multiple (England)", '1. Input energy data'!$J24, '1. Input energy data'!$G$11),Degrees15[#Headers], 0))))} | T7: {=IF(OR($A7=0, '1. Input energy data'!$AG24=""), "",IF(OR('1. Input energy data'!$F24="Hospital",'1. Input energy data'!$F24="Nursing residential homes and hostels"),INDEX(Degrees18[[Month]:[Multiple (England)]],MATCH('1. Input energy data'!$AD24, Degrees18[Month], 1)+T$2-13,MATCH(IF('1. Input energy data'!$G$11="Multiple (England)", '1. Input energy data'!$J24, '1. Input energy data'!$G$11),Degrees18[#Headers], 0)),INDEX(Degrees15[[Month]:[Multiple (England)]],MATCH('1. Input energy data'!$AD24,Degrees15[Month], 1)+T$2-13,MATCH(IF('1. Input energy data'!$G$11="Multiple (England)", '1. Input energy data'!$J24, '1. Input energy data'!$G$11),Degrees15[#Headers], 0))))} | U7: {=IF(OR($A7=0, '1. Input energy data'!$AH24=""), "",IF(OR('1. Input energy data'!$F24="Hospital",'1. Input energy data'!$F24="Nursing residential homes and hostels"),INDEX(Degrees18[[Month]:[Multiple (England)]],MATCH('1. Input energy data'!$AD24, Degrees18[Month], 1)+U$2-13,MATCH(IF('1. Input energy data'!$G$11="Multiple (England)", '1. Input energy data'!$J24, '1. Input energy data'!$G$11),Degrees18[#Headers], 0)),INDEX(Degrees15[[Month]:[Multiple (England)]],MATCH('1. Input energy data'!$AD24,Degrees15[Month], 1)+U$2-13,MATCH(IF('1. Input energy data'!$G$11="Multiple (England)", '1. Input energy data'!$J24, '1. Input energy data'!$G$11),Degrees15[#Headers], 0))))} | V7: {=IF(OR($A7=0, '1. Input energy data'!$AI24=""), "",IF(OR('1. Input energy data'!$F24="Hospital",'1. Input energy data'!$F24="Nursing residential homes and hostels"),INDEX(Degrees18[[Month]:[Multiple (England)]],MATCH('1. Input energy data'!$AD24, Degrees18[Month], 1)+V$2-13,MATCH(IF('1. Input energy data'!$G$11="Multiple (England)", '1. Input energy data'!$J24, '1. Input energy data'!$G$11),Degrees18[#Headers], 0)),INDEX(Degrees15[[Month]:[Multiple (England)]],MATCH('1. Input energy data'!$AD24,Degrees15[Month], 1)+V$2-13,MATCH(IF('1. Input energy data'!$G$11="Multiple (England)", '1. Input energy data'!$J24, '1. Input energy data'!$G$11),Degrees15[#Headers], 0))))} | W7: {=IF(OR($A7=0, '1. Input energy data'!$AJ24=""), "",IF(OR('1. Input energy data'!$F24="Hospital",'1. Input energy data'!$F24="Nursing residential homes and hostels"),INDEX(Degrees18[[Month]:[Multiple (England)]],MATCH('1. Input energy data'!$AD24, Degrees18[Month], 1)+W$2-13,MATCH(IF('1. Input energy data'!$G$11="Multiple (England)", '1. Input energy data'!$J24, '1. Input energy data'!$G$11),Degrees18[#Headers], 0)),INDEX(Degrees15[[Month]:[Multiple (England)]],MATCH('1. Input energy data'!$AD24,Degrees15[Month], 1)+W$2-13,MATCH(IF('1. Input energy data'!$G$11="Multiple (England)", '1. Input energy data'!$J24, '1. Input energy data'!$G$11),Degrees15[#Headers], 0))))} | X7: {=IF(OR($A7=0, '1. Input energy data'!$AK24=""), "",IF(OR('1. Input energy data'!$F24="Hospital",'1. Input energy data'!$F24="Nursing residential homes and hostels"),INDEX(Degrees18[[Month]:[Multiple (England)]],MATCH('1. Input energy data'!$AD24, Degrees18[Month], 1)+X$2-13,MATCH(IF('1. Input energy data'!$G$11="Multiple (England)", '1. Input energy data'!$J24, '1. Input energy data'!$G$11),Degrees18[#Headers], 0)),INDEX(Degrees15[[Month]:[Multiple (England)]],MATCH('1. Input energy data'!$AD24,Degrees15[Month], 1)+X$2-13,MATCH(IF('1. Input energy data'!$G$11="Multiple (England)", '1. Input energy data'!$J24, '1. Input energy data'!$G$11),Degrees15[#Headers], 0))))} | Y7: {=IF(OR($A7=0, '1. Input energy data'!$AL24=""), "",IF(OR('1. Input energy data'!$F24="Hospital",'1. Input energy data'!$F24="Nursing residential homes and hostels"),INDEX(Degrees18[[Month]:[Multiple (England)]],MATCH('1. Input energy data'!$AD24, Degrees18[Month], 1)+Y$2-13,MATCH(IF('1. Input energy data'!$G$11="Multiple (England)", '1. Input energy data'!$J24, '1. Input energy data'!$G$11),Degrees18[#Headers], 0)),INDEX(Degrees15[[Month]:[Multiple (England)]],MATCH('1. Input energy data'!$AD24,Degrees15[Month], 1)+Y$2-13,MATCH(IF('1. Input energy data'!$G$11="Multiple (England)", '1. Input energy data'!$J24, '1. Input energy data'!$G$11),Degrees15[#Headers], 0))))} | Z7: {=IF(OR($A7=0, '1. Input energy data'!$AM24=""), "",IF(OR('1. Input energy data'!$F24="Hospital",'1. Input energy data'!$F24="Nursing residential homes and hostels"),INDEX(Degrees18[[Month]:[Multiple (England)]],MATCH('1. Input energy data'!$AD24, Degrees18[Month], 1)+Z$2-13,MATCH(IF('1. Input energy data'!$G$11="Multiple (England)", '1. Input energy data'!$J24, '1. Input energy data'!$G$11),Degrees18[#Headers], 0)),INDEX(Degrees15[[Month]:[Multiple (England)]],MATCH('1. Input energy data'!$AD24,Degrees15[Month], 1)+Z$2-13,MATCH(IF('1. Input energy data'!$G$11="Multiple (England)", '1. Input energy data'!$J24, '1. Input energy data'!$G$11),Degrees15[#Headers], 0))))} | AA7: {=IF(OR($A7=0, '1. Input energy data'!$AN24=""), "",IF(OR('1. Input energy data'!$F24="Hospital",'1. Input energy data'!$F24="Nursing residential homes and hostels"),INDEX(Degrees18[[Month]:[Multiple (England)]],MATCH('1. Input energy data'!$AD24, Degrees18[Month], 1)+AA$2-13,MATCH(IF('1. Input energy data'!$G$11="Multiple (England)", '1. Input energy data'!$J24, '1. Input energy data'!$G$11),Degrees18[#Headers], 0)),INDEX(Degrees15[[Month]:[Multiple (England)]],MATCH('1. Input energy data'!$AD24,Degrees15[Month], 1)+AA$2-13,MATCH(IF('1. Input energy data'!$G$11="Multiple (England)", '1. Input energy data'!$J24, '1. Input energy data'!$G$11),Degrees15[#Headers], 0))))} | AB7: {=IF(OR($A7=0, '1. Input energy data'!$AO24=""), "",IF(OR('1. Input energy data'!$F24="Hospital",'1. Input energy data'!$F24="Nursing residential homes and hostels"),INDEX(Degrees18[[Month]:[Multiple (England)]],MATCH('1. Input energy data'!$AD24, Degrees18[Month], 1)+AB$2-13,MATCH(IF('1. Input energy data'!$G$11="Multiple (England)", '1. Input energy data'!$J24, '1. Input energy data'!$G$11),Degrees18[#Headers], 0)),INDEX(Degrees15[[Month]:[Multiple (England)]],MATCH('1. Input energy data'!$AD24,Degrees15[Month], 1)+AB$2-13,MATCH(IF('1. Input energy data'!$G$11="Multiple (England)", '1. Input energy data'!$J24, '1. Input energy data'!$G$11),Degrees15[#Headers], 0))))} | AC7: {=IF(OR($A7=0, '1. Input energy data'!$AP24=""), "",IF(OR('1. Input energy data'!$F24="Hospital",'1. Input energy data'!$F24="Nursing residential homes and hostels"),INDEX(Degrees18[[Month]:[Multiple (England)]],MATCH('1. Input energy data'!$AD24, Degrees18[Month], 1)+AC$2-13,MATCH(IF('1. Input energy data'!$G$11="Multiple (England)", '1. Input energy data'!$J24, '1. Input energy data'!$G$11),Degrees18[#Headers], 0)),INDEX(Degrees15[[Month]:[Multiple (England)]],MATCH('1. Input energy data'!$AD24,Degrees15[Month], 1)+AC$2-13,MATCH(IF('1. Input energy data'!$G$11="Multiple (England)", '1. Input energy data'!$J24, '1. Input energy data'!$G$11),Degrees15[#Headers], 0))))} | AD7: {=IF(OR($A7=0, '1. Input energy data'!$AQ24=""), "",IF(OR('1. Input energy data'!$F24="Hospital",'1. Input energy data'!$F24="Nursing residential homes and hostels"),INDEX(Degrees18[[Month]:[Multiple (England)]],MATCH('1. Input energy data'!$AD24, Degrees18[Month], 1)+AD$2-13,MATCH(IF('1. Input energy data'!$G$11="Multiple (England)", '1. Input energy data'!$J24, '1. Input energy data'!$G$11),Degrees18[#Headers], 0)),INDEX(Degrees15[[Month]:[Multiple (England)]],MATCH('1. Input energy data'!$AD24,Degrees15[Month], 1)+AD$2-13,MATCH(IF('1. Input energy data'!$G$11="Multiple (England)", '1. Input energy data'!$J24, '1. Input energy data'!$G$11),Degrees15[#Headers], 0))))} | AE7: =IF(OR($A7=0, $P7="", CalcTable[[#This Row],[13]]="", $Q7="", '1. Input energy data'!AF24=""), "", ($P7*CalcTable[[#This Row],[13]]+$Q7)-'1. Input energy data'!AF24) | AF7: =IF(OR($A7=0, $P7="", CalcTable[[#This Row],[14]]="", $Q7="", '1. Input energy data'!AG24=""), "", ($P7*CalcTable[[#This Row],[14]]+$Q7)-'1. Input energy data'!AG24) | AG7: =IF(OR($A7=0, $P7="", CalcTable[[#This Row],[15]]="", $Q7="", '1. Input energy data'!AH24=""), "", ($P7*CalcTable[[#This Row],[15]]+$Q7)-'1. Input energy data'!AH24) | AH7: =IF(OR($A7=0, $P7="", CalcTable[[#This Row],[16]]="", $Q7="", '1. Input energy data'!AI24=""), "", ($P7*CalcTable[[#This Row],[16]]+$Q7)-'1. Input energy data'!AI24) | AI7: =IF(OR($A7=0, $P7="", CalcTable[[#This Row],[17]]="", $Q7="", '1. Input energy data'!AJ24=""), "", ($P7*CalcTable[[#This Row],[17]]+$Q7)-'1. Input energy data'!AJ24) | AJ7: =IF(OR($A7=0, $P7="", CalcTable[[#This Row],[18]]="", $Q7="", '1. Input energy data'!AK24=""), "", ($P7*CalcTable[[#This Row],[18]]+$Q7)-'1. Input energy data'!AK24) | AK7: =IF(OR($A7=0, $P7="", CalcTable[[#This Row],[19]]="", $Q7="", '1. Input energy data'!AL24=""), "", ($P7*CalcTable[[#This Row],[19]]+$Q7)-'1. Input energy data'!AL24) | AL7: =IF(OR($A7=0, $P7="", CalcTable[[#This Row],[20]]="", $Q7="", '1. Input energy data'!AM24=""), "", ($P7*CalcTable[[#This Row],[20]]+$Q7)-'1. Input energy data'!AM24) | AM7: =IF(OR($A7=0, $P7="", CalcTable[[#This Row],[21]]="", $Q7="", '1. Input energy data'!AN24=""), "", ($P7*CalcTable[[#This Row],[21]]+$Q7)-'1. Input energy data'!AN24) | AN7: =IF(OR($A7=0, $P7="", CalcTable[[#This Row],[22]]="", $Q7="", '1. Input energy data'!AO24=""), "", ($P7*CalcTable[[#This Row],[22]]+$Q7)-'1. Input energy data'!AO24) | AO7: =IF(OR($A7=0, $P7="", CalcTable[[#This Row],[23]]="", $Q7="", '1. Input energy data'!AP24=""), "", ($P7*CalcTable[[#This Row],[23]]+$Q7)-'1. Input energy data'!AP24) | AP7: =IF(OR($A7=0, $P7="", CalcTable[[#This Row],[24]]="", $Q7="", '1. Input energy data'!AQ24=""), "", ($P7*CalcTable[[#This Row],[24]]+$Q7)-'1. Input energy data'!AQ24) | AQ7: =IF(CalcTable[[#This Row],[Building]]=0,"",1-((1-CalcTable[[#This Row],[R2]])*(COUNT('1. Input energy data'!N24:Y24)-1)/(COUNT('1. Input energy data'!N24:Y24)-2))) | AR7: =IF(CalcTable[[#This Row],[Building]]=0,"",1.26*TINV(0.1,COUNT('1. Input energy data'!N24:Y24)-2)*STEYX('1. Input energy data'!N24:Y24,CalcTable[[#This Row],[1]:[12]])*((1+2/COUNT('1. Input energy data'!N24:Y24))*COUNT(CalcTable[[#This Row],[Month 1 avoided kWh]:[Month 12]]))^0.5) | AS7: =IF(CalcTable[[#This Row],[Building]]=0,"",ABS(CalcTable[[#This Row],[Absolute Uncertainty]]/SUM(CalcTable[[#This Row],[Month 1 avoided kWh]:[Month 12]]))) | AT7: =IF(CalcTable[[#This Row],[Building]]=0,"",COUNT('1. Input energy data'!N24:Y24)) | AU7: =IF(CalcTable[[#This Row],[Building]]=0,"",COUNT('1. Input energy data'!AF24:AQ24)) | AV7: {=_xlfn.IFS(CalcTable[[#This Row],[Building]]=0,"",AND(OR('1. Input energy data'!AT24="Energy Bills - Actual",'1. Input energy data'!AT24="Meter Readings",'1. Input energy data'!AT24="Half Hourly Data"),OR('1. Input energy data'!Z24="Energy Bills - Actual",'1. Input energy data'!Z24="Meter Readings",'1. Input energy data'!Z24="Half Hourly Data")),"ACTUAL",OR('1. Input energy data'!AT24="",'1. Input energy data'!Z24=""),"BLANK",OR('1. Input energy data'!AT24="Other (specify in commentary)",'1. Input energy data'!Z24="Other (specify in commentary)"),"OTHER",OR('1. Input energy data'!AT24="Energy Bills - Estimated",'1. Input energy data'!Z24="Energy Bills - Estimated"),"ESTIMATED",OR('1. Input energy data'!AT24="Energy Bills - Partially Estimated",'1. Input energy data'!Z24="Energy Bills - Partially Estimated"),"PARTIALLY ESTIMATED",TRUE,"BLANK")}
A8: ='1. Input energy data'!C25 -> 0 | B8: ='1. Input energy data'!F25 -> 0 | C8: ='1. Input energy data'!G25 -> 0 | D8: =IF(OR(CalcTable[[#This Row],[Building]]=0, '1. Input energy data'!$N25=""), "",IF(OR('1. Input energy data'!$F25="Hospital",'1. Input energy data'!$F25="Nursing residential homes and hostels"),INDEX(Degrees18[[Month]:[Multiple (England)]],MATCH('1. Input energy data'!$L25, Degrees18[Month], 1),MATCH(IF('1. Input energy data'!$G$11="Multiple (England)", '1. Input energy data'!$J25, '1. Input energy data'!$G$11), Degrees18[#Headers], 0)),INDEX(Degrees15[[Month]:[Multiple (England)]],MATCH('1. Input energy data'!$L25, Degrees15[Month], 1),MATCH(IF('1. Input energy data'!$G$11="Multiple (England)", '1. Input energy data'!$J25, '1. Input energy data'!$G$11), Degrees15[#Headers], 0)))) | E8: {=IF(OR(CalcTable[[#This Row],[Building]]=0, '1. Input energy data'!$O25=""), "",IF(OR('1. Input energy data'!$F25="Hospital",'1. Input energy data'!$F25="Nursing residential homes and hostels"),INDEX(Degrees18[[Month]:[Multiple (England)]],MATCH('1. Input energy data'!$L25, Degrees18[Month], 1) + $E$2 - 1,MATCH(IF('1. Input energy data'!$G$11="Multiple (England)", '1. Input energy data'!$J25, '1. Input energy data'!$G$11),Degrees18[#Headers], 0)),INDEX(Degrees15[[Month]:[Multiple (England)]],MATCH('1. Input energy data'!$L25, Degrees15[Month], 1) + $E$2 - 1,MATCH(IF('1. Input energy data'!$G$11="Multiple (England)", '1. Input energy data'!$J25, '1. Input energy data'!$G$11),Degrees15[#Headers], 0))))} | F8: {=IF(OR(CalcTable[[#This Row],[Building]]=0, '1. Input energy data'!$P25=""), "",IF(OR('1. Input energy data'!$F25="Hospital",'1. Input energy data'!$F25="Nursing residential homes and hostels"),INDEX(Degrees18[[Month]:[Multiple (England)]],MATCH('1. Input energy data'!$L25, Degrees18[Month], 1) + $F$2 - 1,MATCH(IF('1. Input energy data'!$G$11="Multiple (England)", '1. Input energy data'!$J25, '1. Input energy data'!$G$11),Degrees18[#Headers], 0)),INDEX(Degrees15[[Month]:[Multiple (England)]],MATCH('1. Input energy data'!$L25, Degrees15[Month], 1) + $F$2 - 1,MATCH(IF('1. Input energy data'!$G$11="Multiple (England)", '1. Input energy data'!$J25, '1. Input energy data'!$G$11),Degrees15[#Headers], 0))))} | G8: {=IF(OR(CalcTable[[#This Row],[Building]]=0, '1. Input energy data'!$Q25=""), "",IF(OR('1. Input energy data'!$F25="Hospital",'1. Input energy data'!$F25="Nursing residential homes and hostels"),INDEX(Degrees18[[Month]:[Multiple (England)]],MATCH('1. Input energy data'!$L25, Degrees18[Month], 1) + $G$2 - 1,MATCH(IF('1. Input energy data'!$G$11="Multiple (England)", '1. Input energy data'!$J25, '1. Input energy data'!$G$11),Degrees18[#Headers], 0)),INDEX(Degrees15[[Month]:[Multiple (England)]],MATCH('1. Input energy data'!$L25, Degrees15[Month], 1) + $G$2 - 1,MATCH(IF('1. Input energy data'!$G$11="Multiple (England)", '1. Input energy data'!$J25, '1. Input energy data'!$G$11),Degrees15[#Headers], 0))))} | H8: {=IF(OR(CalcTable[[#This Row],[Building]]=0, '1. Input energy data'!$R25=""), "",IF(OR('1. Input energy data'!$F25="Hospital",'1. Input energy data'!$F25="Nursing residential homes and hostels"),INDEX(Degrees18[[Month]:[Multiple (England)]],MATCH('1. Input energy data'!$L25, Degrees18[Month], 1) + $H$2 - 1,MATCH(IF('1. Input energy data'!$G$11="Multiple (England)", '1. Input energy data'!$J25, '1. Input energy data'!$G$11),Degrees18[#Headers], 0)),INDEX(Degrees15[[Month]:[Multiple (England)]],MATCH('1. Input energy data'!$L25, Degrees15[Month], 1) + $H$2 - 1,MATCH(IF('1. Input energy data'!$G$11="Multiple (England)", '1. Input energy data'!$J25, '1. Input energy data'!$G$11),Degrees15[#Headers], 0))))} | I8: {=IF(OR(CalcTable[[#This Row],[Building]]=0, '1. Input energy data'!$S25=""), "",IF(OR('1. Input energy data'!$F25="Hospital",'1. Input energy data'!$F25="Nursing residential homes and hostels"),INDEX(Degrees18[[Month]:[Multiple (England)]],MATCH('1. Input energy data'!$L25, Degrees18[Month], 1) + $I$2 - 1,MATCH(IF('1. Input energy data'!$G$11="Multiple (England)", '1. Input energy data'!$J25, '1. Input energy data'!$G$11),Degrees18[#Headers], 0)),INDEX(Degrees15[[Month]:[Multiple (England)]],MATCH('1. Input energy data'!$L25, Degrees15[Month], 1) + $I$2 - 1,MATCH(IF('1. Input energy data'!$G$11="Multiple (England)", '1. Input energy data'!$J25, '1. Input energy data'!$G$11),Degrees15[#Headers], 0))))} | J8: {=IF(OR(CalcTable[[#This Row],[Building]]=0, '1. Input energy data'!$T25=""), "",IF(OR('1. Input energy data'!$F25="Hospital",'1. Input energy data'!$F25="Nursing residential homes and hostels"),INDEX(Degrees18[[Month]:[Multiple (England)]],MATCH('1. Input energy data'!$L25, Degrees18[Month], 1) + $J$2 - 1,MATCH(IF('1. Input energy data'!$G$11="Multiple (England)", '1. Input energy data'!$J25, '1. Input energy data'!$G$11),Degrees18[#Headers], 0)),INDEX(Degrees15[[Month]:[Multiple (England)]],MATCH('1. Input energy data'!$L25, Degrees15[Month], 1) + $J$2 - 1,MATCH(IF('1. Input energy data'!$G$11="Multiple (England)", '1. Input energy data'!$J25, '1. Input energy data'!$G$11),Degrees15[#Headers], 0))))} | K8: {=IF(OR(CalcTable[[#This Row],[Building]]=0, '1. Input energy data'!$U25=""), "",IF(OR('1. Input energy data'!$F25="Hospital",'1. Input energy data'!$F25="Nursing residential homes and hostels"),INDEX(Degrees18[[Month]:[Multiple (England)]],MATCH('1. Input energy data'!$L25, Degrees18[Month], 1) + $K$2 - 1,MATCH(IF('1. Input energy data'!$G$11="Multiple (England)", '1. Input energy data'!$J25, '1. Input energy data'!$G$11),Degrees18[#Headers], 0)),INDEX(Degrees15[[Month]:[Multiple (England)]],MATCH('1. Input energy data'!$L25, Degrees15[Month], 1) + $K$2 - 1,MATCH(IF('1. Input energy data'!$G$11="Multiple (England)", '1. Input energy data'!$J25, '1. Input energy data'!$G$11),Degrees15[#Headers], 0))))} | L8: {=IF(OR(CalcTable[[#This Row],[Building]]=0, '1. Input energy data'!$V25=""), "",IF(OR('1. Input energy data'!$F25="Hospital",'1. Input energy data'!$F25="Nursing residential homes and hostels"),INDEX(Degrees18[[Month]:[Multiple (England)]],MATCH('1. Input energy data'!$L25, Degrees18[Month], 1) + $L$2 - 1,MATCH(IF('1. Input energy data'!$G$11="Multiple (England)", '1. Input energy data'!$J25, '1. Input energy data'!$G$11),Degrees18[#Headers], 0)),INDEX(Degrees15[[Month]:[Multiple (England)]],MATCH('1. Input energy data'!$L25, Degrees15[Month], 1) + $L$2 - 1,MATCH(IF('1. Input energy data'!$G$11="Multiple (England)", '1. Input energy data'!$J25, '1. Input energy data'!$G$11),Degrees15[#Headers], 0))))} | M8: {=IF(OR(CalcTable[[#This Row],[Building]]=0, '1. Input energy data'!$W25=""), "",IF(OR('1. Input energy data'!$F25="Hospital",'1. Input energy data'!$F25="Nursing residential homes and hostels"),INDEX(Degrees18[[Month]:[Multiple (England)]],MATCH('1. Input energy data'!$L25, Degrees18[Month], 1) + $M$2 - 1,MATCH(IF('1. Input energy data'!$G$11="Multiple (England)", '1. Input energy data'!$J25, '1. Input energy data'!$G$11),Degrees18[#Headers], 0)),INDEX(Degrees15[[Month]:[Multiple (England)]],MATCH('1. Input energy data'!$L25, Degrees15[Month], 1) + $M$2 - 1,MATCH(IF('1. Input energy data'!$G$11="Multiple (England)", '1. Input energy data'!$J25, '1. Input energy data'!$G$11),Degrees15[#Headers], 0))))} | N8: {=IF(OR(CalcTable[[#This Row],[Building]]=0, '1. Input energy data'!$X25=""), "",IF(OR('1. Input energy data'!$F25="Hospital",'1. Input energy data'!$F25="Nursing residential homes and hostels"),INDEX(Degrees18[[Month]:[Multiple (England)]],MATCH('1. Input energy data'!$L25, Degrees18[Month], 1) + $N$2 - 1,MATCH(IF('1. Input energy data'!$G$11="Multiple (England)", '1. Input energy data'!$J25, '1. Input energy data'!$G$11),Degrees18[#Headers], 0)),INDEX(Degrees15[[Month]:[Multiple (England)]],MATCH('1. Input energy data'!$L25, Degrees15[Month], 1) + $N$2 - 1,MATCH(IF('1. Input energy data'!$G$11="Multiple (England)", '1. Input energy data'!$J25, '1. Input energy data'!$G$11),Degrees15[#Headers], 0))))} | O8: {=IF(OR(CalcTable[[#This Row],[Building]]=0, '1. Input energy data'!$Y25=""), "",IF(OR('1. Input energy data'!$F25="Hospital",'1. Input energy data'!$F25="Nursing residential homes and hostels"),INDEX(Degrees18[[Month]:[Multiple (England)]],MATCH('1. Input energy data'!$L25, Degrees18[Month], 1) + $O$2 - 1,MATCH(IF('1. Input energy data'!$G$11="Multiple (England)", '1. Input energy data'!$J25, '1. Input energy data'!$G$11),Degrees18[#Headers], 0)),INDEX(Degrees15[[Month]:[Multiple (England)]],MATCH('1. Input energy data'!$L25, Degrees15[Month], 1) + $O$2 - 1,MATCH(IF('1. Input energy data'!$G$11="Multiple (England)", '1. Input energy data'!$J25, '1. Input energy data'!$G$11),Degrees15[#Headers], 0))))} | P8: =IF(CalcTable[[#This Row],[Building]]=0,"",SLOPE('1. Input energy data'!N25:Y25,CalcTable[[#This Row],[1]:[12]])) | Q8: =IF(CalcTable[[#This Row],[Building]]=0,"",INTERCEPT('1. Input energy data'!N25:Y25,CalcTable[[#This Row],[1]:[12]])) | R8: =IF(CalcTable[[#This Row],[Building]]=0,"",RSQ('1. Input energy data'!N25:Y25,CalcTable[[#This Row],[1]:[12]])) | S8: {=IF(OR($A8=0, '1. Input energy data'!$AF25=""), "",IF(OR('1. Input energy data'!$F25="Hospital",'1. Input energy data'!$F25="Nursing residential homes and hostels"),INDEX(Degrees18[[Month]:[Multiple (England)]],MATCH('1. Input energy data'!$AD25, Degrees18[Month], 1)+S$2-13,MATCH(IF('1. Input energy data'!$G$11="Multiple (England)", '1. Input energy data'!$J25, '1. Input energy data'!$G$11),Degrees18[#Headers], 0)),INDEX(Degrees15[[Month]:[Multiple (England)]],MATCH('1. Input energy data'!$AD25, Degrees15[Month], 1)+S$2-13,MATCH(IF('1. Input energy data'!$G$11="Multiple (England)", '1. Input energy data'!$J25, '1. Input energy data'!$G$11),Degrees15[#Headers], 0))))} | T8: {=IF(OR($A8=0, '1. Input energy data'!$AG25=""), "",IF(OR('1. Input energy data'!$F25="Hospital",'1. Input energy data'!$F25="Nursing residential homes and hostels"),INDEX(Degrees18[[Month]:[Multiple (England)]],MATCH('1. Input energy data'!$AD25, Degrees18[Month], 1)+T$2-13,MATCH(IF('1. Input energy data'!$G$11="Multiple (England)", '1. Input energy data'!$J25, '1. Input energy data'!$G$11),Degrees18[#Headers], 0)),INDEX(Degrees15[[Month]:[Multiple (England)]],MATCH('1. Input energy data'!$AD25,Degrees15[Month], 1)+T$2-13,MATCH(IF('1. Input energy data'!$G$11="Multiple (England)", '1. Input energy data'!$J25, '1. Input energy data'!$G$11),Degrees15[#Headers], 0))))} | U8: {=IF(OR($A8=0, '1. Input energy data'!$AH25=""), "",IF(OR('1. Input energy data'!$F25="Hospital",'1. Input energy data'!$F25="Nursing residential homes and hostels"),INDEX(Degrees18[[Month]:[Multiple (England)]],MATCH('1. Input energy data'!$AD25, Degrees18[Month], 1)+U$2-13,MATCH(IF('1. Input energy data'!$G$11="Multiple (England)", '1. Input energy data'!$J25, '1. Input energy data'!$G$11),Degrees18[#Headers], 0)),INDEX(Degrees15[[Month]:[Multiple (England)]],MATCH('1. Input energy data'!$AD25,Degrees15[Month], 1)+U$2-13,MATCH(IF('1. Input energy data'!$G$11="Multiple (England)", '1. Input energy data'!$J25, '1. Input energy data'!$G$11),Degrees15[#Headers], 0))))} | V8: {=IF(OR($A8=0, '1. Input energy data'!$AI25=""), "",IF(OR('1. Input energy data'!$F25="Hospital",'1. Input energy data'!$F25="Nursing residential homes and hostels"),INDEX(Degrees18[[Month]:[Multiple (England)]],MATCH('1. Input energy data'!$AD25, Degrees18[Month], 1)+V$2-13,MATCH(IF('1. Input energy data'!$G$11="Multiple (England)", '1. Input energy data'!$J25, '1. Input energy data'!$G$11),Degrees18[#Headers], 0)),INDEX(Degrees15[[Month]:[Multiple (England)]],MATCH('1. Input energy data'!$AD25,Degrees15[Month], 1)+V$2-13,MATCH(IF('1. Input energy data'!$G$11="Multiple (England)", '1. Input energy data'!$J25, '1. Input energy data'!$G$11),Degrees15[#Headers], 0))))} | W8: {=IF(OR($A8=0, '1. Input energy data'!$AJ25=""), "",IF(OR('1. Input energy data'!$F25="Hospital",'1. Input energy data'!$F25="Nursing residential homes and hostels"),INDEX(Degrees18[[Month]:[Multiple (England)]],MATCH('1. Input energy data'!$AD25, Degrees18[Month], 1)+W$2-13,MATCH(IF('1. Input energy data'!$G$11="Multiple (England)", '1. Input energy data'!$J25, '1. Input energy data'!$G$11),Degrees18[#Headers], 0)),INDEX(Degrees15[[Month]:[Multiple (England)]],MATCH('1. Input energy data'!$AD25,Degrees15[Month], 1)+W$2-13,MATCH(IF('1. Input energy data'!$G$11="Multiple (England)", '1. Input energy data'!$J25, '1. Input energy data'!$G$11),Degrees15[#Headers], 0))))} | X8: {=IF(OR($A8=0, '1. Input energy data'!$AK25=""), "",IF(OR('1. Input energy data'!$F25="Hospital",'1. Input energy data'!$F25="Nursing residential homes and hostels"),INDEX(Degrees18[[Month]:[Multiple (England)]],MATCH('1. Input energy data'!$AD25, Degrees18[Month], 1)+X$2-13,MATCH(IF('1. Input energy data'!$G$11="Multiple (England)", '1. Input energy data'!$J25, '1. Input energy data'!$G$11),Degrees18[#Headers], 0)),INDEX(Degrees15[[Month]:[Multiple (England)]],MATCH('1. Input energy data'!$AD25,Degrees15[Month], 1)+X$2-13,MATCH(IF('1. Input energy data'!$G$11="Multiple (England)", '1. Input energy data'!$J25, '1. Input energy data'!$G$11),Degrees15[#Headers], 0))))} | Y8: {=IF(OR($A8=0, '1. Input energy data'!$AL25=""), "",IF(OR('1. Input energy data'!$F25="Hospital",'1. Input energy data'!$F25="Nursing residential homes and hostels"),INDEX(Degrees18[[Month]:[Multiple (England)]],MATCH('1. Input energy data'!$AD25, Degrees18[Month], 1)+Y$2-13,MATCH(IF('1. Input energy data'!$G$11="Multiple (England)", '1. Input energy data'!$J25, '1. Input energy data'!$G$11),Degrees18[#Headers], 0)),INDEX(Degrees15[[Month]:[Multiple (England)]],MATCH('1. Input energy data'!$AD25,Degrees15[Month], 1)+Y$2-13,MATCH(IF('1. Input energy data'!$G$11="Multiple (England)", '1. Input energy data'!$J25, '1. Input energy data'!$G$11),Degrees15[#Headers], 0))))} | Z8: {=IF(OR($A8=0, '1. Input energy data'!$AM25=""), "",IF(OR('1. Input energy data'!$F25="Hospital",'1. Input energy data'!$F25="Nursing residential homes and hostels"),INDEX(Degrees18[[Month]:[Multiple (England)]],MATCH('1. Input energy data'!$AD25, Degrees18[Month], 1)+Z$2-13,MATCH(IF('1. Input energy data'!$G$11="Multiple (England)", '1. Input energy data'!$J25, '1. Input energy data'!$G$11),Degrees18[#Headers], 0)),INDEX(Degrees15[[Month]:[Multiple (England)]],MATCH('1. Input energy data'!$AD25,Degrees15[Month], 1)+Z$2-13,MATCH(IF('1. Input energy data'!$G$11="Multiple (England)", '1. Input energy data'!$J25, '1. Input energy data'!$G$11),Degrees15[#Headers], 0))))} | AA8: {=IF(OR($A8=0, '1. Input energy data'!$AN25=""), "",IF(OR('1. Input energy data'!$F25="Hospital",'1. Input energy data'!$F25="Nursing residential homes and hostels"),INDEX(Degrees18[[Month]:[Multiple (England)]],MATCH('1. Input energy data'!$AD25, Degrees18[Month], 1)+AA$2-13,MATCH(IF('1. Input energy data'!$G$11="Multiple (England)", '1. Input energy data'!$J25, '1. Input energy data'!$G$11),Degrees18[#Headers], 0)),INDEX(Degrees15[[Month]:[Multiple (England)]],MATCH('1. Input energy data'!$AD25,Degrees15[Month], 1)+AA$2-13,MATCH(IF('1. Input energy data'!$G$11="Multiple (England)", '1. Input energy data'!$J25, '1. Input energy data'!$G$11),Degrees15[#Headers], 0))))} | AB8: {=IF(OR($A8=0, '1. Input energy data'!$AO25=""), "",IF(OR('1. Input energy data'!$F25="Hospital",'1. Input energy data'!$F25="Nursing residential homes and hostels"),INDEX(Degrees18[[Month]:[Multiple (England)]],MATCH('1. Input energy data'!$AD25, Degrees18[Month], 1)+AB$2-13,MATCH(IF('1. Input energy data'!$G$11="Multiple (England)", '1. Input energy data'!$J25, '1. Input energy data'!$G$11),Degrees18[#Headers], 0)),INDEX(Degrees15[[Month]:[Multiple (England)]],MATCH('1. Input energy data'!$AD25,Degrees15[Month], 1)+AB$2-13,MATCH(IF('1. Input energy data'!$G$11="Multiple (England)", '1. Input energy data'!$J25, '1. Input energy data'!$G$11),Degrees15[#Headers], 0))))} | AC8: {=IF(OR($A8=0, '1. Input energy data'!$AP25=""), "",IF(OR('1. Input energy data'!$F25="Hospital",'1. Input energy data'!$F25="Nursing residential homes and hostels"),INDEX(Degrees18[[Month]:[Multiple (England)]],MATCH('1. Input energy data'!$AD25, Degrees18[Month], 1)+AC$2-13,MATCH(IF('1. Input energy data'!$G$11="Multiple (England)", '1. Input energy data'!$J25, '1. Input energy data'!$G$11),Degrees18[#Headers], 0)),INDEX(Degrees15[[Month]:[Multiple (England)]],MATCH('1. Input energy data'!$AD25,Degrees15[Month], 1)+AC$2-13,MATCH(IF('1. Input energy data'!$G$11="Multiple (England)", '1. Input energy data'!$J25, '1. Input energy data'!$G$11),Degrees15[#Headers], 0))))} | AD8: {=IF(OR($A8=0, '1. Input energy data'!$AQ25=""), "",IF(OR('1. Input energy data'!$F25="Hospital",'1. Input energy data'!$F25="Nursing residential homes and hostels"),INDEX(Degrees18[[Month]:[Multiple (England)]],MATCH('1. Input energy data'!$AD25, Degrees18[Month], 1)+AD$2-13,MATCH(IF('1. Input energy data'!$G$11="Multiple (England)", '1. Input energy data'!$J25, '1. Input energy data'!$G$11),Degrees18[#Headers], 0)),INDEX(Degrees15[[Month]:[Multiple (England)]],MATCH('1. Input energy data'!$AD25,Degrees15[Month], 1)+AD$2-13,MATCH(IF('1. Input energy data'!$G$11="Multiple (England)", '1. Input energy data'!$J25, '1. Input energy data'!$G$11),Degrees15[#Headers], 0))))} | AE8: =IF(OR($A8=0, $P8="", CalcTable[[#This Row],[13]]="", $Q8="", '1. Input energy data'!AF25=""), "", ($P8*CalcTable[[#This Row],[13]]+$Q8)-'1. Input energy data'!AF25) | AF8: =IF(OR($A8=0, $P8="", CalcTable[[#This Row],[14]]="", $Q8="", '1. Input energy data'!AG25=""), "", ($P8*CalcTable[[#This Row],[14]]+$Q8)-'1. Input energy data'!AG25) | AG8: =IF(OR($A8=0, $P8="", CalcTable[[#This Row],[15]]="", $Q8="", '1. Input energy data'!AH25=""), "", ($P8*CalcTable[[#This Row],[15]]+$Q8)-'1. Input energy data'!AH25) | AH8: =IF(OR($A8=0, $P8="", CalcTable[[#This Row],[16]]="", $Q8="", '1. Input energy data'!AI25=""), "", ($P8*CalcTable[[#This Row],[16]]+$Q8)-'1. Input energy data'!AI25) | AI8: =IF(OR($A8=0, $P8="", CalcTable[[#This Row],[17]]="", $Q8="", '1. Input energy data'!AJ25=""), "", ($P8*CalcTable[[#This Row],[17]]+$Q8)-'1. Input energy data'!AJ25) | AJ8: =IF(OR($A8=0, $P8="", CalcTable[[#This Row],[18]]="", $Q8="", '1. Input energy data'!AK25=""), "", ($P8*CalcTable[[#This Row],[18]]+$Q8)-'1. Input energy data'!AK25) | AK8: =IF(OR($A8=0, $P8="", CalcTable[[#This Row],[19]]="", $Q8="", '1. Input energy data'!AL25=""), "", ($P8*CalcTable[[#This Row],[19]]+$Q8)-'1. Input energy data'!AL25) | AL8: =IF(OR($A8=0, $P8="", CalcTable[[#This Row],[20]]="", $Q8="", '1. Input energy data'!AM25=""), "", ($P8*CalcTable[[#This Row],[20]]+$Q8)-'1. Input energy data'!AM25) | AM8: =IF(OR($A8=0, $P8="", CalcTable[[#This Row],[21]]="", $Q8="", '1. Input energy data'!AN25=""), "", ($P8*CalcTable[[#This Row],[21]]+$Q8)-'1. Input energy data'!AN25) | AN8: =IF(OR($A8=0, $P8="", CalcTable[[#This Row],[22]]="", $Q8="", '1. Input energy data'!AO25=""), "", ($P8*CalcTable[[#This Row],[22]]+$Q8)-'1. Input energy data'!AO25) | AO8: =IF(OR($A8=0, $P8="", CalcTable[[#This Row],[23]]="", $Q8="", '1. Input energy data'!AP25=""), "", ($P8*CalcTable[[#This Row],[23]]+$Q8)-'1. Input energy data'!AP25) | AP8: =IF(OR($A8=0, $P8="", CalcTable[[#This Row],[24]]="", $Q8="", '1. Input energy data'!AQ25=""), "", ($P8*CalcTable[[#This Row],[24]]+$Q8)-'1. Input energy data'!AQ25) | AQ8: =IF(CalcTable[[#This Row],[Building]]=0,"",1-((1-CalcTable[[#This Row],[R2]])*(COUNT('1. Input energy data'!N25:Y25)-1)/(COUNT('1. Input energy data'!N25:Y25)-2))) | AR8: =IF(CalcTable[[#This Row],[Building]]=0,"",1.26*TINV(0.1,COUNT('1. Input energy data'!N25:Y25)-2)*STEYX('1. Input energy data'!N25:Y25,CalcTable[[#This Row],[1]:[12]])*((1+2/COUNT('1. Input energy data'!N25:Y25))*COUNT(CalcTable[[#This Row],[Month 1 avoided kWh]:[Month 12]]))^0.5) | AS8: =IF(CalcTable[[#This Row],[Building]]=0,"",ABS(CalcTable[[#This Row],[Absolute Uncertainty]]/SUM(CalcTable[[#This Row],[Month 1 avoided kWh]:[Month 12]]))) | AT8: =IF(CalcTable[[#This Row],[Building]]=0,"",COUNT('1. Input energy data'!N25:Y25)) | AU8: =IF(CalcTable[[#This Row],[Building]]=0,"",COUNT('1. Input energy data'!AF25:AQ25)) | AV8: {=_xlfn.IFS(CalcTable[[#This Row],[Building]]=0,"",AND(OR('1. Input energy data'!AT25="Energy Bills - Actual",'1. Input energy data'!AT25="Meter Readings",'1. Input energy data'!AT25="Half Hourly Data"),OR('1. Input energy data'!Z25="Energy Bills - Actual",'1. Input energy data'!Z25="Meter Readings",'1. Input energy data'!Z25="Half Hourly Data")),"ACTUAL",OR('1. Input energy data'!AT25="",'1. Input energy data'!Z25=""),"BLANK",OR('1. Input energy data'!AT25="Other (specify in commentary)",'1. Input energy data'!Z25="Other (specify in commentary)"),"OTHER",OR('1. Input energy data'!AT25="Energy Bills - Estimated",'1. Input energy data'!Z25="Energy Bills - Estimated"),"ESTIMATED",OR('1. Input energy data'!AT25="Energy Bills - Partially Estimated",'1. Input energy data'!Z25="Energy Bills - Partially Estimated"),"PARTIALLY ESTIMATED",TRUE,"BLANK")}
A9: ='1. Input energy data'!C26 -> 0 | B9: ='1. Input energy data'!F26 -> 0 | C9: ='1. Input energy data'!G26 -> 0 | D9: =IF(OR(CalcTable[[#This Row],[Building]]=0, '1. Input energy data'!$N26=""), "",IF(OR('1. Input energy data'!$F26="Hospital",'1. Input energy data'!$F26="Nursing residential homes and hostels"),INDEX(Degrees18[[Month]:[Multiple (England)]],MATCH('1. Input energy data'!$L26, Degrees18[Month], 1),MATCH(IF('1. Input energy data'!$G$11="Multiple (England)", '1. Input energy data'!$J26, '1. Input energy data'!$G$11), Degrees18[#Headers], 0)),INDEX(Degrees15[[Month]:[Multiple (England)]],MATCH('1. Input energy data'!$L26, Degrees15[Month], 1),MATCH(IF('1. Input energy data'!$G$11="Multiple (England)", '1. Input energy data'!$J26, '1. Input energy data'!$G$11), Degrees15[#Headers], 0)))) | E9: {=IF(OR(CalcTable[[#This Row],[Building]]=0, '1. Input energy data'!$O26=""), "",IF(OR('1. Input energy data'!$F26="Hospital",'1. Input energy data'!$F26="Nursing residential homes and hostels"),INDEX(Degrees18[[Month]:[Multiple (England)]],MATCH('1. Input energy data'!$L26, Degrees18[Month], 1) + $E$2 - 1,MATCH(IF('1. Input energy data'!$G$11="Multiple (England)", '1. Input energy data'!$J26, '1. Input energy data'!$G$11),Degrees18[#Headers], 0)),INDEX(Degrees15[[Month]:[Multiple (England)]],MATCH('1. Input energy data'!$L26, Degrees15[Month], 1) + $E$2 - 1,MATCH(IF('1. Input energy data'!$G$11="Multiple (England)", '1. Input energy data'!$J26, '1. Input energy data'!$G$11),Degrees15[#Headers], 0))))} | F9: {=IF(OR(CalcTable[[#This Row],[Building]]=0, '1. Input energy data'!$P26=""), "",IF(OR('1. Input energy data'!$F26="Hospital",'1. Input energy data'!$F26="Nursing residential homes and hostels"),INDEX(Degrees18[[Month]:[Multiple (England)]],MATCH('1. Input energy data'!$L26, Degrees18[Month], 1) + $F$2 - 1,MATCH(IF('1. Input energy data'!$G$11="Multiple (England)", '1. Input energy data'!$J26, '1. Input energy data'!$G$11),Degrees18[#Headers], 0)),INDEX(Degrees15[[Month]:[Multiple (England)]],MATCH('1. Input energy data'!$L26, Degrees15[Month], 1) + $F$2 - 1,MATCH(IF('1. Input energy data'!$G$11="Multiple (England)", '1. Input energy data'!$J26, '1. Input energy data'!$G$11),Degrees15[#Headers], 0))))} | G9: {=IF(OR(CalcTable[[#This Row],[Building]]=0, '1. Input energy data'!$Q26=""), "",IF(OR('1. Input energy data'!$F26="Hospital",'1. Input energy data'!$F26="Nursing residential homes and hostels"),INDEX(Degrees18[[Month]:[Multiple (England)]],MATCH('1. Input energy data'!$L26, Degrees18[Month], 1) + $G$2 - 1,MATCH(IF('1. Input energy data'!$G$11="Multiple (England)", '1. Input energy data'!$J26, '1. Input energy data'!$G$11),Degrees18[#Headers], 0)),INDEX(Degrees15[[Month]:[Multiple (England)]],MATCH('1. Input energy data'!$L26, Degrees15[Month], 1) + $G$2 - 1,MATCH(IF('1. Input energy data'!$G$11="Multiple (England)", '1. Input energy data'!$J26, '1. Input energy data'!$G$11),Degrees15[#Headers], 0))))} | H9: {=IF(OR(CalcTable[[#This Row],[Building]]=0, '1. Input energy data'!$R26=""), "",IF(OR('1. Input energy data'!$F26="Hospital",'1. Input energy data'!$F26="Nursing residential homes and hostels"),INDEX(Degrees18[[Month]:[Multiple (England)]],MATCH('1. Input energy data'!$L26, Degrees18[Month], 1) + $H$2 - 1,MATCH(IF('1. Input energy data'!$G$11="Multiple (England)", '1. Input energy data'!$J26, '1. Input energy data'!$G$11),Degrees18[#Headers], 0)),INDEX(Degrees15[[Month]:[Multiple (England)]],MATCH('1. Input energy data'!$L26, Degrees15[Month], 1) + $H$2 - 1,MATCH(IF('1. Input energy data'!$G$11="Multiple (England)", '1. Input energy data'!$J26, '1. Input energy data'!$G$11),Degrees15[#Headers], 0))))} | I9: {=IF(OR(CalcTable[[#This Row],[Building]]=0, '1. Input energy data'!$S26=""), "",IF(OR('1. Input energy data'!$F26="Hospital",'1. Input energy data'!$F26="Nursing residential homes and hostels"),INDEX(Degrees18[[Month]:[Multiple (England)]],MATCH('1. Input energy data'!$L26, Degrees18[Month], 1) + $I$2 - 1,MATCH(IF('1. Input energy data'!$G$11="Multiple (England)", '1. Input energy data'!$J26, '1. Input energy data'!$G$11),Degrees18[#Headers], 0)),INDEX(Degrees15[[Month]:[Multiple (England)]],MATCH('1. Input energy data'!$L26, Degrees15[Month], 1) + $I$2 - 1,MATCH(IF('1. Input energy data'!$G$11="Multiple (England)", '1. Input energy data'!$J26, '1. Input energy data'!$G$11),Degrees15[#Headers], 0))))} | J9: {=IF(OR(CalcTable[[#This Row],[Building]]=0, '1. Input energy data'!$T26=""), "",IF(OR('1. Input energy data'!$F26="Hospital",'1. Input energy data'!$F26="Nursing residential homes and hostels"),INDEX(Degrees18[[Month]:[Multiple (England)]],MATCH('1. Input energy data'!$L26, Degrees18[Month], 1) + $J$2 - 1,MATCH(IF('1. Input energy data'!$G$11="Multiple (England)", '1. Input energy data'!$J26, '1. Input energy data'!$G$11),Degrees18[#Headers], 0)),INDEX(Degrees15[[Month]:[Multiple (England)]],MATCH('1. Input energy data'!$L26, Degrees15[Month], 1) + $J$2 - 1,MATCH(IF('1. Input energy data'!$G$11="Multiple (England)", '1. Input energy data'!$J26, '1. Input energy data'!$G$11),Degrees15[#Headers], 0))))} | K9: {=IF(OR(CalcTable[[#This Row],[Building]]=0, '1. Input energy data'!$U26=""), "",IF(OR('1. Input energy data'!$F26="Hospital",'1. Input energy data'!$F26="Nursing residential homes and hostels"),INDEX(Degrees18[[Month]:[Multiple (England)]],MATCH('1. Input energy data'!$L26, Degrees18[Month], 1) + $K$2 - 1,MATCH(IF('1. Input energy data'!$G$11="Multiple (England)", '1. Input energy data'!$J26, '1. Input energy data'!$G$11),Degrees18[#Headers], 0)),INDEX(Degrees15[[Month]:[Multiple (England)]],MATCH('1. Input energy data'!$L26, Degrees15[Month], 1) + $K$2 - 1,MATCH(IF('1. Input energy data'!$G$11="Multiple (England)", '1. Input energy data'!$J26, '1. Input energy data'!$G$11),Degrees15[#Headers], 0))))} | L9: {=IF(OR(CalcTable[[#This Row],[Building]]=0, '1. Input energy data'!$V26=""), "",IF(OR('1. Input energy data'!$F26="Hospital",'1. Input energy data'!$F26="Nursing residential homes and hostels"),INDEX(Degrees18[[Month]:[Multiple (England)]],MATCH('1. Input energy data'!$L26, Degrees18[Month], 1) + $L$2 - 1,MATCH(IF('1. Input energy data'!$G$11="Multiple (England)", '1. Input energy data'!$J26, '1. Input energy data'!$G$11),Degrees18[#Headers], 0)),INDEX(Degrees15[[Month]:[Multiple (England)]],MATCH('1. Input energy data'!$L26, Degrees15[Month], 1) + $L$2 - 1,MATCH(IF('1. Input energy data'!$G$11="Multiple (England)", '1. Input energy data'!$J26, '1. Input energy data'!$G$11),Degrees15[#Headers], 0))))} | M9: {=IF(OR(CalcTable[[#This Row],[Building]]=0, '1. Input energy data'!$W26=""), "",IF(OR('1. Input energy data'!$F26="Hospital",'1. Input energy data'!$F26="Nursing residential homes and hostels"),INDEX(Degrees18[[Month]:[Multiple (England)]],MATCH('1. Input energy data'!$L26, Degrees18[Month], 1) + $M$2 - 1,MATCH(IF('1. Input energy data'!$G$11="Multiple (England)", '1. Input energy data'!$J26, '1. Input energy data'!$G$11),Degrees18[#Headers], 0)),INDEX(Degrees15[[Month]:[Multiple (England)]],MATCH('1. Input energy data'!$L26, Degrees15[Month], 1) + $M$2 - 1,MATCH(IF('1. Input energy data'!$G$11="Multiple (England)", '1. Input energy data'!$J26, '1. Input energy data'!$G$11),Degrees15[#Headers], 0))))} | N9: {=IF(OR(CalcTable[[#This Row],[Building]]=0, '1. Input energy data'!$X26=""), "",IF(OR('1. Input energy data'!$F26="Hospital",'1. Input energy data'!$F26="Nursing residential homes and hostels"),INDEX(Degrees18[[Month]:[Multiple (England)]],MATCH('1. Input energy data'!$L26, Degrees18[Month], 1) + $N$2 - 1,MATCH(IF('1. Input energy data'!$G$11="Multiple (England)", '1. Input energy data'!$J26, '1. Input energy data'!$G$11),Degrees18[#Headers], 0)),INDEX(Degrees15[[Month]:[Multiple (England)]],MATCH('1. Input energy data'!$L26, Degrees15[Month], 1) + $N$2 - 1,MATCH(IF('1. Input energy data'!$G$11="Multiple (England)", '1. Input energy data'!$J26, '1. Input energy data'!$G$11),Degrees15[#Headers], 0))))} | O9: {=IF(OR(CalcTable[[#This Row],[Building]]=0, '1. Input energy data'!$Y26=""), "",IF(OR('1. Input energy data'!$F26="Hospital",'1. Input energy data'!$F26="Nursing residential homes and hostels"),INDEX(Degrees18[[Month]:[Multiple (England)]],MATCH('1. Input energy data'!$L26, Degrees18[Month], 1) + $O$2 - 1,MATCH(IF('1. Input energy data'!$G$11="Multiple (England)", '1. Input energy data'!$J26, '1. Input energy data'!$G$11),Degrees18[#Headers], 0)),INDEX(Degrees15[[Month]:[Multiple (England)]],MATCH('1. Input energy data'!$L26, Degrees15[Month], 1) + $O$2 - 1,MATCH(IF('1. Input energy data'!$G$11="Multiple (England)", '1. Input energy data'!$J26, '1. Input energy data'!$G$11),Degrees15[#Headers], 0))))} | P9: =IF(CalcTable[[#This Row],[Building]]=0,"",SLOPE('1. Input energy data'!N26:Y26,CalcTable[[#This Row],[1]:[12]])) | Q9: =IF(CalcTable[[#This Row],[Building]]=0,"",INTERCEPT('1. Input energy data'!N26:Y26,CalcTable[[#This Row],[1]:[12]])) | R9: =IF(CalcTable[[#This Row],[Building]]=0,"",RSQ('1. Input energy data'!N26:Y26,CalcTable[[#This Row],[1]:[12]])) | S9: {=IF(OR($A9=0, '1. Input energy data'!$AF26=""), "",IF(OR('1. Input energy data'!$F26="Hospital",'1. Input energy data'!$F26="Nursing residential homes and hostels"),INDEX(Degrees18[[Month]:[Multiple (England)]],MATCH('1. Input energy data'!$AD26, Degrees18[Month], 1)+S$2-13,MATCH(IF('1. Input energy data'!$G$11="Multiple (England)", '1. Input energy data'!$J26, '1. Input energy data'!$G$11),Degrees18[#Headers], 0)),INDEX(Degrees15[[Month]:[Multiple (England)]],MATCH('1. Input energy data'!$AD26, Degrees15[Month], 1)+S$2-13,MATCH(IF('1. Input energy data'!$G$11="Multiple (England)", '1. Input energy data'!$J26, '1. Input energy data'!$G$11),Degrees15[#Headers], 0))))} | T9: {=IF(OR($A9=0, '1. Input energy data'!$AG26=""), "",IF(OR('1. Input energy data'!$F26="Hospital",'1. Input energy data'!$F26="Nursing residential homes and hostels"),INDEX(Degrees18[[Month]:[Multiple (England)]],MATCH('1. Input energy data'!$AD26, Degrees18[Month], 1)+T$2-13,MATCH(IF('1. Input energy data'!$G$11="Multiple (England)", '1. Input energy data'!$J26, '1. Input energy data'!$G$11),Degrees18[#Headers], 0)),INDEX(Degrees15[[Month]:[Multiple (England)]],MATCH('1. Input energy data'!$AD26,Degrees15[Month], 1)+T$2-13,MATCH(IF('1. Input energy data'!$G$11="Multiple (England)", '1. Input energy data'!$J26, '1. Input energy data'!$G$11),Degrees15[#Headers], 0))))} | U9: {=IF(OR($A9=0, '1. Input energy data'!$AH26=""), "",IF(OR('1. Input energy data'!$F26="Hospital",'1. Input energy data'!$F26="Nursing residential homes and hostels"),INDEX(Degrees18[[Month]:[Multiple (England)]],MATCH('1. Input energy data'!$AD26, Degrees18[Month], 1)+U$2-13,MATCH(IF('1. Input energy data'!$G$11="Multiple (England)", '1. Input energy data'!$J26, '1. Input energy data'!$G$11),Degrees18[#Headers], 0)),INDEX(Degrees15[[Month]:[Multiple (England)]],MATCH('1. Input energy data'!$AD26,Degrees15[Month], 1)+U$2-13,MATCH(IF('1. Input energy data'!$G$11="Multiple (England)", '1. Input energy data'!$J26, '1. Input energy data'!$G$11),Degrees15[#Headers], 0))))} | V9: {=IF(OR($A9=0, '1. Input energy data'!$AI26=""), "",IF(OR('1. Input energy data'!$F26="Hospital",'1. Input energy data'!$F26="Nursing residential homes and hostels"),INDEX(Degrees18[[Month]:[Multiple (England)]],MATCH('1. Input energy data'!$AD26, Degrees18[Month], 1)+V$2-13,MATCH(IF('1. Input energy data'!$G$11="Multiple (England)", '1. Input energy data'!$J26, '1. Input energy data'!$G$11),Degrees18[#Headers], 0)),INDEX(Degrees15[[Month]:[Multiple (England)]],MATCH('1. Input energy data'!$AD26,Degrees15[Month], 1)+V$2-13,MATCH(IF('1. Input energy data'!$G$11="Multiple (England)", '1. Input energy data'!$J26, '1. Input energy data'!$G$11),Degrees15[#Headers], 0))))} | W9: {=IF(OR($A9=0, '1. Input energy data'!$AJ26=""), "",IF(OR('1. Input energy data'!$F26="Hospital",'1. Input energy data'!$F26="Nursing residential homes and hostels"),INDEX(Degrees18[[Month]:[Multiple (England)]],MATCH('1. Input energy data'!$AD26, Degrees18[Month], 1)+W$2-13,MATCH(IF('1. Input energy data'!$G$11="Multiple (England)", '1. Input energy data'!$J26, '1. Input energy data'!$G$11),Degrees18[#Headers], 0)),INDEX(Degrees15[[Month]:[Multiple (England)]],MATCH('1. Input energy data'!$AD26,Degrees15[Month], 1)+W$2-13,MATCH(IF('1. Input energy data'!$G$11="Multiple (England)", '1. Input energy data'!$J26, '1. Input energy data'!$G$11),Degrees15[#Headers], 0))))} | X9: {=IF(OR($A9=0, '1. Input energy data'!$AK26=""), "",IF(OR('1. Input energy data'!$F26="Hospital",'1. Input energy data'!$F26="Nursing residential homes and hostels"),INDEX(Degrees18[[Month]:[Multiple (England)]],MATCH('1. Input energy data'!$AD26, Degrees18[Month], 1)+X$2-13,MATCH(IF('1. Input energy data'!$G$11="Multiple (England)", '1. Input energy data'!$J26, '1. Input energy data'!$G$11),Degrees18[#Headers], 0)),INDEX(Degrees15[[Month]:[Multiple (England)]],MATCH('1. Input energy data'!$AD26,Degrees15[Month], 1)+X$2-13,MATCH(IF('1. Input energy data'!$G$11="Multiple (England)", '1. Input energy data'!$J26, '1. Input energy data'!$G$11),Degrees15[#Headers], 0))))} | Y9: {=IF(OR($A9=0, '1. Input energy data'!$AL26=""), "",IF(OR('1. Input energy data'!$F26="Hospital",'1. Input energy data'!$F26="Nursing residential homes and hostels"),INDEX(Degrees18[[Month]:[Multiple (England)]],MATCH('1. Input energy data'!$AD26, Degrees18[Month], 1)+Y$2-13,MATCH(IF('1. Input energy data'!$G$11="Multiple (England)", '1. Input energy data'!$J26, '1. Input energy data'!$G$11),Degrees18[#Headers], 0)),INDEX(Degrees15[[Month]:[Multiple (England)]],MATCH('1. Input energy data'!$AD26,Degrees15[Month], 1)+Y$2-13,MATCH(IF('1. Input energy data'!$G$11="Multiple (England)", '1. Input energy data'!$J26, '1. Input energy data'!$G$11),Degrees15[#Headers], 0))))} | Z9: {=IF(OR($A9=0, '1. Input energy data'!$AM26=""), "",IF(OR('1. Input energy data'!$F26="Hospital",'1. Input energy data'!$F26="Nursing residential homes and hostels"),INDEX(Degrees18[[Month]:[Multiple (England)]],MATCH('1. Input energy data'!$AD26, Degrees18[Month], 1)+Z$2-13,MATCH(IF('1. Input energy data'!$G$11="Multiple (England)", '1. Input energy data'!$J26, '1. Input energy data'!$G$11),Degrees18[#Headers], 0)),INDEX(Degrees15[[Month]:[Multiple (England)]],MATCH('1. Input energy data'!$AD26,Degrees15[Month], 1)+Z$2-13,MATCH(IF('1. Input energy data'!$G$11="Multiple (England)", '1. Input energy data'!$J26, '1. Input energy data'!$G$11),Degrees15[#Headers], 0))))} | AA9: {=IF(OR($A9=0, '1. Input energy data'!$AN26=""), "",IF(OR('1. Input energy data'!$F26="Hospital",'1. Input energy data'!$F26="Nursing residential homes and hostels"),INDEX(Degrees18[[Month]:[Multiple (England)]],MATCH('1. Input energy data'!$AD26, Degrees18[Month], 1)+AA$2-13,MATCH(IF('1. Input energy data'!$G$11="Multiple (England)", '1. Input energy data'!$J26, '1. Input energy data'!$G$11),Degrees18[#Headers], 0)),INDEX(Degrees15[[Month]:[Multiple (England)]],MATCH('1. Input energy data'!$AD26,Degrees15[Month], 1)+AA$2-13,MATCH(IF('1. Input energy data'!$G$11="Multiple (England)", '1. Input energy data'!$J26, '1. Input energy data'!$G$11),Degrees15[#Headers], 0))))} | AB9: {=IF(OR($A9=0, '1. Input energy data'!$AO26=""), "",IF(OR('1. Input energy data'!$F26="Hospital",'1. Input energy data'!$F26="Nursing residential homes and hostels"),INDEX(Degrees18[[Month]:[Multiple (England)]],MATCH('1. Input energy data'!$AD26, Degrees18[Month], 1)+AB$2-13,MATCH(IF('1. Input energy data'!$G$11="Multiple (England)", '1. Input energy data'!$J26, '1. Input energy data'!$G$11),Degrees18[#Headers], 0)),INDEX(Degrees15[[Month]:[Multiple (England)]],MATCH('1. Input energy data'!$AD26,Degrees15[Month], 1)+AB$2-13,MATCH(IF('1. Input energy data'!$G$11="Multiple (England)", '1. Input energy data'!$J26, '1. Input energy data'!$G$11),Degrees15[#Headers], 0))))} | AC9: {=IF(OR($A9=0, '1. Input energy data'!$AP26=""), "",IF(OR('1. Input energy data'!$F26="Hospital",'1. Input energy data'!$F26="Nursing residential homes and hostels"),INDEX(Degrees18[[Month]:[Multiple (England)]],MATCH('1. Input energy data'!$AD26, Degrees18[Month], 1)+AC$2-13,MATCH(IF('1. Input energy data'!$G$11="Multiple (England)", '1. Input energy data'!$J26, '1. Input energy data'!$G$11),Degrees18[#Headers], 0)),INDEX(Degrees15[[Month]:[Multiple (England)]],MATCH('1. Input energy data'!$AD26,Degrees15[Month], 1)+AC$2-13,MATCH(IF('1. Input energy data'!$G$11="Multiple (England)", '1. Input energy data'!$J26, '1. Input energy data'!$G$11),Degrees15[#Headers], 0))))} | AD9: {=IF(OR($A9=0, '1. Input energy data'!$AQ26=""), "",IF(OR('1. Input energy data'!$F26="Hospital",'1. Input energy data'!$F26="Nursing residential homes and hostels"),INDEX(Degrees18[[Month]:[Multiple (England)]],MATCH('1. Input energy data'!$AD26, Degrees18[Month], 1)+AD$2-13,MATCH(IF('1. Input energy data'!$G$11="Multiple (England)", '1. Input energy data'!$J26, '1. Input energy data'!$G$11),Degrees18[#Headers], 0)),INDEX(Degrees15[[Month]:[Multiple (England)]],MATCH('1. Input energy data'!$AD26,Degrees15[Month], 1)+AD$2-13,MATCH(IF('1. Input energy data'!$G$11="Multiple (England)", '1. Input energy data'!$J26, '1. Input energy data'!$G$11),Degrees15[#Headers], 0))))} | AE9: =IF(OR($A9=0, $P9="", CalcTable[[#This Row],[13]]="", $Q9="", '1. Input energy data'!AF26=""), "", ($P9*CalcTable[[#This Row],[13]]+$Q9)-'1. Input energy data'!AF26) | AF9: =IF(OR($A9=0, $P9="", CalcTable[[#This Row],[14]]="", $Q9="", '1. Input energy data'!AG26=""), "", ($P9*CalcTable[[#This Row],[14]]+$Q9)-'1. Input energy data'!AG26) | AG9: =IF(OR($A9=0, $P9="", CalcTable[[#This Row],[15]]="", $Q9="", '1. Input energy data'!AH26=""), "", ($P9*CalcTable[[#This Row],[15]]+$Q9)-'1. Input energy data'!AH26) | AH9: =IF(OR($A9=0, $P9="", CalcTable[[#This Row],[16]]="", $Q9="", '1. Input energy data'!AI26=""), "", ($P9*CalcTable[[#This Row],[16]]+$Q9)-'1. Input energy data'!AI26) | AI9: =IF(OR($A9=0, $P9="", CalcTable[[#This Row],[17]]="", $Q9="", '1. Input energy data'!AJ26=""), "", ($P9*CalcTable[[#This Row],[17]]+$Q9)-'1. Input energy data'!AJ26) | AJ9: =IF(OR($A9=0, $P9="", CalcTable[[#This Row],[18]]="", $Q9="", '1. Input energy data'!AK26=""), "", ($P9*CalcTable[[#This Row],[18]]+$Q9)-'1. Input energy data'!AK26) | AK9: =IF(OR($A9=0, $P9="", CalcTable[[#This Row],[19]]="", $Q9="", '1. Input energy data'!AL26=""), "", ($P9*CalcTable[[#This Row],[19]]+$Q9)-'1. Input energy data'!AL26) | AL9: =IF(OR($A9=0, $P9="", CalcTable[[#This Row],[20]]="", $Q9="", '1. Input energy data'!AM26=""), "", ($P9*CalcTable[[#This Row],[20]]+$Q9)-'1. Input energy data'!AM26) | AM9: =IF(OR($A9=0, $P9="", CalcTable[[#This Row],[21]]="", $Q9="", '1. Input energy data'!AN26=""), "", ($P9*CalcTable[[#This Row],[21]]+$Q9)-'1. Input energy data'!AN26) | AN9: =IF(OR($A9=0, $P9="", CalcTable[[#This Row],[22]]="", $Q9="", '1. Input energy data'!AO26=""), "", ($P9*CalcTable[[#This Row],[22]]+$Q9)-'1. Input energy data'!AO26) | AO9: =IF(OR($A9=0, $P9="", CalcTable[[#This Row],[23]]="", $Q9="", '1. Input energy data'!AP26=""), "", ($P9*CalcTable[[#This Row],[23]]+$Q9)-'1. Input energy data'!AP26) | AP9: =IF(OR($A9=0, $P9="", CalcTable[[#This Row],[24]]="", $Q9="", '1. Input energy data'!AQ26=""), "", ($P9*CalcTable[[#This Row],[24]]+$Q9)-'1. Input energy data'!AQ26) | AQ9: =IF(CalcTable[[#This Row],[Building]]=0,"",1-((1-CalcTable[[#This Row],[R2]])*(COUNT('1. Input energy data'!N26:Y26)-1)/(COUNT('1. Input energy data'!N26:Y26)-2))) | AR9: =IF(CalcTable[[#This Row],[Building]]=0,"",1.26*TINV(0.1,COUNT('1. Input energy data'!N26:Y26)-2)*STEYX('1. Input energy data'!N26:Y26,CalcTable[[#This Row],[1]:[12]])*((1+2/COUNT('1. Input energy data'!N26:Y26))*COUNT(CalcTable[[#This Row],[Month 1 avoided kWh]:[Month 12]]))^0.5) | AS9: =IF(CalcTable[[#This Row],[Building]]=0,"",ABS(CalcTable[[#This Row],[Absolute Uncertainty]]/SUM(CalcTable[[#This Row],[Month 1 avoided kWh]:[Month 12]]))) | AT9: =IF(CalcTable[[#This Row],[Building]]=0,"",COUNT('1. Input energy data'!N26:Y26)) | AU9: =IF(CalcTable[[#This Row],[Building]]=0,"",COUNT('1. Input energy data'!AF26:AQ26)) | AV9: {=_xlfn.IFS(CalcTable[[#This Row],[Building]]=0,"",AND(OR('1. Input energy data'!AT26="Energy Bills - Actual",'1. Input energy data'!AT26="Meter Readings",'1. Input energy data'!AT26="Half Hourly Data"),OR('1. Input energy data'!Z26="Energy Bills - Actual",'1. Input energy data'!Z26="Meter Readings",'1. Input energy data'!Z26="Half Hourly Data")),"ACTUAL",OR('1. Input energy data'!AT26="",'1. Input energy data'!Z26=""),"BLANK",OR('1. Input energy data'!AT26="Other (specify in commentary)",'1. Input energy data'!Z26="Other (specify in commentary)"),"OTHER",OR('1. Input energy data'!AT26="Energy Bills - Estimated",'1. Input energy data'!Z26="Energy Bills - Estimated"),"ESTIMATED",OR('1. Input energy data'!AT26="Energy Bills - Partially Estimated",'1. Input energy data'!Z26="Energy Bills - Partially Estimated"),"PARTIALLY ESTIMATED",TRUE,"BLANK")}
A10: ='1. Input energy data'!C27 -> 0 | B10: ='1. Input energy data'!F27 -> 0 | C10: ='1. Input energy data'!G27 -> 0 | D10: =IF(OR(CalcTable[[#This Row],[Building]]=0, '1. Input energy data'!$N27=""), "",IF(OR('1. Input energy data'!$F27="Hospital",'1. Input energy data'!$F27="Nursing residential homes and hostels"),INDEX(Degrees18[[Month]:[Multiple (England)]],MATCH('1. Input energy data'!$L27, Degrees18[Month], 1),MATCH(IF('1. Input energy data'!$G$11="Multiple (England)", '1. Input energy data'!$J27, '1. Input energy data'!$G$11), Degrees18[#Headers], 0)),INDEX(Degrees15[[Month]:[Multiple (England)]],MATCH('1. Input energy data'!$L27, Degrees15[Month], 1),MATCH(IF('1. Input energy data'!$G$11="Multiple (England)", '1. Input energy data'!$J27, '1. Input energy data'!$G$11), Degrees15[#Headers], 0)))) | E10: {=IF(OR(CalcTable[[#This Row],[Building]]=0, '1. Input energy data'!$O27=""), "",IF(OR('1. Input energy data'!$F27="Hospital",'1. Input energy data'!$F27="Nursing residential homes and hostels"),INDEX(Degrees18[[Month]:[Multiple (England)]],MATCH('1. Input energy data'!$L27, Degrees18[Month], 1) + $E$2 - 1,MATCH(IF('1. Input energy data'!$G$11="Multiple (England)", '1. Input energy data'!$J27, '1. Input energy data'!$G$11),Degrees18[#Headers], 0)),INDEX(Degrees15[[Month]:[Multiple (England)]],MATCH('1. Input energy data'!$L27, Degrees15[Month], 1) + $E$2 - 1,MATCH(IF('1. Input energy data'!$G$11="Multiple (England)", '1. Input energy data'!$J27, '1. Input energy data'!$G$11),Degrees15[#Headers], 0))))} | F10: {=IF(OR(CalcTable[[#This Row],[Building]]=0, '1. Input energy data'!$P27=""), "",IF(OR('1. Input energy data'!$F27="Hospital",'1. Input energy data'!$F27="Nursing residential homes and hostels"),INDEX(Degrees18[[Month]:[Multiple (England)]],MATCH('1. Input energy data'!$L27, Degrees18[Month], 1) + $F$2 - 1,MATCH(IF('1. Input energy data'!$G$11="Multiple (England)", '1. Input energy data'!$J27, '1. Input energy data'!$G$11),Degrees18[#Headers], 0)),INDEX(Degrees15[[Month]:[Multiple (England)]],MATCH('1. Input energy data'!$L27, Degrees15[Month], 1) + $F$2 - 1,MATCH(IF('1. Input energy data'!$G$11="Multiple (England)", '1. Input energy data'!$J27, '1. Input energy data'!$G$11),Degrees15[#Headers], 0))))} | G10: {=IF(OR(CalcTable[[#This Row],[Building]]=0, '1. Input energy data'!$Q27=""), "",IF(OR('1. Input energy data'!$F27="Hospital",'1. Input energy data'!$F27="Nursing residential homes and hostels"),INDEX(Degrees18[[Month]:[Multiple (England)]],MATCH('1. Input energy data'!$L27, Degrees18[Month], 1) + $G$2 - 1,MATCH(IF('1. Input energy data'!$G$11="Multiple (England)", '1. Input energy data'!$J27, '1. Input energy data'!$G$11),Degrees18[#Headers], 0)),INDEX(Degrees15[[Month]:[Multiple (England)]],MATCH('1. Input energy data'!$L27, Degrees15[Month], 1) + $G$2 - 1,MATCH(IF('1. Input energy data'!$G$11="Multiple (England)", '1. Input energy data'!$J27, '1. Input energy data'!$G$11),Degrees15[#Headers], 0))))} | H10: {=IF(OR(CalcTable[[#This Row],[Building]]=0, '1. Input energy data'!$R27=""), "",IF(OR('1. Input energy data'!$F27="Hospital",'1. Input energy data'!$F27="Nursing residential homes and hostels"),INDEX(Degrees18[[Month]:[Multiple (England)]],MATCH('1. Input energy data'!$L27, Degrees18[Month], 1) + $H$2 - 1,MATCH(IF('1. Input energy data'!$G$11="Multiple (England)", '1. Input energy data'!$J27, '1. Input energy data'!$G$11),Degrees18[#Headers], 0)),INDEX(Degrees15[[Month]:[Multiple (England)]],MATCH('1. Input energy data'!$L27, Degrees15[Month], 1) + $H$2 - 1,MATCH(IF('1. Input energy data'!$G$11="Multiple (England)", '1. Input energy data'!$J27, '1. Input energy data'!$G$11),Degrees15[#Headers], 0))))} | I10: {=IF(OR(CalcTable[[#This Row],[Building]]=0, '1. Input energy data'!$S27=""), "",IF(OR('1. Input energy data'!$F27="Hospital",'1. Input energy data'!$F27="Nursing residential homes and hostels"),INDEX(Degrees18[[Month]:[Multiple (England)]],MATCH('1. Input energy data'!$L27, Degrees18[Month], 1) + $I$2 - 1,MATCH(IF('1. Input energy data'!$G$11="Multiple (England)", '1. Input energy data'!$J27, '1. Input energy data'!$G$11),Degrees18[#Headers], 0)),INDEX(Degrees15[[Month]:[Multiple (England)]],MATCH('1. Input energy data'!$L27, Degrees15[Month], 1) + $I$2 - 1,MATCH(IF('1. Input energy data'!$G$11="Multiple (England)", '1. Input energy data'!$J27, '1. Input energy data'!$G$11),Degrees15[#Headers], 0))))} | J10: {=IF(OR(CalcTable[[#This Row],[Building]]=0, '1. Input energy data'!$T27=""), "",IF(OR('1. Input energy data'!$F27="Hospital",'1. Input energy data'!$F27="Nursing residential homes and hostels"),INDEX(Degrees18[[Month]:[Multiple (England)]],MATCH('1. Input energy data'!$L27, Degrees18[Month], 1) + $J$2 - 1,MATCH(IF('1. Input energy data'!$G$11="Multiple (England)", '1. Input energy data'!$J27, '1. Input energy data'!$G$11),Degrees18[#Headers], 0)),INDEX(Degrees15[[Month]:[Multiple (England)]],MATCH('1. Input energy data'!$L27, Degrees15[Month], 1) + $J$2 - 1,MATCH(IF('1. Input energy data'!$G$11="Multiple (England)", '1. Input energy data'!$J27, '1. Input energy data'!$G$11),Degrees15[#Headers], 0))))} | K10: {=IF(OR(CalcTable[[#This Row],[Building]]=0, '1. Input energy data'!$U27=""), "",IF(OR('1. Input energy data'!$F27="Hospital",'1. Input energy data'!$F27="Nursing residential homes and hostels"),INDEX(Degrees18[[Month]:[Multiple (England)]],MATCH('1. Input energy data'!$L27, Degrees18[Month], 1) + $K$2 - 1,MATCH(IF('1. Input energy data'!$G$11="Multiple (England)", '1. Input energy data'!$J27, '1. Input energy data'!$G$11),Degrees18[#Headers], 0)),INDEX(Degrees15[[Month]:[Multiple (England)]],MATCH('1. Input energy data'!$L27, Degrees15[Month], 1) + $K$2 - 1,MATCH(IF('1. Input energy data'!$G$11="Multiple (England)", '1. Input energy data'!$J27, '1. Input energy data'!$G$11),Degrees15[#Headers], 0))))} | L10: {=IF(OR(CalcTable[[#This Row],[Building]]=0, '1. Input energy data'!$V27=""), "",IF(OR('1. Input energy data'!$F27="Hospital",'1. Input energy data'!$F27="Nursing residential homes and hostels"),INDEX(Degrees18[[Month]:[Multiple (England)]],MATCH('1. Input energy data'!$L27, Degrees18[Month], 1) + $L$2 - 1,MATCH(IF('1. Input energy data'!$G$11="Multiple (England)", '1. Input energy data'!$J27, '1. Input energy data'!$G$11),Degrees18[#Headers], 0)),INDEX(Degrees15[[Month]:[Multiple (England)]],MATCH('1. Input energy data'!$L27, Degrees15[Month], 1) + $L$2 - 1,MATCH(IF('1. Input energy data'!$G$11="Multiple (England)", '1. Input energy data'!$J27, '1. Input energy data'!$G$11),Degrees15[#Headers], 0))))} | M10: {=IF(OR(CalcTable[[#This Row],[Building]]=0, '1. Input energy data'!$W27=""), "",IF(OR('1. Input energy data'!$F27="Hospital",'1. Input energy data'!$F27="Nursing residential homes and hostels"),INDEX(Degrees18[[Month]:[Multiple (England)]],MATCH('1. Input energy data'!$L27, Degrees18[Month], 1) + $M$2 - 1,MATCH(IF('1. Input energy data'!$G$11="Multiple (England)", '1. Input energy data'!$J27, '1. Input energy data'!$G$11),Degrees18[#Headers], 0)),INDEX(Degrees15[[Month]:[Multiple (England)]],MATCH('1. Input energy data'!$L27, Degrees15[Month], 1) + $M$2 - 1,MATCH(IF('1. Input energy data'!$G$11="Multiple (England)", '1. Input energy data'!$J27, '1. Input energy data'!$G$11),Degrees15[#Headers], 0))))} | N10: {=IF(OR(CalcTable[[#This Row],[Building]]=0, '1. Input energy data'!$X27=""), "",IF(OR('1. Input energy data'!$F27="Hospital",'1. Input energy data'!$F27="Nursing residential homes and hostels"),INDEX(Degrees18[[Month]:[Multiple (England)]],MATCH('1. Input energy data'!$L27, Degrees18[Month], 1) + $N$2 - 1,MATCH(IF('1. Input energy data'!$G$11="Multiple (England)", '1. Input energy data'!$J27, '1. Input energy data'!$G$11),Degrees18[#Headers], 0)),INDEX(Degrees15[[Month]:[Multiple (England)]],MATCH('1. Input energy data'!$L27, Degrees15[Month], 1) + $N$2 - 1,MATCH(IF('1. Input energy data'!$G$11="Multiple (England)", '1. Input energy data'!$J27, '1. Input energy data'!$G$11),Degrees15[#Headers], 0))))} | O10: {=IF(OR(CalcTable[[#This Row],[Building]]=0, '1. Input energy data'!$Y27=""), "",IF(OR('1. Input energy data'!$F27="Hospital",'1. Input energy data'!$F27="Nursing residential homes and hostels"),INDEX(Degrees18[[Month]:[Multiple (England)]],MATCH('1. Input energy data'!$L27, Degrees18[Month], 1) + $O$2 - 1,MATCH(IF('1. Input energy data'!$G$11="Multiple (England)", '1. Input energy data'!$J27, '1. Input energy data'!$G$11),Degrees18[#Headers], 0)),INDEX(Degrees15[[Month]:[Multiple (England)]],MATCH('1. Input energy data'!$L27, Degrees15[Month], 1) + $O$2 - 1,MATCH(IF('1. Input energy data'!$G$11="Multiple (England)", '1. Input energy data'!$J27, '1. Input energy data'!$G$11),Degrees15[#Headers], 0))))} | P10: =IF(CalcTable[[#This Row],[Building]]=0,"",SLOPE('1. Input energy data'!N27:Y27,CalcTable[[#This Row],[1]:[12]])) | Q10: =IF(CalcTable[[#This Row],[Building]]=0,"",INTERCEPT('1. Input energy data'!N27:Y27,CalcTable[[#This Row],[1]:[12]])) | R10: =IF(CalcTable[[#This Row],[Building]]=0,"",RSQ('1. Input energy data'!N27:Y27,CalcTable[[#This Row],[1]:[12]])) | S10: {=IF(OR($A10=0, '1. Input energy data'!$AF27=""), "",IF(OR('1. Input energy data'!$F27="Hospital",'1. Input energy data'!$F27="Nursing residential homes and hostels"),INDEX(Degrees18[[Month]:[Multiple (England)]],MATCH('1. Input energy data'!$AD27, Degrees18[Month], 1)+S$2-13,MATCH(IF('1. Input energy data'!$G$11="Multiple (England)", '1. Input energy data'!$J27, '1. Input energy data'!$G$11),Degrees18[#Headers], 0)),INDEX(Degrees15[[Month]:[Multiple (England)]],MATCH('1. Input energy data'!$AD27, Degrees15[Month], 1)+S$2-13,MATCH(IF('1. Input energy data'!$G$11="Multiple (England)", '1. Input energy data'!$J27, '1. Input energy data'!$G$11),Degrees15[#Headers], 0))))} | T10: {=IF(OR($A10=0, '1. Input energy data'!$AG27=""), "",IF(OR('1. Input energy data'!$F27="Hospital",'1. Input energy data'!$F27="Nursing residential homes and hostels"),INDEX(Degrees18[[Month]:[Multiple (England)]],MATCH('1. Input energy data'!$AD27, Degrees18[Month], 1)+T$2-13,MATCH(IF('1. Input energy data'!$G$11="Multiple (England)", '1. Input energy data'!$J27, '1. Input energy data'!$G$11),Degrees18[#Headers], 0)),INDEX(Degrees15[[Month]:[Multiple (England)]],MATCH('1. Input energy data'!$AD27,Degrees15[Month], 1)+T$2-13,MATCH(IF('1. Input energy data'!$G$11="Multiple (England)", '1. Input energy data'!$J27, '1. Input energy data'!$G$11),Degrees15[#Headers], 0))))} | U10: {=IF(OR($A10=0, '1. Input energy data'!$AH27=""), "",IF(OR('1. Input energy data'!$F27="Hospital",'1. Input energy data'!$F27="Nursing residential homes and hostels"),INDEX(Degrees18[[Month]:[Multiple (England)]],MATCH('1. Input energy data'!$AD27, Degrees18[Month], 1)+U$2-13,MATCH(IF('1. Input energy data'!$G$11="Multiple (England)", '1. Input energy data'!$J27, '1. Input energy data'!$G$11),Degrees18[#Headers], 0)),INDEX(Degrees15[[Month]:[Multiple (England)]],MATCH('1. Input energy data'!$AD27,Degrees15[Month], 1)+U$2-13,MATCH(IF('1. Input energy data'!$G$11="Multiple (England)", '1. Input energy data'!$J27, '1. Input energy data'!$G$11),Degrees15[#Headers], 0))))} | V10: {=IF(OR($A10=0, '1. Input energy data'!$AI27=""), "",IF(OR('1. Input energy data'!$F27="Hospital",'1. Input energy data'!$F27="Nursing residential homes and hostels"),INDEX(Degrees18[[Month]:[Multiple (England)]],MATCH('1. Input energy data'!$AD27, Degrees18[Month], 1)+V$2-13,MATCH(IF('1. Input energy data'!$G$11="Multiple (England)", '1. Input energy data'!$J27, '1. Input energy data'!$G$11),Degrees18[#Headers], 0)),INDEX(Degrees15[[Month]:[Multiple (England)]],MATCH('1. Input energy data'!$AD27,Degrees15[Month], 1)+V$2-13,MATCH(IF('1. Input energy data'!$G$11="Multiple (England)", '1. Input energy data'!$J27, '1. Input energy data'!$G$11),Degrees15[#Headers], 0))))} | W10: {=IF(OR($A10=0, '1. Input energy data'!$AJ27=""), "",IF(OR('1. Input energy data'!$F27="Hospital",'1. Input energy data'!$F27="Nursing residential homes and hostels"),INDEX(Degrees18[[Month]:[Multiple (England)]],MATCH('1. Input energy data'!$AD27, Degrees18[Month], 1)+W$2-13,MATCH(IF('1. Input energy data'!$G$11="Multiple (England)", '1. Input energy data'!$J27, '1. Input energy data'!$G$11),Degrees18[#Headers], 0)),INDEX(Degrees15[[Month]:[Multiple (England)]],MATCH('1. Input energy data'!$AD27,Degrees15[Month], 1)+W$2-13,MATCH(IF('1. Input energy data'!$G$11="Multiple (England)", '1. Input energy data'!$J27, '1. Input energy data'!$G$11),Degrees15[#Headers], 0))))} | X10: {=IF(OR($A10=0, '1. Input energy data'!$AK27=""), "",IF(OR('1. Input energy data'!$F27="Hospital",'1. Input energy data'!$F27="Nursing residential homes and hostels"),INDEX(Degrees18[[Month]:[Multiple (England)]],MATCH('1. Input energy data'!$AD27, Degrees18[Month], 1)+X$2-13,MATCH(IF('1. Input energy data'!$G$11="Multiple (England)", '1. Input energy data'!$J27, '1. Input energy data'!$G$11),Degrees18[#Headers], 0)),INDEX(Degrees15[[Month]:[Multiple (England)]],MATCH('1. Input energy data'!$AD27,Degrees15[Month], 1)+X$2-13,MATCH(IF('1. Input energy data'!$G$11="Multiple (England)", '1. Input energy data'!$J27, '1. Input energy data'!$G$11),Degrees15[#Headers], 0))))} | Y10: {=IF(OR($A10=0, '1. Input energy data'!$AL27=""), "",IF(OR('1. Input energy data'!$F27="Hospital",'1. Input energy data'!$F27="Nursing residential homes and hostels"),INDEX(Degrees18[[Month]:[Multiple (England)]],MATCH('1. Input energy data'!$AD27, Degrees18[Month], 1)+Y$2-13,MATCH(IF('1. Input energy data'!$G$11="Multiple (England)", '1. Input energy data'!$J27, '1. Input energy data'!$G$11),Degrees18[#Headers], 0)),INDEX(Degrees15[[Month]:[Multiple (England)]],MATCH('1. Input energy data'!$AD27,Degrees15[Month], 1)+Y$2-13,MATCH(IF('1. Input energy data'!$G$11="Multiple (England)", '1. Input energy data'!$J27, '1. Input energy data'!$G$11),Degrees15[#Headers], 0))))} | Z10: {=IF(OR($A10=0, '1. Input energy data'!$AM27=""), "",IF(OR('1. Input energy data'!$F27="Hospital",'1. Input energy data'!$F27="Nursing residential homes and hostels"),INDEX(Degrees18[[Month]:[Multiple (England)]],MATCH('1. Input energy data'!$AD27, Degrees18[Month], 1)+Z$2-13,MATCH(IF('1. Input energy data'!$G$11="Multiple (England)", '1. Input energy data'!$J27, '1. Input energy data'!$G$11),Degrees18[#Headers], 0)),INDEX(Degrees15[[Month]:[Multiple (England)]],MATCH('1. Input energy data'!$AD27,Degrees15[Month], 1)+Z$2-13,MATCH(IF('1. Input energy data'!$G$11="Multiple (England)", '1. Input energy data'!$J27, '1. Input energy data'!$G$11),Degrees15[#Headers], 0))))} | AA10: {=IF(OR($A10=0, '1. Input energy data'!$AN27=""), "",IF(OR('1. Input energy data'!$F27="Hospital",'1. Input energy data'!$F27="Nursing residential homes and hostels"),INDEX(Degrees18[[Month]:[Multiple (England)]],MATCH('1. Input energy data'!$AD27, Degrees18[Month], 1)+AA$2-13,MATCH(IF('1. Input energy data'!$G$11="Multiple (England)", '1. Input energy data'!$J27, '1. Input energy data'!$G$11),Degrees18[#Headers], 0)),INDEX(Degrees15[[Month]:[Multiple (England)]],MATCH('1. Input energy data'!$AD27,Degrees15[Month], 1)+AA$2-13,MATCH(IF('1. Input energy data'!$G$11="Multiple (England)", '1. Input energy data'!$J27, '1. Input energy data'!$G$11),Degrees15[#Headers], 0))))} | AB10: {=IF(OR($A10=0, '1. Input energy data'!$AO27=""), "",IF(OR('1. Input energy data'!$F27="Hospital",'1. Input energy data'!$F27="Nursing residential homes and hostels"),INDEX(Degrees18[[Month]:[Multiple (England)]],MATCH('1. Input energy data'!$AD27, Degrees18[Month], 1)+AB$2-13,MATCH(IF('1. Input energy data'!$G$11="Multiple (England)", '1. Input energy data'!$J27, '1. Input energy data'!$G$11),Degrees18[#Headers], 0)),INDEX(Degrees15[[Month]:[Multiple (England)]],MATCH('1. Input energy data'!$AD27,Degrees15[Month], 1)+AB$2-13,MATCH(IF('1. Input energy data'!$G$11="Multiple (England)", '1. Input energy data'!$J27, '1. Input energy data'!$G$11),Degrees15[#Headers], 0))))} | AC10: {=IF(OR($A10=0, '1. Input energy data'!$AP27=""), "",IF(OR('1. Input energy data'!$F27="Hospital",'1. Input energy data'!$F27="Nursing residential homes and hostels"),INDEX(Degrees18[[Month]:[Multiple (England)]],MATCH('1. Input energy data'!$AD27, Degrees18[Month], 1)+AC$2-13,MATCH(IF('1. Input energy data'!$G$11="Multiple (England)", '1. Input energy data'!$J27, '1. Input energy data'!$G$11),Degrees18[#Headers], 0)),INDEX(Degrees15[[Month]:[Multiple (England)]],MATCH('1. Input energy data'!$AD27,Degrees15[Month], 1)+AC$2-13,MATCH(IF('1. Input energy data'!$G$11="Multiple (England)", '1. Input energy data'!$J27, '1. Input energy data'!$G$11),Degrees15[#Headers], 0))))} | AD10: {=IF(OR($A10=0, '1. Input energy data'!$AQ27=""), "",IF(OR('1. Input energy data'!$F27="Hospital",'1. Input energy data'!$F27="Nursing residential homes and hostels"),INDEX(Degrees18[[Month]:[Multiple (England)]],MATCH('1. Input energy data'!$AD27, Degrees18[Month], 1)+AD$2-13,MATCH(IF('1. Input energy data'!$G$11="Multiple (England)", '1. Input energy data'!$J27, '1. Input energy data'!$G$11),Degrees18[#Headers], 0)),INDEX(Degrees15[[Month]:[Multiple (England)]],MATCH('1. Input energy data'!$AD27,Degrees15[Month], 1)+AD$2-13,MATCH(IF('1. Input energy data'!$G$11="Multiple (England)", '1. Input energy data'!$J27, '1. Input energy data'!$G$11),Degrees15[#Headers], 0))))} | AE10: =IF(OR($A10=0, $P10="", CalcTable[[#This Row],[13]]="", $Q10="", '1. Input energy data'!AF27=""), "", ($P10*CalcTable[[#This Row],[13]]+$Q10)-'1. Input energy data'!AF27) | AF10: =IF(OR($A10=0, $P10="", CalcTable[[#This Row],[14]]="", $Q10="", '1. Input energy data'!AG27=""), "", ($P10*CalcTable[[#This Row],[14]]+$Q10)-'1. Input energy data'!AG27) | AG10: =IF(OR($A10=0, $P10="", CalcTable[[#This Row],[15]]="", $Q10="", '1. Input energy data'!AH27=""), "", ($P10*CalcTable[[#This Row],[15]]+$Q10)-'1. Input energy data'!AH27) | AH10: =IF(OR($A10=0, $P10="", CalcTable[[#This Row],[16]]="", $Q10="", '1. Input energy data'!AI27=""), "", ($P10*CalcTable[[#This Row],[16]]+$Q10)-'1. Input energy data'!AI27) | AI10: =IF(OR($A10=0, $P10="", CalcTable[[#This Row],[17]]="", $Q10="", '1. Input energy data'!AJ27=""), "", ($P10*CalcTable[[#This Row],[17]]+$Q10)-'1. Input energy data'!AJ27) | AJ10: =IF(OR($A10=0, $P10="", CalcTable[[#This Row],[18]]="", $Q10="", '1. Input energy data'!AK27=""), "", ($P10*CalcTable[[#This Row],[18]]+$Q10)-'1. Input energy data'!AK27) | AK10: =IF(OR($A10=0, $P10="", CalcTable[[#This Row],[19]]="", $Q10="", '1. Input energy data'!AL27=""), "", ($P10*CalcTable[[#This Row],[19]]+$Q10)-'1. Input energy data'!AL27) | AL10: =IF(OR($A10=0, $P10="", CalcTable[[#This Row],[20]]="", $Q10="", '1. Input energy data'!AM27=""), "", ($P10*CalcTable[[#This Row],[20]]+$Q10)-'1. Input energy data'!AM27) | AM10: =IF(OR($A10=0, $P10="", CalcTable[[#This Row],[21]]="", $Q10="", '1. Input energy data'!AN27=""), "", ($P10*CalcTable[[#This Row],[21]]+$Q10)-'1. Input energy data'!AN27) | AN10: =IF(OR($A10=0, $P10="", CalcTable[[#This Row],[22]]="", $Q10="", '1. Input energy data'!AO27=""), "", ($P10*CalcTable[[#This Row],[22]]+$Q10)-'1. Input energy data'!AO27) | AO10: =IF(OR($A10=0, $P10="", CalcTable[[#This Row],[23]]="", $Q10="", '1. Input energy data'!AP27=""), "", ($P10*CalcTable[[#This Row],[23]]+$Q10)-'1. Input energy data'!AP27) | AP10: =IF(OR($A10=0, $P10="", CalcTable[[#This Row],[24]]="", $Q10="", '1. Input energy data'!AQ27=""), "", ($P10*CalcTable[[#This Row],[24]]+$Q10)-'1. Input energy data'!AQ27) | AQ10: =IF(CalcTable[[#This Row],[Building]]=0,"",1-((1-CalcTable[[#This Row],[R2]])*(COUNT('1. Input energy data'!N27:Y27)-1)/(COUNT('1. Input energy data'!N27:Y27)-2))) | AR10: =IF(CalcTable[[#This Row],[Building]]=0,"",1.26*TINV(0.1,COUNT('1. Input energy data'!N27:Y27)-2)*STEYX('1. Input energy data'!N27:Y27,CalcTable[[#This Row],[1]:[12]])*((1+2/COUNT('1. Input energy data'!N27:Y27))*COUNT(CalcTable[[#This Row],[Month 1 avoided kWh]:[Month 12]]))^0.5) | AS10: =IF(CalcTable[[#This Row],[Building]]=0,"",ABS(CalcTable[[#This Row],[Absolute Uncertainty]]/SUM(CalcTable[[#This Row],[Month 1 avoided kWh]:[Month 12]]))) | AT10: =IF(CalcTable[[#This Row],[Building]]=0,"",COUNT('1. Input energy data'!N27:Y27)) | AU10: =IF(CalcTable[[#This Row],[Building]]=0,"",COUNT('1. Input energy data'!AF27:AQ27)) | AV10: {=_xlfn.IFS(CalcTable[[#This Row],[Building]]=0,"",AND(OR('1. Input energy data'!AT27="Energy Bills - Actual",'1. Input energy data'!AT27="Meter Readings",'1. Input energy data'!AT27="Half Hourly Data"),OR('1. Input energy data'!Z27="Energy Bills - Actual",'1. Input energy data'!Z27="Meter Readings",'1. Input energy data'!Z27="Half Hourly Data")),"ACTUAL",OR('1. Input energy data'!AT27="",'1. Input energy data'!Z27=""),"BLANK",OR('1. Input energy data'!AT27="Other (specify in commentary)",'1. Input energy data'!Z27="Other (specify in commentary)"),"OTHER",OR('1. Input energy data'!AT27="Energy Bills - Estimated",'1. Input energy data'!Z27="Energy Bills - Estimated"),"ESTIMATED",OR('1. Input energy data'!AT27="Energy Bills - Partially Estimated",'1. Input energy data'!Z27="Energy Bills - Partially Estimated"),"PARTIALLY ESTIMATED",TRUE,"BLANK")}
