Workbook
Name Blank: 'Extra look-up'!$B$33:$B$33
Name BMS: 'Eligible Technologies'!$D$17:$D$18
Name BMS: 'Eligible Technologies'!$D$17:$D$18
Name Boilers: #REF!
Name Building_Names: '[1]Backing Sheet - Buildings'!$E$2:INDEX('[1]Backing Sheet - Buildings'!$E$2:$E$101,COUNTIF('[1]Backing Sheet - Buildings'!$E$2:$E$101,"?*"))
Name Buildings: OFFSET('[1]Backing Sheet - Buildings'!A1,0,0,COUNTA('[1]Backing Sheet - Buildings'!$E$2:$E$101),1)
Name ChartXVals: OFFSET(INDEX(#REF!,MATCH("1",#REF!,0),1),0,0,COUNTIF(#REF!,"1"),1)
Name ChartYVals: OFFSET(INDEX(#REF!,MATCH("1",#REF!,0),3),0,0,COUNTIF(#REF!,"1"),1)
Name CHP: #REF!
Name CO2_factors: 'Eligible Technologies'!$J$17:$K$26
Name Compressor: #REF!
Name Cooling: 'Eligible Technologies'!$D$19:$D$23
Name Custom: #REF!
Name Data_Sheets: #REF!
Name DRange: '[2]Backing Sheet Buildings'!$D$2:INDEX('[2]Backing Sheet Buildings'!$D$2:$D$101,COUNTIF('[2]Backing Sheet Buildings'!$D$2:$D$101,"?*"))
Name DRange: '[1]Backing Sheet - Buildings'!$E$2:INDEX('[1]Backing Sheet - Buildings'!$E$2:$E$101,COUNTIF('[1]Backing Sheet - Buildings'!$E$2:$E$101,"?*"))
Name DRangeSystems: '[2]Backing Sheet Buildings'!$L$2:INDEX('[2]Backing Sheet Buildings'!$L$2:$L$101,COUNTIF('[2]Backing Sheet Buildings'!$L$2:$L$101,"?*"))
Name DRangeSystems: '[1]Backing Sheet - Buildings'!$M$2:INDEX('[1]Backing Sheet - Buildings'!$M$2:$M$101,COUNTIF('[1]Backing Sheet - Buildings'!$M$2:$M$101,"?*"))
Name Drawdown_1: '[16]Loan Amortisation'!$P$31
Name Drawdown_1: '[3]Loan Amortisation'!$P$31
Name Drawdown_1_Date: '[16]Loan Amortisation'!$O$31
Name Drawdown_1_Date: '[3]Loan Amortisation'!$O$31
Name Drawdown_1_Financial_Year: '[16]Extra look-up'!$R$3
Name Drawdown_1_Financial_Year: '[3]Extra look-up'!$R$3
Name Drawdown_2: '[16]Loan Amortisation'!$P$32
Name Drawdown_2: '[3]Loan Amortisation'!$P$32
Name Drawdown_2_Date: '[16]Loan Amortisation'!$O$32
Name Drawdown_2_Date: '[3]Loan Amortisation'!$O$32
Name Drawdown_2_Financial_Year: '[16]Extra look-up'!$S$3
Name Drawdown_2_Financial_Year: '[3]Extra look-up'!$S$3
Name Drawdown_3: '[16]Loan Amortisation'!$P$33
Name Drawdown_3: '[3]Loan Amortisation'!$P$33
Name Drawdown_3_Date: '[16]Loan Amortisation'!$O$33
Name Drawdown_3_Date: '[3]Loan Amortisation'!$O$33
Name Drawdown_3_Financial_Year: '[16]Extra look-up'!$T$3
Name Drawdown_3_Financial_Year: '[3]Extra look-up'!$T$3
Name EfW: 'Eligible Technologies'!$D$24:$D$25
Name Emergency_Services: 'Project Compliance Tool'!$AG$20:$AG$30
Name End_of_Life: #REF!
Name Energy_Savings_Calculations: #REF!
Name Energy_Types: '[16]Eligible Technologies'!$J$17:$J$26
Name Energy_Types: '[3]Eligible Technologies'!$J$17:$J$26
Name Energy_Types: 'Eligible Technologies'!$J$17:$J$26
Name Final_Payment_Year: '[16]Extra look-up'!$Q$3
Name Final_Payment_Year: '[3]Extra look-up'!$Q$3
Name FPrice: '[4]Lookup Table'!$G$15:$G$87
Name FPrice: '[4]Lookup Table'!$G$15:$G$87
Name FPrice: '[5]Lookup Table'!$G$15:$G$87
Name FRange: '[2]Backing Sheet Buildings'!$K$2:INDEX('[2]Backing Sheet Buildings'!XFC1:XFC50,COUNTIF('[2]Backing Sheet Buildings'!$K$2:$K$51,"*?"))
Name FRange: '[1]Backing Sheet - Buildings'!$M$2:INDEX('[1]Backing Sheet - Buildings'!$M$2:$M$101,COUNTIF('[1]Backing Sheet - Buildings'!$M$2:$M$101,"?*"))
Name Fuel_type: '[6]Technology List & Con. Factors'!$F$5:$F$14
Name Fuel_type: '[6]Technology List & Con. Factors'!$F$5:$F$14
Name Fuel_type: '[7]Technology List & Con. Factors'!$F$5:$F$14
Name Further_Education_Institute: 'Project Compliance Tool'!$AH$20:$AH$37
Name Hand_dryers: 'Eligible Technologies'!$D$26:$D$26
Name Heating: 'Eligible Technologies'!$D$27:$D$33
Name Higher_Education_Institute: 'Project Compliance Tool'!$AI$20:$AI$37
Name Hot_water: 'Eligible Technologies'!$D$34:$D$36
Name Insulation_building_fabric: 'Eligible Technologies'!$D$37:$D$44
Name Insulation_draught_proofing: 'Eligible Technologies'!$D$45

Sheet CRYSTAL_PERSIST
V1: <CrystalAddin Version="1" country="GB" lang="en"/>

Sheet Terms and Conditions
B3: Salix Finance: Terms and Conditions for Salix Compliance Tools
B4: ="© Salix Finance "&YEAR(NOW()) -> © Salix Finance 2026
B6: Terms and conditions of use
B7: Salix Finance Ltd (“Salix”) offers 100% interest-free capital to the public sector to improve their energy efficiency and reduce their greenhouse gas emissions. Salix’ loans have to comply with certain conditions as to type of equipment being installed and its financial and carbon savings efficiency. Salix has developed a suite of simple “tools” available for users to download for free to help users estimate their anticipated financial and carbon savings for each scheme they want to assess using data provided by the user.
B8: Non-disclosure
B9: Salix and/or the users acknowledge that they may receive or become aware of confidential information relating to the other party. Except to the extent that disclosure is expressly permitted, or otherwise agreed in writing between the parties, each party shall treat the confidential information provided by the other party as confidential and safeguard it accordingly and not disclose the confidential information provided by the other party to any other person (except their employees, agents, and professional advisers to whom and to the extent to which such disclosure is necessary for the purposes contemplated in considering eligibility for Salix finance and subject to procuring that such persons are made aware of and shall comply with these obligations of confidentiality).
B10: Intellectual property rights
B11: Salix are the owner or the licensee of all intellectual property rights in our tools, and in the material found within them. Salix’ tools are available to use free under licence. The look and feel, the integral data, the embedded calculations and algorithms, and resulting compliance guidance have been created by Salix Finance who own all the Intellectual Property contained within them for the exclusive use of its existing and potential clients. All rights are reserved. No part of the tools may be reproduced, distributed, or transmitted in any form or by any means, including photocopying, recording, or other electronic or mechanical methods, without the prior written permission of the Salix, except in the case of certain non-commercial uses permitted by copyright law. For permission requests, please write to Salix Finance Ltd at 10 South Colonnade, Canary Wharf, London, E14 4PU.

Sheet Guidance Notes
C3: Salix Finance - Compliance Tool
C5: Guidance Notes
C6: This new Recycling Fund and SEELS Tool is to come into effect from April 2026. The following section is designed to give some clear guidance on how to fill out the 'Project Compliance Tool' tab so that you can assess the compliancy of the project. If the project is over £100,000, or is a SEELS Wales application, please complete the Business Case section in the separate tab. There is separate guidance for the Business Case, which can be requested from:
C7: technical@salixfinance.co.uk
C8: Application Notes for specific guidance can be found on our website
C10: For guidance on calculating forecast energy please see below.
C12: Enter project details as shown in the example below:
C17: Enter information for each work type required for the project. Up to 10 work types may be entered here, although an extended version of the form can be requested.
C23: The cells to the right show the calculated values for each work type.
C29: Missing information for a work type will be flagged up in the 'Data Entry Check' column. The compliancy check cannot be completed until all information is entered.
C36: Once all of the required information has been entered correctly, the cells at the bottom will show the final project figures and whether or not the project is compliant.
C43: If you have a technology that is affecting more than one fuel, please enter each fuel into a separate line in the Compliance Tool:
B52: Calculating Forecast Energy Cost: Year 0 + Year 5 = Forecast Energy Cost (p/kWh) 2 The final year will depend on the programme compliance criteria, please check specific programme to confirm how many years needed to be calculated To calculate Year 5: Year 0 x 1.02^5 = Year 5 For example: SEELS England loan (5-year payback period), current electricity cost at 12p/kWh with 2% annual inflation rate the forecast cost would be: Step 1 12 x 1.02^5 = 13.25p Step 2 12 + 13.25 = 12.63p 2 Forecast Energy cost = 12.63p/kWh

Sheet Project Compliance Tool
R1: **hidden* | T1: *hidden*
AQ2: Hide Here
B3: Organisation: | J3: Salix Finance: | N3: Compliancy Criteria: | R3: =IF($D$4="Recycling Fund","Client Additional Fund:","") | AQ3: Hide Here
B4: Programme: | J4: Compliance Tool V38.2 | N4: Payback | O4: =IF(D4="SEELS England","No payback criteria - loan repaid in 5 Years",IF($D$4="","",'Extra look-up'!F80&" years")) | R4: =IF($D$4="Recycling Fund","10 years","") | AQ4: Hide Here
J5: ="© Salix Finance "&YEAR(NOW()) -> © Salix Finance 2026 | N5: £/tCO2e LT | O5: =IF($D$4="","","£"&'Extra look-up'!G80) | R5: =IF($D$4="Recycling Fund","£400","") | AQ5: Hide Here
N6: =IF(OR(O12>=100000,O13>=100000,O14>=100000,O15>=100000,O16>=100000,O17>=100000,O18>=100000,O19>=100000,O20>=100000,O61>=100000),"Please Complete Business Case Information in next tab","") | AQ6: Hide Here
AQ7: Hide Here
B8: District Heating Projects Only: Bespoke Carbon Factor kg/kWh | C8: Start Date | D8: Completion Date | E8: Site Name | F8: Remaining Site Life (yrs) | G8: Project Description | L8: Data Entry Check | AQ8: Hide Here
L9: =IF(AND(C9="",D9="",E9="",F9="",G9=""),"",IF($F$9="","Enter site life","OK")) | AQ9: Hide Here
AQ10: Hide Here
B11: Description of Work | C11: Project Completion Date | D11: Energy Type | E11: Current p/kWh | F11: Forecast p/kWh | G11: Forecast % Change | H11: Project Type | I11: Technology - Work Type | K11: Annual kWhrs Pre-Project | L11: Annual kWhrs Post-Project | M11: Annual kWh savings | N11: % kWh savings | O11: Project Value | P11: Annual Financial Savings | Q11: Payback in Years | R11: kgCO2/kWh | S11: tCO2e pa | T11: tCO2e LT | U11: £/tCO2e LT | V11: Data Entry Check | W11: PF | X11: Payback | Y11: Data Entry | AB11: OK | AC11: PF Round plus cell value 100 | AD11: Electiricty Carbon Factor | AJ11: Payback | AK11: £/tCO2 | AQ11: Hide Here
A12: 1 | G12: =IFERROR(((F12/E12)^(1/X12))-1,"") | M12: =IF(K12="","",K12-L12) | N12: =IFERROR(M12/K12,0) -> 0 | P12: =IF(OR(F12="",M12=""),"",M12*F12/100) | Q12: =IF(OR(P12<=0,P12=""),"",O12/P12) | R12: =IFERROR(IF(D12="Electricity",AD12,HLOOKUP(D12,$AH$100:$AQ$138,2,FALSE)),"") | S12: =IF(OR(D12="",M12="",R12=""),"",M12*R12/1000) | T12: =IF(S12="","",W12*S12) | U12: =IF(ISERROR(O12/T12),"",O12/T12) | V12: =IF('Extra look-up'!$H6="Work Type","Check Work Type",IF(AND(D12="",F12="",H12="",I12="",L12="",M12=""),"",IF(OR(D12="",F12="",H12="",I12="",L12="",M12="",$L$9<>"OK"),"Check all fields completed correctly",IF(AND(D12="",OR(F12<>"",H12<>"",I12<>"",L12<>"")),"Check all fields completed correctly","OK")))) | W12: =IF(I12="","",IF(VLOOKUP(I12,'Eligible Technologies'!$D$7:$G$76,4,FALSE)<$F$9,VLOOKUP(I12,'Eligible Technologies'!$D$7:$G$76,4,FALSE),$F$9)) | X12: =IF(Q12="","",ROUNDUP($Q$65,0)) | Y12: =IF(V12="",0,1) -> 0 | Z12: ='Extra look-up'!F6 | AA12: ='Extra look-up'!H6 -> OK | AB12: =IF(AND(V12<>"OK",V12<>""),51,1) -> 1 | AC12: =ROUNDUP(W12,0)+100 -> #VALUE! | AD12: =$AH$101 -> 0.1953 | AJ12: =IF(OR($D$5="Higher Education Institute",$D$4="Scotland",$D$4="Wales",$D$4="Northern Ireland"),8,IF(OR($D$5="Local Authority",$D$5="NHS",$D$5="Emergency Services",$D$5="Maintained School (Local Authority)"),10,"")) | AK12: =IF($D$4="Scotland",250,IF($D$4="Northern Ireland",200,IF(OR($D$4="Wales",$D$5="Higher Education Institute"),275,IF(OR($D$5="Local Authority",$D$5="NHS",$D$5="Emergency Services",$D$5="Maintained School (Local Authority)"),344,"")))) | AQ12: Hide Here
A13: 2 | G13: =IFERROR(((F13/E13)^(1/X13))-1,"") | M13: =IF(K13="","",K13-L13) | N13: =IFERROR(M13/K13,0) -> 0 | P13: =IF(OR(F13="",M13=""),"",M13*F13/100) | Q13: =IF(OR(P13<=0,P13=""),"",O13/P13) | R13: =IFERROR(IF(D13="Electricity",AD13,HLOOKUP(D13,$AH$100:$AQ$138,2,FALSE)),"") | S13: =IF(OR(D13="",M13="",R13=""),"",M13*R13/1000) | T13: =IF(S13="","",W13*S13) | U13: =IF(ISERROR(O13/T13),"",O13/T13) | V13: =IF('Extra look-up'!$H7="Work Type","Check Work Type",IF(AND(D13="",F13="",H13="",I13="",L13="",M13=""),"",IF(OR(D13="",F13="",H13="",I13="",L13="",M13="",$L$9<>"OK"),"Check all fields completed correctly",IF(AND(D13="",OR(F13<>"",H13<>"",I13<>"",L13<>"")),"Check all fields completed correctly","OK")))) | W13: =IF(I13="","",IF(VLOOKUP(I13,'Eligible Technologies'!$D$7:$G$76,4,FALSE)<$F$9,VLOOKUP(I13,'Eligible Technologies'!$D$7:$G$76,4,FALSE),$F$9)) | X13: =IF(Q13="","",ROUNDUP($Q$65,0)) | Y13: =IF(V13="",0,1) -> 0 | Z13: ='Extra look-up'!F7 | AA13: ='Extra look-up'!H7 -> OK | AB13: =IF(AND(V13<>"OK",V13<>""),51,1) -> 1 | AC13: =ROUNDUP(W13,0)+100 -> #VALUE! | AD13: =$AH$101 -> 0.1953 | AQ13: Hide Here
A14: 3 | G14: =IFERROR(((F14/E14)^(1/X14))-1,"") | M14: =IF(K14="","",K14-L14) | N14: =IFERROR(M14/K14,0) -> 0 | P14: =IF(OR(F14="",M14=""),"",M14*F14/100) | Q14: =IF(OR(P14<=0,P14=""),"",O14/P14) | R14: =IFERROR(IF(D14="Electricity",AD14,HLOOKUP(D14,$AH$100:$AQ$138,2,FALSE)),"") | S14: =IF(OR(D14="",M14="",R14=""),"",M14*R14/1000) | T14: =IF(S14="","",W14*S14) | U14: =IF(ISERROR(O14/T14),"",O14/T14) | V14: =IF('Extra look-up'!$H8="Work Type","Check Work Type",IF(AND(D14="",F14="",H14="",I14="",L14="",M14=""),"",IF(OR(D14="",F14="",H14="",I14="",L14="",M14="",$L$9<>"OK"),"Check all fields completed correctly",IF(AND(D14="",OR(F14<>"",H14<>"",I14<>"",L14<>"")),"Check all fields completed correctly","OK")))) | W14: =IF(I14="","",IF(VLOOKUP(I14,'Eligible Technologies'!$D$7:$G$76,4,FALSE)<$F$9,VLOOKUP(I14,'Eligible Technologies'!$D$7:$G$76,4,FALSE),$F$9)) | X14: =IF(Q14="","",ROUNDUP($Q$65,0)) | Y14: =IF(V14="",0,1) -> 0 | Z14: ='Extra look-up'!F8 | AA14: ='Extra look-up'!H8 -> OK | AB14: =IF(AND(V14<>"OK",V14<>""),51,1) -> 1 | AC14: =ROUNDUP(W14,0)+100 -> #VALUE! | AD14: =$AH$101 -> 0.1953 | AQ14: Hide Here
A15: 4 | G15: =IFERROR(((F15/E15)^(1/X15))-1,"") | M15: =IF(K15="","",K15-L15) | N15: =IFERROR(M15/K15,0) -> 0 | P15: =IF(OR(F15="",M15=""),"",M15*F15/100) | Q15: =IF(OR(P15<=0,P15=""),"",O15/P15) | R15: =IFERROR(IF(D15="Electricity",AD15,HLOOKUP(D15,$AH$100:$AQ$138,2,FALSE)),"") | S15: =IF(OR(D15="",M15="",R15=""),"",M15*R15/1000) | T15: =IF(S15="","",W15*S15) | U15: =IF(ISERROR(O15/T15),"",O15/T15) | V15: =IF('Extra look-up'!$H9="Work Type","Check Work Type",IF(AND(D15="",F15="",H15="",I15="",L15="",M15=""),"",IF(OR(D15="",F15="",H15="",I15="",L15="",M15="",$L$9<>"OK"),"Check all fields completed correctly",IF(AND(D15="",OR(F15<>"",H15<>"",I15<>"",L15<>"")),"Check all fields completed correctly","OK")))) | W15: =IF(I15="","",IF(VLOOKUP(I15,'Eligible Technologies'!$D$7:$G$76,4,FALSE)<$F$9,VLOOKUP(I15,'Eligible Technologies'!$D$7:$G$76,4,FALSE),$F$9)) | X15: =IF(Q15="","",ROUNDUP($Q$65,0)) | Y15: =IF(V15="",0,1) -> 0 | Z15: ='Extra look-up'!F9 | AA15: ='Extra look-up'!H9 -> OK | AB15: =IF(AND(V15<>"OK",V15<>""),51,1) -> 1 | AC15: =ROUNDUP(W15,0)+100 -> #VALUE! | AD15: =$AH$101 -> 0.1953 | AQ15: Hide Here
A16: 5 | G16: =IFERROR(((F16/E16)^(1/X16))-1,"") | M16: =IF(K16="","",K16-L16) | N16: =IFERROR(M16/K16,0) -> 0 | P16: =IF(OR(F16="",M16=""),"",M16*F16/100) | Q16: =IF(OR(P16<=0,P16=""),"",O16/P16) | R16: =IFERROR(IF(D16="Electricity",AD16,HLOOKUP(D16,$AH$100:$AQ$138,2,FALSE)),"") | S16: =IF(OR(D16="",M16="",R16=""),"",M16*R16/1000) | T16: =IF(S16="","",W16*S16) | U16: =IF(ISERROR(O16/T16),"",O16/T16) | V16: =IF('Extra look-up'!$H10="Work Type","Check Work Type",IF(AND(D16="",F16="",H16="",I16="",L16="",M16=""),"",IF(OR(D16="",F16="",H16="",I16="",L16="",M16="",$L$9<>"OK"),"Check all fields completed correctly",IF(AND(D16="",OR(F16<>"",H16<>"",I16<>"",L16<>"")),"Check all fields completed correctly","OK")))) | W16: =IF(I16="","",IF(VLOOKUP(I16,'Eligible Technologies'!$D$7:$G$76,4,FALSE)<$F$9,VLOOKUP(I16,'Eligible Technologies'!$D$7:$G$76,4,FALSE),$F$9)) | X16: =IF(Q16="","",ROUNDUP($Q$65,0)) | Y16: =IF(V16="",0,1) -> 0 | Z16: ='Extra look-up'!F10 | AA16: ='Extra look-up'!H10 -> OK | AB16: =IF(AND(V16<>"OK",V16<>""),51,1) -> 1 | AC16: =ROUNDUP(W16,0)+100 -> #VALUE! | AD16: =$AH$101 -> 0.1953 | AQ16: Hide Here
A17: 6 | G17: =IFERROR(((F17/E17)^(1/X17))-1,"") | M17: =IF(K17="","",K17-L17) | N17: =IFERROR(M17/K17,0) -> 0 | P17: =IF(OR(F17="",M17=""),"",M17*F17/100) | Q17: =IF(OR(P17<=0,P17=""),"",O17/P17) | R17: =IFERROR(IF(D17="Electricity",AD17,HLOOKUP(D17,$AH$100:$AQ$138,2,FALSE)),"") | S17: =IF(OR(D17="",M17="",R17=""),"",M17*R17/1000) | T17: =IF(S17="","",W17*S17) | U17: =IF(ISERROR(O17/T17),"",O17/T17) | V17: =IF('Extra look-up'!$H11="Work Type","Check Work Type",IF(AND(D17="",F17="",H17="",I17="",L17="",M17=""),"",IF(OR(D17="",F17="",H17="",I17="",L17="",M17="",$L$9<>"OK"),"Check all fields completed correctly",IF(AND(D17="",OR(F17<>"",H17<>"",I17<>"",L17<>"")),"Check all fields completed correctly","OK")))) | W17: =IF(I17="","",IF(VLOOKUP(I17,'Eligible Technologies'!$D$7:$G$76,4,FALSE)<$F$9,VLOOKUP(I17,'Eligible Technologies'!$D$7:$G$76,4,FALSE),$F$9)) | X17: =IF(Q17="","",ROUNDUP($Q$65,0)) | Y17: =IF(V17="",0,1) -> 0 | Z17: ='Extra look-up'!F11 | AA17: ='Extra look-up'!H11 -> OK | AB17: =IF(AND(V17<>"OK",V17<>""),51,1) -> 1 | AC17: =ROUNDUP(W17,0)+100 -> #VALUE! | AD17: =$AH$101 -> 0.1953
A18: 7 | G18: =IFERROR(((F18/E18)^(1/X18))-1,"") | J18: Wind turbine | M18: =IF(K18="","",K18-L18) | N18: =IFERROR(M18/K18,0) -> 0 | P18: =IF(OR(F18="",M18=""),"",M18*F18/100) | Q18: =IF(OR(P18<=0,P18=""),"",O18/P18) | R18: =IFERROR(IF(D18="Electricity",AD18,HLOOKUP(D18,$AH$100:$AQ$138,2,FALSE)),"") | S18: =IF(OR(D18="",M18="",R18=""),"",M18*R18/1000) | T18: =IF(S18="","",W18*S18) | U18: =IF(ISERROR(O18/T18),"",O18/T18) | V18: =IF('Extra look-up'!$H12="Work Type","Check Work Type",IF(AND(D18="",F18="",H18="",I18="",L18="",M18=""),"",IF(OR(D18="",F18="",H18="",I18="",L18="",M18="",$L$9<>"OK"),"Check all fields completed correctly",IF(AND(D18="",OR(F18<>"",H18<>"",I18<>"",L18<>"")),"Check all fields completed correctly","OK")))) | W18: =IF(I18="","",IF(VLOOKUP(I18,'Eligible Technologies'!$D$7:$G$76,4,FALSE)<$F$9,VLOOKUP(I18,'Eligible Technologies'!$D$7:$G$76,4,FALSE),$F$9)) | X18: =IF(Q18="","",ROUNDUP($Q$65,0)) | Y18: =IF(V18="",0,1) -> 0 | Z18: ='Extra look-up'!F12 | AA18: ='Extra look-up'!H12 -> OK | AB18: =IF(AND(V18<>"OK",V18<>""),51,1) -> 1 | AC18: =ROUNDUP(W18,0)+100 -> #VALUE! | AD18: =$AH$101 -> 0.1953
A19: 8 | G19: =IFERROR(((F19/E19)^(1/X19))-1,"") | J19: Wind turbine | M19: =IF(K19="","",K19-L19) | N19: =IFERROR(M19/K19,0) -> 0 | P19: =IF(OR(F19="",M19=""),"",M19*F19/100) | Q19: =IF(OR(P19<=0,P19=""),"",O19/P19) | R19: =IFERROR(IF(D19="Electricity",AD19,HLOOKUP(D19,$AH$100:$AQ$138,2,FALSE)),"") | S19: =IF(OR(D19="",M19="",R19=""),"",M19*R19/1000) | T19: =IF(S19="","",W19*S19) | U19: =IF(ISERROR(O19/T19),"",O19/T19) | V19: =IF('Extra look-up'!$H13="Work Type","Check Work Type",IF(AND(D19="",F19="",H19="",I19="",L19="",M19=""),"",IF(OR(D19="",F19="",H19="",I19="",L19="",M19="",$L$9<>"OK"),"Check all fields completed correctly",IF(AND(D19="",OR(F19<>"",H19<>"",I19<>"",L19<>"")),"Check all fields completed correctly","OK")))) | W19: =IF(I19="","",IF(VLOOKUP(I19,'Eligible Technologies'!$D$7:$G$76,4,FALSE)<$F$9,VLOOKUP(I19,'Eligible Technologies'!$D$7:$G$76,4,FALSE),$F$9)) | X19: =IF(Q19="","",ROUNDUP($Q$65,0)) | Y19: =IF(V19="",0,1) -> 0 | Z19: ='Extra look-up'!F13 | AA19: ='Extra look-up'!H13 -> OK | AB19: =IF(AND(V19<>"OK",V19<>""),51,1) -> 1 | AC19: =ROUNDUP(W19,0)+100 -> #VALUE! | AD19: =$AH$101 -> 0.1953 | AG19: Emergency Services | AH19: Further Education Institute | AI19: Higher Education Institute | AJ19: Local Authority | AK19: NHS | AL19: Primary School | AM19: Secondary School | AN19: Maintained School | AO19: Client Type Name List
A20: 9 | G20: =IFERROR(((F20/E20)^(1/X20))-1,"") | M20: =IF(K20="","",K20-L20) | N20: =IFERROR(M20/K20,0) -> 0 | P20: =IF(OR(F20="",M20=""),"",M20*F20/100) | Q20: =IF(OR(P20<=0,P20=""),"",O20/P20) | R20: =IFERROR(IF(D20="Electricity",AD20,HLOOKUP(D20,$AH$100:$AQ$138,2,FALSE)),"") | S20: =IF(OR(D20="",M20="",R20=""),"",M20*R20/1000) | T20: =IF(S20="","",W20*S20) | U20: =IF(ISERROR(O20/T20),"",O20/T20) | V20: =IF('Extra look-up'!$H14="Work Type","Check Work Type",IF(AND(D20="",F20="",H20="",I20="",L20="",M20=""),"",IF(OR(D20="",F20="",H20="",I20="",L20="",M20="",$L$9<>"OK"),"Check all fields completed correctly",IF(AND(D20="",OR(F20<>"",H20<>"",I20<>"",L20<>"")),"Check all fields completed correctly","OK")))) | W20: =IF(I20="","",IF(VLOOKUP(I20,'Eligible Technologies'!$D$7:$G$76,4,FALSE)<$F$9,VLOOKUP(I20,'Eligible Technologies'!$D$7:$G$76,4,FALSE),$F$9)) | X20: =IF(Q20="","",ROUNDUP($Q$65,0)) | Y20: =IF(V20="",0,1) -> 0 | Z20: ='Extra look-up'!F14 | AA20: ='Extra look-up'!H14 -> OK | AB20: =IF(AND(V20<>"OK",V20<>""),51,1) -> 1 | AC20: =ROUNDUP(W20,0)+100 -> #VALUE! | AD20: =$AH$101 -> 0.1953 | AG20: Canteen/Cafeteria | AH20: Campus Building | AI20: Campus Building | AJ20: Canteen/Cafeteria | AK20: Ambulance station | AL20: Canteen/Cafeteria | AM20: Canteen/Cafeteria | AN20: Canteen/Cafeteria | AO20: ='Extra look-up'!G126 -> #N/A
A21: 10 | G21: =IFERROR(((F21/E21)^(1/X21))-1,"") | M21: =IF(K21="","",K21-L21) | N21: =IFERROR(M21/K21,0) -> 0 | P21: =IF(OR(F21="",M21=""),"",M21*F21/100) | Q21: =IF(OR(P21<=0,P21=""),"",O21/P21) | R21: =IFERROR(IF(D21="Electricity",AD21,HLOOKUP(D21,$AH$100:$AQ$138,2,FALSE)),"") | S21: =IF(OR(D21="",M21="",R21=""),"",M21*R21/1000) | T21: =IF(S21="","",W21*S21) | U21: =IF(ISERROR(O21/T21),"",O21/T21) | V21: =IF('Extra look-up'!$H15="Work Type","Check Work Type",IF(AND(D21="",F21="",H21="",I21="",L21="",M21=""),"",IF(OR(D21="",F21="",H21="",I21="",L21="",M21="",$L$9<>"OK"),"Check all fields completed correctly",IF(AND(D21="",OR(F21<>"",H21<>"",I21<>"",L21<>"")),"Check all fields completed correctly","OK")))) | W21: =IF(I21="","",IF(VLOOKUP(I21,'Eligible Technologies'!$D$7:$G$76,4,FALSE)<$F$9,VLOOKUP(I21,'Eligible Technologies'!$D$7:$G$76,4,FALSE),$F$9)) | X21: =IF(Q21="","",ROUNDUP($Q$65,0)) | Y21: =IF(V21="",0,1) -> 0 | Z21: ='Extra look-up'!F15 | AA21: ='Extra look-up'!H15 -> OK | AB21: =IF(AND(V21<>"OK",V21<>""),51,1) -> 1 | AC21: =ROUNDUP(W21,0)+100 -> #VALUE! | AD21: =$AH$101 -> 0.1953 | AG21: Car Park | AH21: Canteen/Cafeteria | AI21: Canteen/Cafeteria | AJ21: Car Park | AK21: Canteen/Cafeteria | AL21: Car Park | AM21: Car Park | AN21: Car Park
A22: 11 | G22: =IFERROR(((F22/E22)^(1/X22))-1,"") | M22: =IF(K22="","",K22-L22) | N22: =IFERROR(M22/K22,0) -> 0 | P22: =IF(OR(F22="",M22=""),"",M22*F22/100) | Q22: =IF(OR(P22<=0,P22=""),"",O22/P22) | R22: =IFERROR(IF(D22="Electricity",AD22,HLOOKUP(D22,$AH$100:$AQ$138,2,FALSE)),"") | S22: =IF(OR(D22="",M22="",R22=""),"",M22*R22/1000) | T22: =IF(S22="","",W22*S22) | U22: =IF(ISERROR(O22/T22),"",O22/T22) | V22: =IF('Extra look-up'!$H16="Work Type","Check Work Type",IF(AND(D22="",F22="",H22="",I22="",L22="",M22=""),"",IF(OR(D22="",F22="",H22="",I22="",L22="",M22="",$L$9<>"OK"),"Check all fields completed correctly",IF(AND(D22="",OR(F22<>"",H22<>"",I22<>"",L22<>"")),"Check all fields completed correctly","OK")))) | W22: =IF(I22="","",IF(VLOOKUP(I22,'Eligible Technologies'!$D$7:$G$76,4,FALSE)<$F$9,VLOOKUP(I22,'Eligible Technologies'!$D$7:$G$76,4,FALSE),$F$9)) | X22: =IF(Q22="","",ROUNDUP($Q$65,0)) | Y22: =IF(V22="",0,1) -> 0 | Z22: ='Extra look-up'!F16 | AA22: ='Extra look-up'!H16 -> OK | AB22: =IF(AND(V22<>"OK",V22<>""),51,1) -> 1 | AC22: =ROUNDUP(W22,0)+100 -> #VALUE! | AD22: =$AH$101 -> 0.1953 | AG22: Corridor | AH22: Car park | AI22: Car park | AJ22: Community Centre | AK22: Car Park | AL22: Classroom | AM22: Classroom | AN22: Classroom
A23: 12 | G23: =IFERROR(((F23/E23)^(1/X23))-1,"") | M23: =IF(K23="","",K23-L23) | N23: =IFERROR(M23/K23,0) -> 0 | P23: =IF(OR(F23="",M23=""),"",M23*F23/100) | Q23: =IF(OR(P23<=0,P23=""),"",O23/P23) | R23: =IFERROR(IF(D23="Electricity",AD23,HLOOKUP(D23,$AH$100:$AQ$138,2,FALSE)),"") | S23: =IF(OR(D23="",M23="",R23=""),"",M23*R23/1000) | T23: =IF(S23="","",W23*S23) | U23: =IF(ISERROR(O23/T23),"",O23/T23) | V23: =IF('Extra look-up'!$H17="Work Type","Check Work Type",IF(AND(D23="",F23="",H23="",I23="",L23="",M23=""),"",IF(OR(D23="",F23="",H23="",I23="",L23="",M23="",$L$9<>"OK"),"Check all fields completed correctly",IF(AND(D23="",OR(F23<>"",H23<>"",I23<>"",L23<>"")),"Check all fields completed correctly","OK")))) | W23: =IF(I23="","",IF(VLOOKUP(I23,'Eligible Technologies'!$D$7:$G$76,4,FALSE)<$F$9,VLOOKUP(I23,'Eligible Technologies'!$D$7:$G$76,4,FALSE),$F$9)) | X23: =IF(Q23="","",ROUNDUP($Q$65,0)) | Y23: =IF(V23="",0,1) -> 0 | Z23: ='Extra look-up'!F17 | AA23: ='Extra look-up'!H17 -> OK | AB23: =IF(AND(V23<>"OK",V23<>""),51,1) -> 1 | AC23: =ROUNDUP(W23,0)+100 -> #VALUE! | AD23: =$AH$101 -> 0.1953 | AG23: Data Centre/ IT Facilities | AH23: Classroom | AI23: Classroom | AJ23: Council Office | AK23: Clinical space | AL23: Corridor | AM23: Corridor | AN23: Corridor
A24: 13 | G24: =IFERROR(((F24/E24)^(1/X24))-1,"") | M24: =IF(K24="","",K24-L24) | N24: =IFERROR(M24/K24,0) -> 0 | P24: =IF(OR(F24="",M24=""),"",M24*F24/100) | Q24: =IF(OR(P24<=0,P24=""),"",O24/P24) | R24: =IFERROR(IF(D24="Electricity",AD24,HLOOKUP(D24,$AH$100:$AQ$138,2,FALSE)),"") | S24: =IF(OR(D24="",M24="",R24=""),"",M24*R24/1000) | T24: =IF(S24="","",W24*S24) | U24: =IF(ISERROR(O24/T24),"",O24/T24) | V24: =IF('Extra look-up'!$H18="Work Type","Check Work Type",IF(AND(D24="",F24="",H24="",I24="",L24="",M24=""),"",IF(OR(D24="",F24="",H24="",I24="",L24="",M24="",$L$9<>"OK"),"Check all fields completed correctly",IF(AND(D24="",OR(F24<>"",H24<>"",I24<>"",L24<>"")),"Check all fields completed correctly","OK")))) | W24: =IF(I24="","",IF(VLOOKUP(I24,'Eligible Technologies'!$D$7:$G$76,4,FALSE)<$F$9,VLOOKUP(I24,'Eligible Technologies'!$D$7:$G$76,4,FALSE),$F$9)) | X24: =IF(Q24="","",ROUNDUP($Q$65,0)) | Y24: =IF(V24="",0,1) -> 0 | Z24: ='Extra look-up'!F18 | AA24: ='Extra look-up'!H18 -> OK | AB24: =IF(AND(V24<>"OK",V24<>""),51,1) -> 1 | AC24: =ROUNDUP(W24,0)+100 -> #VALUE! | AD24: =$AH$101 -> 0.1953 | AG24: Fire Rescue Station | AH24: Corridor | AI24: Corridor | AJ24: Gallery/Museum | AK24: Corridors | AL24: Library | AM24: Library | AN24: Library
A25: 14 | G25: =IFERROR(((F25/E25)^(1/X25))-1,"") | M25: =IF(K25="","",K25-L25) | N25: =IFERROR(M25/K25,0) -> 0 | P25: =IF(OR(F25="",M25=""),"",M25*F25/100) | Q25: =IF(OR(P25<=0,P25=""),"",O25/P25) | R25: =IFERROR(IF(D25="Electricity",AD25,HLOOKUP(D25,$AH$100:$AQ$138,2,FALSE)),"") | S25: =IF(OR(D25="",M25="",R25=""),"",M25*R25/1000) | T25: =IF(S25="","",W25*S25) | U25: =IF(ISERROR(O25/T25),"",O25/T25) | V25: =IF('Extra look-up'!$H19="Work Type","Check Work Type",IF(AND(D25="",F25="",H25="",I25="",L25="",M25=""),"",IF(OR(D25="",F25="",H25="",I25="",L25="",M25="",$L$9<>"OK"),"Check all fields completed correctly",IF(AND(D25="",OR(F25<>"",H25<>"",I25<>"",L25<>"")),"Check all fields completed correctly","OK")))) | W25: =IF(I25="","",IF(VLOOKUP(I25,'Eligible Technologies'!$D$7:$G$76,4,FALSE)<$F$9,VLOOKUP(I25,'Eligible Technologies'!$D$7:$G$76,4,FALSE),$F$9)) | X25: =IF(Q25="","",ROUNDUP($Q$65,0)) | Y25: =IF(V25="",0,1) -> 0 | Z25: ='Extra look-up'!F19 | AA25: ='Extra look-up'!H19 -> OK | AB25: =IF(AND(V25<>"OK",V25<>""),51,1) -> 1 | AC25: =ROUNDUP(W25,0)+100 -> #VALUE! | AD25: =$AH$101 -> 0.1953 | AG25: Offices | AH25: Data Centre/ IT Facilities | AI25: Data Centre/ IT Facilities | AJ25: Leisure Centre | AK25: Laboratory | AL25: Offices | AM25: Offices | AN25: Offices
A26: 15 | G26: =IFERROR(((F26/E26)^(1/X26))-1,"") | M26: =IF(K26="","",K26-L26) | N26: =IFERROR(M26/K26,0) -> 0 | P26: =IF(OR(F26="",M26=""),"",M26*F26/100) | Q26: =IF(OR(P26<=0,P26=""),"",O26/P26) | R26: =IFERROR(IF(D26="Electricity",AD26,HLOOKUP(D26,$AH$100:$AQ$138,2,FALSE)),"") | S26: =IF(OR(D26="",M26="",R26=""),"",M26*R26/1000) | T26: =IF(S26="","",W26*S26) | U26: =IF(ISERROR(O26/T26),"",O26/T26) | V26: =IF('Extra look-up'!$H20="Work Type","Check Work Type",IF(AND(D26="",F26="",H26="",I26="",L26="",M26=""),"",IF(OR(D26="",F26="",H26="",I26="",L26="",M26="",$L$9<>"OK"),"Check all fields completed correctly",IF(AND(D26="",OR(F26<>"",H26<>"",I26<>"",L26<>"")),"Check all fields completed correctly","OK")))) | W26: =IF(I26="","",IF(VLOOKUP(I26,'Eligible Technologies'!$D$7:$G$76,4,FALSE)<$F$9,VLOOKUP(I26,'Eligible Technologies'!$D$7:$G$76,4,FALSE),$F$9)) | X26: =IF(Q26="","",ROUNDUP($Q$65,0)) | Y26: =IF(V26="",0,1) -> 0 | Z26: ='Extra look-up'!F20 | AA26: ='Extra look-up'!H20 -> OK | AB26: =IF(AND(V26<>"OK",V26<>""),51,1) -> 1 | AC26: =ROUNDUP(W26,0)+100 -> #VALUE! | AD26: =$AH$101 -> 0.1953 | AG26: Other | AH26: Halls of Residence | AI26: Halls of Residence | AJ26: Library | AK26: Non-clinical space | AL26: Other | AM26: Other | AN26: Other
A27: 16 | G27: =IFERROR(((F27/E27)^(1/X27))-1,"") | M27: =IF(K27="","",K27-L27) | N27: =IFERROR(M27/K27,0) -> 0 | P27: =IF(OR(F27="",M27=""),"",M27*F27/100) | Q27: =IF(OR(P27<=0,P27=""),"",O27/P27) | R27: =IFERROR(IF(D27="Electricity",AD27,HLOOKUP(D27,$AH$100:$AQ$138,2,FALSE)),"") | S27: =IF(OR(D27="",M27="",R27=""),"",M27*R27/1000) | T27: =IF(S27="","",W27*S27) | U27: =IF(ISERROR(O27/T27),"",O27/T27) | V27: =IF('Extra look-up'!$H21="Work Type","Check Work Type",IF(AND(D27="",F27="",H27="",I27="",L27="",M27=""),"",IF(OR(D27="",F27="",H27="",I27="",L27="",M27="",$L$9<>"OK"),"Check all fields completed correctly",IF(AND(D27="",OR(F27<>"",H27<>"",I27<>"",L27<>"")),"Check all fields completed correctly","OK")))) | W27: =IF(I27="","",IF(VLOOKUP(I27,'Eligible Technologies'!$D$7:$G$76,4,FALSE)<$F$9,VLOOKUP(I27,'Eligible Technologies'!$D$7:$G$76,4,FALSE),$F$9)) | X27: =IF(Q27="","",ROUNDUP($Q$65,0)) | Y27: =IF(V27="",0,1) -> 0 | Z27: ='Extra look-up'!F21 | AA27: ='Extra look-up'!H21 -> OK | AB27: =IF(AND(V27<>"OK",V27<>""),51,1) -> 1 | AC27: =ROUNDUP(W27,0)+100 -> #VALUE! | AD27: =$AH$101 -> 0.1953 | AG27: Plant room | AH27: Laboratory | AI27: Laboratory | AJ27: Other | AK27: Other | AL27: Outdoor Sport Facilities | AM27: Outdoor Sport Facilities | AN27: Outdoor Sport Facilities
A28: 17 | G28: =IFERROR(((F28/E28)^(1/X28))-1,"") | M28: =IF(K28="","",K28-L28) | N28: =IFERROR(M28/K28,0) -> 0 | P28: =IF(OR(F28="",M28=""),"",M28*F28/100) | Q28: =IF(OR(P28<=0,P28=""),"",O28/P28) | R28: =IFERROR(IF(D28="Electricity",AD28,HLOOKUP(D28,$AH$100:$AQ$138,2,FALSE)),"") | S28: =IF(OR(D28="",M28="",R28=""),"",M28*R28/1000) | T28: =IF(S28="","",W28*S28) | U28: =IF(ISERROR(O28/T28),"",O28/T28) | V28: =IF('Extra look-up'!$H22="Work Type","Check Work Type",IF(AND(D28="",F28="",H28="",I28="",L28="",M28=""),"",IF(OR(D28="",F28="",H28="",I28="",L28="",M28="",$L$9<>"OK"),"Check all fields completed correctly",IF(AND(D28="",OR(F28<>"",H28<>"",I28<>"",L28<>"")),"Check all fields completed correctly","OK")))) | W28: =IF(I28="","",IF(VLOOKUP(I28,'Eligible Technologies'!$D$7:$G$76,4,FALSE)<$F$9,VLOOKUP(I28,'Eligible Technologies'!$D$7:$G$76,4,FALSE),$F$9)) | X28: =IF(Q28="","",ROUNDUP($Q$65,0)) | Y28: =IF(V28="",0,1) -> 0 | Z28: ='Extra look-up'!F22 | AA28: ='Extra look-up'!H22 -> OK | AB28: =IF(AND(V28<>"OK",V28<>""),51,1) -> 1 | AC28: =ROUNDUP(W28,0)+100 -> #VALUE! | AD28: =$AH$101 -> 0.1953 | AG28: Police Station | AH28: Lecture Room | AI28: Lecture Room | AJ28: Outdoor Sport Facilities | AK28: Plant room | AL28: Plant room | AM28: Plant room | AN28: Plant room
A29: 18 | G29: =IFERROR(((F29/E29)^(1/X29))-1,"") | M29: =IF(K29="","",K29-L29) | N29: =IFERROR(M29/K29,0) -> 0 | P29: =IF(OR(F29="",M29=""),"",M29*F29/100) | Q29: =IF(OR(P29<=0,P29=""),"",O29/P29) | R29: =IFERROR(IF(D29="Electricity",AD29,HLOOKUP(D29,$AH$100:$AQ$138,2,FALSE)),"") | S29: =IF(OR(D29="",M29="",R29=""),"",M29*R29/1000) | T29: =IF(S29="","",W29*S29) | U29: =IF(ISERROR(O29/T29),"",O29/T29) | V29: =IF('Extra look-up'!$H23="Work Type","Check Work Type",IF(AND(D29="",F29="",H29="",I29="",L29="",M29=""),"",IF(OR(D29="",F29="",H29="",I29="",L29="",M29="",$L$9<>"OK"),"Check all fields completed correctly",IF(AND(D29="",OR(F29<>"",H29<>"",I29<>"",L29<>"")),"Check all fields completed correctly","OK")))) | W29: =IF(I29="","",IF(VLOOKUP(I29,'Eligible Technologies'!$D$7:$G$76,4,FALSE)<$F$9,VLOOKUP(I29,'Eligible Technologies'!$D$7:$G$76,4,FALSE),$F$9)) | X29: =IF(Q29="","",ROUNDUP($Q$65,0)) | Y29: =IF(V29="",0,1) -> 0 | Z29: ='Extra look-up'!F23 | AA29: ='Extra look-up'!H23 -> OK | AB29: =IF(AND(V29<>"OK",V29<>""),51,1) -> 1 | AC29: =ROUNDUP(W29,0)+100 -> #VALUE! | AD29: =$AH$101 -> 0.1953 | AG29: Server Room | AH29: Offices | AI29: Offices | AJ29: Plant room | AK29: Site Wide | AL29: Site Wide | AM29: Site Wide | AN29: Site Wide
A30: 19 | G30: =IFERROR(((F30/E30)^(1/X30))-1,"") | M30: =IF(K30="","",K30-L30) | N30: =IFERROR(M30/K30,0) -> 0 | P30: =IF(OR(F30="",M30=""),"",M30*F30/100) | Q30: =IF(OR(P30<=0,P30=""),"",O30/P30) | R30: =IFERROR(IF(D30="Electricity",AD30,HLOOKUP(D30,$AH$100:$AQ$138,2,FALSE)),"") | S30: =IF(OR(D30="",M30="",R30=""),"",M30*R30/1000) | T30: =IF(S30="","",W30*S30) | U30: =IF(ISERROR(O30/T30),"",O30/T30) | V30: =IF('Extra look-up'!$H24="Work Type","Check Work Type",IF(AND(D30="",F30="",H30="",I30="",L30="",M30=""),"",IF(OR(D30="",F30="",H30="",I30="",L30="",M30="",$L$9<>"OK"),"Check all fields completed correctly",IF(AND(D30="",OR(F30<>"",H30<>"",I30<>"",L30<>"")),"Check all fields completed correctly","OK")))) | W30: =IF(I30="","",IF(VLOOKUP(I30,'Eligible Technologies'!$D$7:$G$76,4,FALSE)<$F$9,VLOOKUP(I30,'Eligible Technologies'!$D$7:$G$76,4,FALSE),$F$9)) | X30: =IF(Q30="","",ROUNDUP($Q$65,0)) | Y30: =IF(V30="",0,1) -> 0 | Z30: ='Extra look-up'!F24 | AA30: ='Extra look-up'!H24 -> OK | AB30: =IF(AND(V30<>"OK",V30<>""),51,1) -> 1 | AC30: =ROUNDUP(W30,0)+100 -> #VALUE! | AD30: =$AH$101 -> 0.1953 | AG30: Site Wide | AH30: Other | AI30: Other | AJ30: Renewables Site | AL30: Sports Hall | AM30: Sports Hall | AN30: Sports Hall
A31: 20 | G31: =IFERROR(((F31/E31)^(1/X31))-1,"") | M31: =IF(K31="","",K31-L31) | N31: =IFERROR(M31/K31,0) -> 0 | P31: =IF(OR(F31="",M31=""),"",M31*F31/100) | Q31: =IF(OR(P31<=0,P31=""),"",O31/P31) | R31: =IFERROR(IF(D31="Electricity",AD31,HLOOKUP(D31,$AH$100:$AQ$138,2,FALSE)),"") | S31: =IF(OR(D31="",M31="",R31=""),"",M31*R31/1000) | T31: =IF(S31="","",W31*S31) | U31: =IF(ISERROR(O31/T31),"",O31/T31) | V31: =IF('Extra look-up'!$H25="Work Type","Check Work Type",IF(AND(D31="",F31="",H31="",I31="",L31="",M31=""),"",IF(OR(D31="",F31="",H31="",I31="",L31="",M31="",$L$9<>"OK"),"Check all fields completed correctly",IF(AND(D31="",OR(F31<>"",H31<>"",I31<>"",L31<>"")),"Check all fields completed correctly","OK")))) | W31: =IF(I31="","",IF(VLOOKUP(I31,'Eligible Technologies'!$D$7:$G$76,4,FALSE)<$F$9,VLOOKUP(I31,'Eligible Technologies'!$D$7:$G$76,4,FALSE),$F$9)) | X31: =IF(Q31="","",ROUNDUP($Q$65,0)) | Y31: =IF(V31="",0,1) -> 0 | Z31: ='Extra look-up'!F25 | AA31: ='Extra look-up'!H25 -> OK | AB31: =IF(AND(V31<>"OK",V31<>""),51,1) -> 1 | AC31: =ROUNDUP(W31,0)+100 -> #VALUE! | AD31: =$AH$101 -> 0.1953 | AH31: Outdoor Sport Facilities | AI31: Outdoor Sport Facilities | AJ31: Residential Care Home
A32: 21 | G32: =IFERROR(((F32/E32)^(1/X32))-1,"") | M32: =IF(K32="","",K32-L32) | N32: =IFERROR(M32/K32,0) -> 0 | P32: =IF(OR(F32="",M32=""),"",M32*F32/100) | Q32: =IF(OR(P32<=0,P32=""),"",O32/P32) | R32: =IFERROR(IF(D32="Electricity",AD32,HLOOKUP(D32,$AH$100:$AQ$138,2,FALSE)),"") | S32: =IF(OR(D32="",M32="",R32=""),"",M32*R32/1000) | T32: =IF(S32="","",W32*S32) | U32: =IF(ISERROR(O32/T32),"",O32/T32) | V32: =IF('Extra look-up'!$H26="Work Type","Check Work Type",IF(AND(D32="",F32="",H32="",I32="",L32="",M32=""),"",IF(OR(D32="",F32="",H32="",I32="",L32="",M32="",$L$9<>"OK"),"Check all fields completed correctly",IF(AND(D32="",OR(F32<>"",H32<>"",I32<>"",L32<>"")),"Check all fields completed correctly","OK")))) | W32: =IF(I32="","",IF(VLOOKUP(I32,'Eligible Technologies'!$D$7:$G$76,4,FALSE)<$F$9,VLOOKUP(I32,'Eligible Technologies'!$D$7:$G$76,4,FALSE),$F$9)) | X32: =IF(Q32="","",ROUNDUP($Q$65,0)) | Y32: =IF(V32="",0,1) -> 0 | Z32: ='Extra look-up'!F26 | AA32: ='Extra look-up'!H26 -> OK | AB32: =IF(AND(V32<>"OK",V32<>""),51,1) -> 1 | AC32: =ROUNDUP(W32,0)+100 -> #VALUE! | AD32: =$AH$101 -> 0.1953 | AH32: Plant room | AI32: Plant room | AJ32: Streetlighting
A33: 22 | G33: =IFERROR(((F33/E33)^(1/X33))-1,"") | M33: =IF(K33="","",K33-L33) | N33: =IFERROR(M33/K33,0) -> 0 | P33: =IF(OR(F33="",M33=""),"",M33*F33/100) | Q33: =IF(OR(P33<=0,P33=""),"",O33/P33) | R33: =IFERROR(IF(D33="Electricity",AD33,HLOOKUP(D33,$AH$100:$AQ$138,2,FALSE)),"") | S33: =IF(OR(D33="",M33="",R33=""),"",M33*R33/1000) | T33: =IF(S33="","",W33*S33) | U33: =IF(ISERROR(O33/T33),"",O33/T33) | V33: =IF('Extra look-up'!$H27="Work Type","Check Work Type",IF(AND(D33="",F33="",H33="",I33="",L33="",M33=""),"",IF(OR(D33="",F33="",H33="",I33="",L33="",M33="",$L$9<>"OK"),"Check all fields completed correctly",IF(AND(D33="",OR(F33<>"",H33<>"",I33<>"",L33<>"")),"Check all fields completed correctly","OK")))) | W33: =IF(I33="","",IF(VLOOKUP(I33,'Eligible Technologies'!$D$7:$G$76,4,FALSE)<$F$9,VLOOKUP(I33,'Eligible Technologies'!$D$7:$G$76,4,FALSE),$F$9)) | X33: =IF(Q33="","",ROUNDUP($Q$65,0)) | Y33: =IF(V33="",0,1) -> 0 | Z33: ='Extra look-up'!F27 | AA33: ='Extra look-up'!H27 -> OK | AB33: =IF(AND(V33<>"OK",V33<>""),51,1) -> 1 | AC33: =ROUNDUP(W33,0)+100 -> #VALUE! | AD33: =$AH$101 -> 0.1953 | AH33: Renewables Site | AI33: Renewables Site | AJ33: Warehouse
A34: 23 | G34: =IFERROR(((F34/E34)^(1/X34))-1,"") | M34: =IF(K34="","",K34-L34) | N34: =IFERROR(M34/K34,0) -> 0 | P34: =IF(OR(F34="",M34=""),"",M34*F34/100) | Q34: =IF(OR(P34<=0,P34=""),"",O34/P34) | R34: =IFERROR(IF(D34="Electricity",AD34,HLOOKUP(D34,$AH$100:$AQ$138,2,FALSE)),"") | S34: =IF(OR(D34="",M34="",R34=""),"",M34*R34/1000) | T34: =IF(S34="","",W34*S34) | U34: =IF(ISERROR(O34/T34),"",O34/T34) | V34: =IF('Extra look-up'!$H28="Work Type","Check Work Type",IF(AND(D34="",F34="",H34="",I34="",L34="",M34=""),"",IF(OR(D34="",F34="",H34="",I34="",L34="",M34="",$L$9<>"OK"),"Check all fields completed correctly",IF(AND(D34="",OR(F34<>"",H34<>"",I34<>"",L34<>"")),"Check all fields completed correctly","OK")))) | W34: =IF(I34="","",IF(VLOOKUP(I34,'Eligible Technologies'!$D$7:$G$76,4,FALSE)<$F$9,VLOOKUP(I34,'Eligible Technologies'!$D$7:$G$76,4,FALSE),$F$9)) | X34: =IF(Q34="","",ROUNDUP($Q$65,0)) | Y34: =IF(V34="",0,1) -> 0 | Z34: ='Extra look-up'!F28 | AA34: ='Extra look-up'!H28 -> OK | AB34: =IF(AND(V34<>"OK",V34<>""),51,1) -> 1 | AC34: =ROUNDUP(W34,0)+100 -> #VALUE! | AD34: =$AH$101 -> 0.1953 | AH34: Server Room | AI34: Server Room
A35: 24 | G35: =IFERROR(((F35/E35)^(1/X35))-1,"") | M35: =IF(K35="","",K35-L35) | N35: =IFERROR(M35/K35,0) -> 0 | P35: =IF(OR(F35="",M35=""),"",M35*F35/100) | Q35: =IF(OR(P35<=0,P35=""),"",O35/P35) | R35: =IFERROR(IF(D35="Electricity",AD35,HLOOKUP(D35,$AH$100:$AQ$138,2,FALSE)),"") | S35: =IF(OR(D35="",M35="",R35=""),"",M35*R35/1000) | T35: =IF(S35="","",W35*S35) | U35: =IF(ISERROR(O35/T35),"",O35/T35) | V35: =IF('Extra look-up'!$H29="Work Type","Check Work Type",IF(AND(D35="",F35="",H35="",I35="",L35="",M35=""),"",IF(OR(D35="",F35="",H35="",I35="",L35="",M35="",$L$9<>"OK"),"Check all fields completed correctly",IF(AND(D35="",OR(F35<>"",H35<>"",I35<>"",L35<>"")),"Check all fields completed correctly","OK")))) | W35: =IF(I35="","",IF(VLOOKUP(I35,'Eligible Technologies'!$D$7:$G$76,4,FALSE)<$F$9,VLOOKUP(I35,'Eligible Technologies'!$D$7:$G$76,4,FALSE),$F$9)) | X35: =IF(Q35="","",ROUNDUP($Q$65,0)) | Y35: =IF(V35="",0,1) -> 0 | Z35: ='Extra look-up'!F29 | AA35: ='Extra look-up'!H29 -> OK | AB35: =IF(AND(V35<>"OK",V35<>""),51,1) -> 1 | AC35: =ROUNDUP(W35,0)+100 -> #VALUE! | AD35: =$AH$101 -> 0.1953 | AH35: Site Wide | AI35: Site Wide
A36: 25 | G36: =IFERROR(((F36/E36)^(1/X36))-1,"") | M36: =IF(K36="","",K36-L36) | N36: =IFERROR(M36/K36,0) -> 0 | P36: =IF(OR(F36="",M36=""),"",M36*F36/100) | Q36: =IF(OR(P36<=0,P36=""),"",O36/P36) | R36: =IFERROR(IF(D36="Electricity",AD36,HLOOKUP(D36,$AH$100:$AQ$138,2,FALSE)),"") | S36: =IF(OR(D36="",M36="",R36=""),"",M36*R36/1000) | T36: =IF(S36="","",W36*S36) | U36: =IF(ISERROR(O36/T36),"",O36/T36) | V36: =IF('Extra look-up'!$H30="Work Type","Check Work Type",IF(AND(D36="",F36="",H36="",I36="",L36="",M36=""),"",IF(OR(D36="",F36="",H36="",I36="",L36="",M36="",$L$9<>"OK"),"Check all fields completed correctly",IF(AND(D36="",OR(F36<>"",H36<>"",I36<>"",L36<>"")),"Check all fields completed correctly","OK")))) | W36: =IF(I36="","",IF(VLOOKUP(I36,'Eligible Technologies'!$D$7:$G$76,4,FALSE)<$F$9,VLOOKUP(I36,'Eligible Technologies'!$D$7:$G$76,4,FALSE),$F$9)) | X36: =IF(Q36="","",ROUNDUP($Q$65,0)) | Y36: =IF(V36="",0,1) -> 0 | Z36: ='Extra look-up'!F30 | AA36: ='Extra look-up'!H30 -> OK | AB36: =IF(AND(V36<>"OK",V36<>""),51,1) -> 1 | AC36: =ROUNDUP(W36,0)+100 -> #VALUE! | AD36: =$AH$101 -> 0.1953 | AH36: Sports Hall | AI36: Sports Hall
A37: 26 | G37: =IFERROR(((F37/E37)^(1/X37))-1,"") | M37: =IF(K37="","",K37-L37) | N37: =IFERROR(M37/K37,0) -> 0 | P37: =IF(OR(F37="",M37=""),"",M37*F37/100) | Q37: =IF(OR(P37<=0,P37=""),"",O37/P37) | R37: =IFERROR(IF(D37="Electricity",AD37,HLOOKUP(D37,$AH$100:$AQ$138,2,FALSE)),"") | S37: =IF(OR(D37="",M37="",R37=""),"",M37*R37/1000) | T37: =IF(S37="","",W37*S37) | U37: =IF(ISERROR(O37/T37),"",O37/T37) | V37: =IF('Extra look-up'!$H31="Work Type","Check Work Type",IF(AND(D37="",F37="",H37="",I37="",L37="",M37=""),"",IF(OR(D37="",F37="",H37="",I37="",L37="",M37="",$L$9<>"OK"),"Check all fields completed correctly",IF(AND(D37="",OR(F37<>"",H37<>"",I37<>"",L37<>"")),"Check all fields completed correctly","OK")))) | W37: =IF(I37="","",IF(VLOOKUP(I37,'Eligible Technologies'!$D$7:$G$76,4,FALSE)<$F$9,VLOOKUP(I37,'Eligible Technologies'!$D$7:$G$76,4,FALSE),$F$9)) | X37: =IF(Q37="","",ROUNDUP($Q$65,0)) | Y37: =IF(V37="",0,1) -> 0 | Z37: ='Extra look-up'!F31 | AA37: ='Extra look-up'!H31 -> OK | AB37: =IF(AND(V37<>"OK",V37<>""),51,1) -> 1 | AC37: =ROUNDUP(W37,0)+100 -> #VALUE! | AD37: =$AH$101 -> 0.1953 | AH37: Students Union | AI37: Students Union
A38: 27 | G38: =IFERROR(((F38/E38)^(1/X38))-1,"") | M38: =IF(K38="","",K38-L38) | N38: =IFERROR(M38/K38,0) -> 0 | P38: =IF(OR(F38="",M38=""),"",M38*F38/100) | Q38: =IF(OR(P38<=0,P38=""),"",O38/P38) | R38: =IFERROR(IF(D38="Electricity",AD38,HLOOKUP(D38,$AH$100:$AQ$138,2,FALSE)),"") | S38: =IF(OR(D38="",M38="",R38=""),"",M38*R38/1000) | T38: =IF(S38="","",W38*S38) | U38: =IF(ISERROR(O38/T38),"",O38/T38) | V38: =IF('Extra look-up'!$H32="Work Type","Check Work Type",IF(AND(D38="",F38="",H38="",I38="",L38="",M38=""),"",IF(OR(D38="",F38="",H38="",I38="",L38="",M38="",$L$9<>"OK"),"Check all fields completed correctly",IF(AND(D38="",OR(F38<>"",H38<>"",I38<>"",L38<>"")),"Check all fields completed correctly","OK")))) | W38: =IF(I38="","",IF(VLOOKUP(I38,'Eligible Technologies'!$D$7:$G$76,4,FALSE)<$F$9,VLOOKUP(I38,'Eligible Technologies'!$D$7:$G$76,4,FALSE),$F$9)) | X38: =IF(Q38="","",ROUNDUP($Q$65,0)) | Y38: =IF(V38="",0,1) -> 0 | Z38: ='Extra look-up'!F32 | AA38: ='Extra look-up'!H32 -> OK | AB38: =IF(AND(V38<>"OK",V38<>""),51,1) -> 1 | AC38: =ROUNDUP(W38,0)+100 -> #VALUE! | AD38: =$AH$101 -> 0.1953
A39: 28 | G39: =IFERROR(((F39/E39)^(1/X39))-1,"") | M39: =IF(K39="","",K39-L39) | N39: =IFERROR(M39/K39,0) -> 0 | P39: =IF(OR(F39="",M39=""),"",M39*F39/100) | Q39: =IF(OR(P39<=0,P39=""),"",O39/P39) | R39: =IFERROR(IF(D39="Electricity",AD39,HLOOKUP(D39,$AH$100:$AQ$138,2,FALSE)),"") | S39: =IF(OR(D39="",M39="",R39=""),"",M39*R39/1000) | T39: =IF(S39="","",W39*S39) | U39: =IF(ISERROR(O39/T39),"",O39/T39) | V39: =IF('Extra look-up'!$H33="Work Type","Check Work Type",IF(AND(D39="",F39="",H39="",I39="",L39="",M39=""),"",IF(OR(D39="",F39="",H39="",I39="",L39="",M39="",$L$9<>"OK"),"Check all fields completed correctly",IF(AND(D39="",OR(F39<>"",H39<>"",I39<>"",L39<>"")),"Check all fields completed correctly","OK")))) | W39: =IF(I39="","",IF(VLOOKUP(I39,'Eligible Technologies'!$D$7:$G$76,4,FALSE)<$F$9,VLOOKUP(I39,'Eligible Technologies'!$D$7:$G$76,4,FALSE),$F$9)) | X39: =IF(Q39="","",ROUNDUP($Q$65,0)) | Y39: =IF(V39="",0,1) -> 0 | Z39: ='Extra look-up'!F33 | AA39: ='Extra look-up'!H33 -> OK | AB39: =IF(AND(V39<>"OK",V39<>""),51,1) -> 1 | AC39: =ROUNDUP(W39,0)+100 -> #VALUE! | AD39: =$AH$101 -> 0.1953
A40: 29 | G40: =IFERROR(((F40/E40)^(1/X40))-1,"") | M40: =IF(K40="","",K40-L40) | N40: =IFERROR(M40/K40,0) -> 0 | P40: =IF(OR(F40="",M40=""),"",M40*F40/100) | Q40: =IF(OR(P40<=0,P40=""),"",O40/P40) | R40: =IFERROR(IF(D40="Electricity",AD40,HLOOKUP(D40,$AH$100:$AQ$138,2,FALSE)),"") | S40: =IF(OR(D40="",M40="",R40=""),"",M40*R40/1000) | T40: =IF(S40="","",W40*S40) | U40: =IF(ISERROR(O40/T40),"",O40/T40) | V40: =IF('Extra look-up'!$H34="Work Type","Check Work Type",IF(AND(D40="",F40="",H40="",I40="",L40="",M40=""),"",IF(OR(D40="",F40="",H40="",I40="",L40="",M40="",$L$9<>"OK"),"Check all fields completed correctly",IF(AND(D40="",OR(F40<>"",H40<>"",I40<>"",L40<>"")),"Check all fields completed correctly","OK")))) | W40: =IF(I40="","",IF(VLOOKUP(I40,'Eligible Technologies'!$D$7:$G$76,4,FALSE)<$F$9,VLOOKUP(I40,'Eligible Technologies'!$D$7:$G$76,4,FALSE),$F$9)) | X40: =IF(Q40="","",ROUNDUP($Q$65,0)) | Y40: =IF(V40="",0,1) -> 0 | Z40: ='Extra look-up'!F34 | AA40: ='Extra look-up'!H34 -> OK | AB40: =IF(AND(V40<>"OK",V40<>""),51,1) -> 1 | AC40: =ROUNDUP(W40,0)+100 -> #VALUE! | AD40: =$AH$101 -> 0.1953
...

Sheet Business Case
B3: Salix Business Case Template
B5: Only complete if your project is over £100,000 and/or a SEELS Wales application.
B7: Programme details
B9: Project Title:
B11: Organisation name: | C11: =IF('Project Compliance Tool'!D3="","",'Project Compliance Tool'!D3)
B13: Submission date:
B15: Main Contact for Project | F15: Project Cost Breakdown
B16: Name | F16: Main equipment capital costs (£)
B17: Job title
B18: Address line 1 | F18: Installation costs (£)
B19: Address line 2
B20: City | F20: Project management costs (£)
B21: Post code
B22: Telephone | F22: Contingency costs (£)
B23: Email
F24: Other project costs (£)
F26: Total projects costs | H26: =H16+H18+H20+H22+H24 -> 0
B27: 1. Cost Breakdown
B28: Project cost breakdown - Provide commentary on the project cost breakdown.
B29: • How have project costs been estimated? • Do the project costs account for operation/maintenance costs?
B33: 2. Project Details
B34: Project background - Provide background on the project including all possible benefits.
B35: • If you have multiple projects >£100,000, please provide details for all of them below. • How has the project been identified? • Who has been involved in developing the project? • How will the project go towards addressing existing issues relating to energy and carbon use?
B40: 3. Details of Supporting Documentation
B41: • Please list all supporting information document titles in the box below. • All applications should provide energy savings calculations, cost calculations/evidence, data sheets, and an energy and carbon monitoring plan • For applications valued over £100,000 please also provide an internal risk register and project programme.
B44: 4. Details of Project Energy Saving Calculations
B45: • Describe how the project energy and carbon savings have been calculated, detailing any assumptions. • Calculations should be submitted alongside your application form. • Describe the methodology used to calculate the forecasted fuel costs.
B47: 5. Energy and Carbon Monitoring Plan Post-completion
B48: Salix recommends that energy and carbon consumption be monitored prior to and following the completion of the project. • What are the arrangements for monitoring and managing the programme post-completion? • What plans are there for evaluation?
... B60: Describe any project risks and give details of measures designed to minimise or avoid them. This should cover: • Any project dependencies, such as other projects being completed on time or coordination around organisational issues (e.g. exam periods and heating season). • Risks to project delivery and details of the management structures in place to monitor. • Detail other outstanding issues that need to be resolved before the project can proceed (e.g. finalising plant sizes or communication with stakeholders). • The risks associated with the project failing to achieve the savings. • For applications valued over £500,000, please attach a copy of your internal risk register.
B61: Description of Risk | C61: Level of Risk | D61: How will the risk be managed and/or mitigated? | Q61: High
Q62: Low
Q63: Medium
B70: 10. Timescales
B71: Give details of the critical path for timetable delivery of the project including: • Dates for key delivery milestones, if there is a programme of works for the project please attach. • What level of contingency for potential programme slippage has been built in to the delivery timeline. Please provide details of and significant lead-in times for the ordering and delivery of key project equipment, including details of discussions/agreements with suppliers/contractors.
B74: 11. Key Project Milestones
B75: Steps taken / to be taken | C75: Process | D75: Start date | E75: End date | F75: Include no. of days Contingency | G75: Is this Complete?
B76: Project Approval | C76: Estates/finance approval
C77: Board/councillors approval
B78: Tender | C78: Project design time
...

Sheet Assessment Form
B5: Salix Business Case Template - Assessment and Feedback
B6: Assessment form for Salix/Atkins
B8: Programme Title: | C8: =IF('[16]Business Case'!D9="","",'[16]Business Case'!D9)
B10: Public Sector Body: | C10: =IF('[16]Project Compliance Tool'!D3="","",'[16]Project Compliance Tool'!D3)
B12: Objectives:
B13: This assessment's primary objective is to evaluate the business case (as provided by the applicant) in a structured manner, identifying strengths & weaknesses leading to a judgement as to whether the business case is technically sound and is likely to deliver the energy savings & payback period presented. If the business case is unsound or needs further consideration, the assessment should identify what further information is needed from the client.
B16: 1. Technical case | D16: Score Green for High Quality, Amber for With Conditions and Red for Requires Improvement
B17: Assessment section | C17: RAG rating | D17: Assessor commentary | H17: Guidance for assessor
B18: 1.1 Project Description including any background material (For Wales Applications: Future Generations Act 2015) | H18: Consider the project description (Business Case tab, Section 2) in terms of clarity, completeness, asset lifetime, energy saving potential and other benefits. Consider the contextual information provided by the applicant in support of the project. For Wales projects, see Business Case tab, Section 12 - how does the project meet the Future Generations Act 2015?
B20: 1.2 Technical Feasibility & Future Resilience | H20: Consider the project's technical feasibility in terms of good evidence for delivering expected energy savings from the information provided.
B22: 1.3 Material provided on the technology, has the final product been chosen? | H22: Consider additional technical information provided in the Business Case and supporting data sheets. Consider the material provided to support the creditability of the supplier/contractor to deliver the project and the technology being installed.
B24: 1.4 Energy/Carbon Savings Calculations | H24: Consider whether the energy savings estimate uses realistic data and assumptions, with clear methodology and evidence from similar projects. Check that energy savings match the compliance tool. Has a lighting schedule been provided for projects installing LEDs? Have Solar PV reports been provided? Consider any additional benefits, e.g. CRC, maintenance, reliability, safety, etc.
B26: 1.5 Energy/Carbon Monitoring Plan | H26: See Business Case tab, Section 5. Consider the monitoring plan for assessing the energy savings made by the project; i.e. project specific metering, manual measurements etc. If commentary is insufficient, set as a condition to provide.
B28: Relevant for SSEELS only: 1.6 Performance Management Plan (Renewable projects e.g. solar PV) | H28: See Business Case tab, Section 6 and any other supporting information. Consider the methodology used to measure annual availability, kilowatt hours generated, and the financial and carbon value of the generated electricity. Consider the frequency of monitoring and the person responsible for measuring performance. Set as a condition if not provided.
B30: 2. Financial case
D31: Score Green for High Quality, Amber for With Conditions and Red for Requires Improvement
B32: 2.1 Main Equipment Costs | H32: See Business Case tab and any other supporting information (cost evidence and breakdown). Consider whether the project capital cost is clearly structured and complete, or if there are significant elements missing or unclear. Considering whether any installation costs are clearly identified and appropriate. Are there any other project costs identified such as design or project management fees. Ensure that any operating & maintenance costs are clearly identified, appropriate and realistic. If there are no significant ongoing maintenance or operating costs score highly. Are the Maintenance costs expected to increase or decrease?
B33: 2.2 Installation Cost
B34: 2.3 Other Project Costs
B35: 2.4 Operating & Maintenance Cost
B38: 2.5 Evidence of Firm Pricing or close budgets having been received | H38: Consider the costing source information validity; i.e. single quotation, multiple quotations, cross referenced to similar projects etc. Has firm pricing been confirmed?
B40: 2.6 Project Cost Savings Calculations with particular reference to the fuel prices being considered | H40: Review the p/kWh fuel costs in the Compliance Tool and any supporting commentary in Section 4 of the Business Case. Check whether the method used to determine the unit cost is clear. Assess how robust the cost savings estimate is by considering the estimated energy savings, unit energy costs and any evidence of savings from similar projects.
B42: 2.7 Simple Payback Period Realistic / Is the payback period & cost of carbon in line with similar projects | H42: Consider if the project payback period estimation is robust and complete. Is the CCT typical to other similar projects? See the Compliance Tool.
B44: 3. Project governance, risks, mitigation
D45: Score Green for High Quality, Amber for With Conditions and Red for Requires Improvement
B46: 3.1 Project Risks & Mitigations | H46: See Business Case, Section 9 or risk register. Assess the project risk management and mitigation proposed, including scheduling, shutdowns, contractor access and milestones. Consider the impacts or installing or not installing the project, and highlight any significant risks the applicant has not identified.
B48: 3.2 Project Implementation / Schedule - Timings included; for example key milestones for installation and commissioning | H48: See the Business Case tab, Section 10 or Project Programme. How do the timeframes compare to other similar projects? Are there any key consideration that may delay the project, such as PFI, board sign off? Is sufficient contingency evidenced to mitigate delays to key processes?
B50: 3.3 Applicant/Contractors' previous experience capability | H50: See the Business Case tab, Section 8. Has the applicant and/or contractor had previous experience of similar projects? Consider case studies or other supporting information provided.
B52: 3.4 Is the project governance sufficient for the size and complexity of the work to be completed? | H52: See the Business Case tab, Section 7 and any other supporting information such as an organogram of who is involved on the project team internally and externally.
L53: 2.3 | M53: =#REF! -> #REF!
L54: 2.4 | M54: =#REF! -> #REF!
B55: Number of months to commission? | H55: Is this timeframe feasible for the technologies included in the project? See the Business Case, Section 11. | L55: 2.5 | M55: =#REF! -> #REF!
L56: 2.6 | M56: =#REF! -> #REF!
L57: 2.7 | M57: =#REF! -> #REF!
B58: Number of months contingency? | H58: If no contingency provided, what should there be? Is there likely to be slippage in the project milestones? See the Business Case, Section 11 or the Project Programme, if provided (required for projects over £100,000). | L58: 3.1 | M58: =#REF! -> #REF!
L59: 3.2 | M59: =#REF! -> #REF!
L60: 3.3 | M60: =#REF! -> #REF!
B61: Board/councillors approval? | C61: ='[16]Business Case'!H79 -> 0 | H61: If not yet approved, when will approval be given? See the Business Case, Section 11. | L61: 3.4 | M61: =#REF! -> #REF!
B63: Is procurement complete? | C63: ='[16]Business Case'!H82 -> 0 | H63: If not complete, then what is the process and timescale? See the Business Case, Section 11.
B65: Assessor review and recommendations
...

Sheet Additionality Criteria
B2: Additionality Criteria:
B3: Projects must also be “additional” – i.e. would not have happened without the funding. For projects already part of the agreed and funded maintenance programme, the fund can only support the additional investment needed to select a more expensive energy saving option. This does not prevent projects that have been identified and costed from applying, as long as funds have not been allocated. There are a number of criteria that are used to assess whether a project is “additional”, including: • Is the project required by legislation? If so it is “not additional”. • Is it required by Building Regulations or planning officers (e.g. requirement for a percentage of eeeeelectricity demand in new buildings to be met by onsite renewables)? If so, it is “not additional”. • Has it already started or has funding already been agreed? If so it is “not additional”. If the answer to all of the above questions is NO then the project can be funded under the Scheme.

Sheet PETREAD 2
A1: Project Code:
A4: PET entry:
A6: Project Ref | B6: Start date | C6: Completion date | D6: Site name | E6: Site life (yrs) | F6: Project / description | G6: Total Project Value | H6: Salix Funding Requested | I6: Salix % contribution of total project cost | J6: Energy Type | K6: Energy Cost (p/kWh) | L6: Forecast p/kWh | M6: Forecast % Change | N6: Project Type | O6: Work Type | P6: Annual kWh Pre-Project | Q6: Annual kWh Post-Project | R6: Annual kWh Saving | S6: % kWh savings | T6: Annual Financial Savings | U6: Payback Period | V6: kg/kWh | W6: tCO2 pa | X6: PF | Y6: tCO2 LT Savings | Z6: £/tCO2 LT | AA6: LT Financial Saving | AB6: Compliancy
